PDS_VERSION_ID = PDS3
/* FILE DATA ELEMENTS */
RECORD_TYPE = STREAM
/* POINTERS TO DATA OBJECTS */
^COMPRESSED_FILE = "H7257_0000_S13.JP2"
/* IDENTIFICATION DATA ELEMENTS */
DATA_SET_ID = "MEX-M-HRSC-5-REFDR-MAPPROJECTED-V3.0"
DATA_SET_NAME = "MARS EXPRESS HRSC MAP PROJECTED REFDR V3.0"
DETECTOR_ID = MEX_HRSC_S1
EVENT_TYPE = "MARS-REGIONAL-MAPPING-Vo-Im-Eo"
INSTRUMENT_HOST_ID = MEX
INSTRUMENT_HOST_NAME = "MARS EXPRESS"
INSTRUMENT_ID = HRSC
INSTRUMENT_NAME = "HIGH RESOLUTION STEREO CAMERA"
MISSION_NAME = "MARS EXPRESS"
MISSION_PHASE_NAME = ME_Phase_18
PROCESSING_LEVEL_ID = 3
PRODUCT_CREATION_TIME = 2016-06-30T05:04:16.000Z
PRODUCT_ID = "H7257_0000_S13.JP2"
RELEASE_ID = 0080
REVISION_ID = 0000
/* QUALITY DATA ELEMENTS */
DATA_QUALITY_ID = 1
DATA_QUALITY_DESC = "Data calculated based on original SPICE kernels"
/* TIME DATA ELEMENTS */
SPACECRAFT_CLOCK_START_COUNT = "1/0199653950.09062"
SPACECRAFT_CLOCK_STOP_COUNT = "1/0199654151.58335"
START_TIME = 2009-08-29T19:25:52.616Z
STOP_TIME = 2009-08-29T19:28:09.993Z
/* ORBITAL DATA ELEMENTS */
ASCENDING_NODE_LONGITUDE = 79.03
MAXIMUM_RESOLUTION = 28.5
FOOTPRINT_POINT_LATITUDE = (17.9129,17.9135,17.9137,17.9134, 17.9121,17.7304,17.5534,17.2874,17.11, 16.9331,16.7555,16.4895,16.2229,16.0449 ,15.8663,15.6882,15.5101,15.3318, 15.1531,14.8847,14.7059,14.5274,14.3486 ,14.1695,13.9009,13.7217,13.4527, 13.2732,13.0131,12.839,12.6649,12.4906, 12.2292,12.0549,11.7935,11.5323,11.2672 ,10.9968,10.8164,10.5457,10.2746, 10.0938,9.82194,9.55052,9.36967,9.18848 ,9.00727,8.99968,8.99929,8.99838,8.9969 ,8.99542,8.99438,9.17585,9.35778, 9.53984,9.72077,9.90094,10.0819,10.2625 ,10.4429,10.6238,10.8047,11.0757, 11.2559,11.4342,11.6087,11.7834,11.9575 ,12.2187,12.3931,12.5672,12.7415, 12.9157,13.0896,13.2631,13.442,13.6213, 13.8006,13.9799,14.159,14.3383,14.5157, 14.7818,14.9648,15.2323,15.411,15.6785, 15.857,16.1242,16.3024,16.5695,16.836, 17.0138,17.1914,17.3687,17.5461,17.7235 ,17.9006,17.9129)
FOOTPRINT_POINT_LONGITUDE = (65.7908,65.6079,65.3641,65.1692, 64.8642,64.7992,64.8004,64.802,64.8031, 64.8042,64.8051,64.8066,64.8079,64.8086 ,64.8091,64.8098,64.8104,64.811,64.8114 ,64.8119,64.8122,64.8126,64.8129,64.813 ,64.8133,64.8134,64.8134,64.8133, 64.8134,64.8131,64.8129,64.8125,64.812, 64.8117,64.8111,64.8105,64.8096,64.8088 ,64.8081,64.807,64.8058,64.8049,64.8034 ,64.8019,64.8009,64.7998,64.7986,65.007 ,65.204,65.3892,65.6789,65.8411,65.996, 65.9968,65.9975,65.9981,65.9991,66.0003 ,66.0013,66.0024,66.0035,66.0045, 66.0055,66.0071,66.0083,66.0094,66.0104 ,66.0115,66.0127,66.0145,66.0156, 66.0168,66.0179,66.0191,66.0203,66.0216 ,66.0231,66.0244,66.0258,66.0271, 66.0285,66.0298,66.0317,66.0345,66.0346 ,66.037,66.0384,66.0407,66.0421,66.0444 ,66.0458,66.0481,66.0505,66.052,66.0536 ,66.0552,66.0568,66.0584,66.06,65.7908)
ORBIT_NUMBER = 7257
ORBITAL_ECCENTRICITY = 0.575
ORBITAL_INCLINATION = 86.81
ORBITAL_SEMIMAJOR_AXIS = 8773.13
PERIAPSIS_ALTITUDE = 337.6
PERIAPSIS_ARGUMENT_ANGLE = 165.22
PERIAPSIS_TIME = 2009-08-29T19:27:11.000Z
SPACECRAFT_ORIENTATION = (0.0,-1.0,0.0)
^MEX_ORIENTATION_DESC = "MEX_ORIENTATION_DESC.TXT"
SPACECRAFT_POINTING_MODE = NADIR
^MEX_POINTING_DESC = "MEX_POINTING_DESC.TXT"
RIGHT_ASCENSION = -1e+32
DECLINATION = -1e+32
OFFSET_ANGLE = -1e+32
SPACECRAFT_SOLAR_DISTANCE = 2.21878e+08
TARGET_NAME = MARS
/* CAMERA DATA ELEMENTS */
DETECTOR_TEMPERATURE = 17.5549
FOCAL_PLANE_TEMPERATURE = 8.3794
INST_CMPRS_NAME = "DISCRETE COSINE TRANSFORMATION (DCT)"
INST_CMPRS_RATIO = 11.8758
INST_CMPRS_QUALITY = 0
INST_CMPRS_QUANTZ_TBL_ID = 0
INSTRUMENT_TEMPERATURE = 11.234
LENS_TEMPERATURE = 8.9911
MACROPIXEL_SIZE = 2
MISSING_FRAMES = 0
PIXEL_SUBSAMPLING_FLAG = N
SIGNAL_CHAIN_ID = 1
/* RADIOMETRIC DATA ELEMENTS */
BANDWIDTH = 180.0
CENTER_FILTER_WAVELENGTH = 677.0
RADIANCE_OFFSET = 2.61901
RADIANCE_SCALING_FACTOR = 0.00884053
REFLECTANCE_SCALING_FACTOR = 0.000227063
MEX:REFLECTANCE_OFFSET = 0.0672676
/* IMAGE OBJECT DEFINITIONS */
OBJECT = IMAGE
  INTERCHANGE_FORMAT = BINARY
  LINES = 21146
  LINE_SAMPLES = 3053
  SAMPLE_TYPE = UNSIGNED_INTEGER
  SAMPLE_BITS = 8
  BANDS = 1
  BAND_STORAGE_TYPE = BAND_SEQUENTIAL
  MAXIMUM = 255
  MEAN = 107.013
  MINIMUM = 1
  STANDARD_DEVIATION = 24.2498
END_OBJECT = IMAGE
/* MAP OBJECT DEFINITIONS */
OBJECT = IMAGE_MAP_PROJECTION
  ^DATA_SET_MAP_PROJECTION_CATALOG= "DSMAP.CAT"
  A_AXIS_RADIUS = 3396.0
  B_AXIS_RADIUS = 3396.0
  C_AXIS_RADIUS = 3396.0
  CENTER_LATITUDE = 0.0
  CENTER_LONGITUDE = 65.0
  COORDINATE_SYSTEM_NAME = PLANETOGRAPHIC
  COORDINATE_SYSTEM_TYPE = "BODY-FIXED ROTATING"
  EASTERNMOST_LONGITUDE = 66.06
  FIRST_STANDARD_PARALLEL = "N/A"
  LINE_FIRST_PIXEL = 1
  LINE_LAST_PIXEL = 21146
  LINE_PROJECTION_OFFSET = 42408.25
  MAP_PROJECTION_ROTATION = 0.0
  MAP_PROJECTION_TYPE = SINUSOIDAL
  MAP_RESOLUTION = 2370.85521546667
  MAP_SCALE = 0.025
  MAXIMUM_LATITUDE = 17.9137
  MINIMUM_LATITUDE = 8.99438
  POSITIVE_LONGITUDE_DIRECTION = EAST
  REFERENCE_LATITUDE = "N/A"
  REFERENCE_LONGITUDE = "N/A"
  SAMPLE_FIRST_PIXEL = 1
  SAMPLE_LAST_PIXEL = 3053
  SAMPLE_PROJECTION_OFFSET = 591.75
  SECOND_STANDARD_PARALLEL = "N/A"
  WESTERNMOST_LONGITUDE = 64.79859999999999
END_OBJECT = IMAGE_MAP_PROJECTION
/* The JPEG2000 image data file associated with this label. */
OBJECT = COMPRESSED_FILE
  FILE_NAME = "H7257_0000_S13.JP2"
  RECORD_TYPE = UNDEFINED
  FILE_RECORDS = UNK
  ENCODING_TYPE = "JP2"
  INTERCHANGE_FORMAT = BINARY
  UNCOMPRESSED_FILE_NAME = "H7257_0000_S13.IMG"
  REQUIRED_STORAGE_BYTES = "64583162"
  ^DESCRIPTION = "JP2INFO.TXT"
END_OBJECT = COMPRESSED_FILE
END
