PDS_VERSION_ID = PDS3
/* FILE DATA ELEMENTS */
RECORD_TYPE = STREAM
/* POINTERS TO DATA OBJECTS */
^COMPRESSED_FILE = "H7261_0000_S13.JP2"
/* IDENTIFICATION DATA ELEMENTS */
DATA_SET_ID = "MEX-M-HRSC-5-REFDR-MAPPROJECTED-V3.0"
DATA_SET_NAME = "MARS EXPRESS HRSC MAP PROJECTED REFDR V3.0"
DETECTOR_ID = MEX_HRSC_S1
EVENT_TYPE = "MARS-REGIONAL-MAPPING-Im-Fl"
INSTRUMENT_HOST_ID = MEX
INSTRUMENT_HOST_NAME = "MARS EXPRESS"
INSTRUMENT_ID = HRSC
INSTRUMENT_NAME = "HIGH RESOLUTION STEREO CAMERA"
MISSION_NAME = "MARS EXPRESS"
MISSION_PHASE_NAME = ME_Phase_18
PROCESSING_LEVEL_ID = 3
PRODUCT_CREATION_TIME = 2016-06-30T05:04:16.000Z
PRODUCT_ID = "H7261_0000_S13.JP2"
RELEASE_ID = 0080
REVISION_ID = 0000
/* QUALITY DATA ELEMENTS */
DATA_QUALITY_ID = 1
DATA_QUALITY_DESC = "Data calculated based on original SPICE kernels"
/* TIME DATA ELEMENTS */
SPACECRAFT_CLOCK_START_COUNT = "1/0199753375.08364"
SPACECRAFT_CLOCK_STOP_COUNT = "1/0199753584.08104"
START_TIME = 2009-08-30T23:02:57.594Z
STOP_TIME = 2009-08-30T23:05:13.194Z
/* ORBITAL DATA ELEMENTS */
ASCENDING_NODE_LONGITUDE = 78.96
MAXIMUM_RESOLUTION = 29
FOOTPRINT_POINT_LATITUDE = (9.54728,9.54243,9.53732,9.53185, 9.52605,9.51987,9.50868,9.33325,9.15959 ,8.97875,8.79317,8.53551,8.27266, 8.09087,7.92366,7.66161,7.39537,7.13129 ,6.95417,6.68928,6.51174,6.33508, 6.06997,5.89332,5.71663,5.54036,5.36396 ,5.18713,4.92228,4.7457,4.569,4.39167, 4.1253,3.94883,3.77174,3.50687,3.32772, 3.06031,2.8841,2.62272,2.44629,2.26874, 2.09179,1.91495,1.65021,1.47369,1.29697 ,1.11999,0.806307,0.595729,0.597321, 0.604303,0.608446,0.61162,0.615361, 0.725034,0.935931,1.23409,1.4105, 1.58737,1.76402,2.02918,2.29457,2.56038 ,2.73781,3.00329,3.18029,3.44511, 3.62226,3.7992,3.97648,4.15302,4.33048, 4.50753,4.6849,4.9506,5.21484,5.39263, 5.56962,5.74674,6.01234,6.18879,6.45303 ,6.62972,6.80667,6.98402,7.1616,7.33875 ,7.6021,7.77961,7.95586,8.22063,8.39728 ,8.57341,8.74935,8.92566,9.10312, 9.28155,9.45225,9.54728)
FOOTPRINT_POINT_LONGITUDE = (22.0782,21.8919,21.7044,21.5156, 21.3258,21.1346,20.9239,20.9234,20.9239 ,20.9203,20.914,20.9163,20.9156,20.9113 ,20.9154,20.915,20.9122,20.9105,20.9088 ,20.9065,20.9045,20.9029,20.9004, 20.8988,20.8971,20.8956,20.894,20.8921, 20.8894,20.8876,20.8857,20.8834,20.8796 ,20.8777,20.8754,20.8723,20.8688, 20.8641,20.8621,20.8607,20.8585,20.8556 ,20.853,20.8504,20.8467,20.8442,20.8415 ,20.8387,20.8337,20.8305,21.0878, 21.3814,21.5715,21.7481,21.9488,22.1404 ,22.1402,22.1399,22.1398,22.1397, 22.1396,22.1395,22.1394,22.1394,22.1393 ,22.1393,22.1393,22.1394,22.1394, 22.1395,22.1396,22.1397,22.1397,22.1399 ,22.14,22.1402,22.1404,22.1406,22.1408, 22.1409,22.1412,22.1415,22.1419,22.1421 ,22.1424,22.1427,22.1429,22.1432, 22.1437,22.144,22.1444,22.1449,22.1452, 22.1456,22.146,22.1464,22.1468,22.1471, 22.1477,22.0782)
ORBIT_NUMBER = 7261
ORBITAL_ECCENTRICITY = 0.574
ORBITAL_INCLINATION = 86.79
ORBITAL_SEMIMAJOR_AXIS = 8770.27
PERIAPSIS_ALTITUDE = 338.59
PERIAPSIS_ARGUMENT_ANGLE = 164.52
PERIAPSIS_TIME = 2009-08-30T23:01:57.000Z
SPACECRAFT_ORIENTATION = (0.0,-1.0,0.0)
^MEX_ORIENTATION_DESC = "MEX_ORIENTATION_DESC.TXT"
SPACECRAFT_POINTING_MODE = ACROSSTRACK
^MEX_POINTING_DESC = "MEX_POINTING_DESC.TXT"
RIGHT_ASCENSION = -1e+32
DECLINATION = -1e+32
OFFSET_ANGLE = -0.5
SPACECRAFT_SOLAR_DISTANCE = 2.22098e+08
TARGET_NAME = MARS
/* CAMERA DATA ELEMENTS */
DETECTOR_TEMPERATURE = 17.5549
FOCAL_PLANE_TEMPERATURE = 8.5833
INST_CMPRS_NAME = "DISCRETE COSINE TRANSFORMATION (DCT)"
INST_CMPRS_RATIO = 8.52513
INST_CMPRS_QUALITY = 0
INST_CMPRS_QUANTZ_TBL_ID = 0
INSTRUMENT_TEMPERATURE = 11.234
LENS_TEMPERATURE = 8.7872
MACROPIXEL_SIZE = 2
MISSING_FRAMES = 0
PIXEL_SUBSAMPLING_FLAG = N
SIGNAL_CHAIN_ID = 1
/* RADIOMETRIC DATA ELEMENTS */
BANDWIDTH = 180.0
CENTER_FILTER_WAVELENGTH = 677.0
RADIANCE_OFFSET = 4.08033
RADIANCE_SCALING_FACTOR = 0.0195084
REFLECTANCE_SCALING_FACTOR = 0.000502061
MEX:REFLECTANCE_OFFSET = 0.10501
/* IMAGE OBJECT DEFINITIONS */
OBJECT = IMAGE
  INTERCHANGE_FORMAT = BINARY
  LINES = 21194
  LINE_SAMPLES = 3378
  SAMPLE_TYPE = UNSIGNED_INTEGER
  SAMPLE_BITS = 8
  BANDS = 1
  BAND_STORAGE_TYPE = BAND_SEQUENTIAL
  MAXIMUM = 255
  MEAN = 112.582
  MINIMUM = 1
  STANDARD_DEVIATION = 23.0169
END_OBJECT = IMAGE
/* MAP OBJECT DEFINITIONS */
OBJECT = IMAGE_MAP_PROJECTION
  ^DATA_SET_MAP_PROJECTION_CATALOG= "DSMAP.CAT"
  A_AXIS_RADIUS = 3396.0
  B_AXIS_RADIUS = 3396.0
  C_AXIS_RADIUS = 3396.0
  CENTER_LATITUDE = 0.0
  CENTER_LONGITUDE = 22.0
  COORDINATE_SYSTEM_NAME = PLANETOGRAPHIC
  COORDINATE_SYSTEM_TYPE = "BODY-FIXED ROTATING"
  EASTERNMOST_LONGITUDE = 22.1477
  FIRST_STANDARD_PARALLEL = "N/A"
  LINE_FIRST_PIXEL = 1
  LINE_LAST_PIXEL = 21194
  LINE_PROJECTION_OFFSET = 22571.75
  MAP_PROJECTION_ROTATION = 0.0
  MAP_PROJECTION_TYPE = SINUSOIDAL
  MAP_RESOLUTION = 2370.85521546667
  MAP_SCALE = 0.025
  MAXIMUM_LATITUDE = 9.547280000000001
  MINIMUM_LATITUDE = 0.595729
  POSITIVE_LONGITUDE_DIRECTION = EAST
  REFERENCE_LATITUDE = "N/A"
  REFERENCE_LONGITUDE = "N/A"
  SAMPLE_FIRST_PIXEL = 1
  SAMPLE_LAST_PIXEL = 3378
  SAMPLE_PROJECTION_OFFSET = 2971.25
  SECOND_STANDARD_PARALLEL = "N/A"
  WESTERNMOST_LONGITUDE = 20.8305
END_OBJECT = IMAGE_MAP_PROJECTION
/* The JPEG2000 image data file associated with this label. */
OBJECT = COMPRESSED_FILE
  FILE_NAME = "H7261_0000_S13.JP2"
  RECORD_TYPE = UNDEFINED
  FILE_RECORDS = UNK
  ENCODING_TYPE = "JP2"
  INTERCHANGE_FORMAT = BINARY
  UNCOMPRESSED_FILE_NAME = "H7261_0000_S13.IMG"
  REQUIRED_STORAGE_BYTES = "71616978"
  ^DESCRIPTION = "JP2INFO.TXT"
END_OBJECT = COMPRESSED_FILE
END
