PDS_VERSION_ID = PDS3
/* FILE DATA ELEMENTS */
RECORD_TYPE = STREAM
/* POINTERS TO DATA OBJECTS */
^COMPRESSED_FILE = "H7263_0000_IR3.JP2"
/* IDENTIFICATION DATA ELEMENTS */
DATA_SET_ID = "MEX-M-HRSC-5-REFDR-MAPPROJECTED-V3.0"
DATA_SET_NAME = "MARS EXPRESS HRSC MAP PROJECTED REFDR V3.0"
DETECTOR_ID = MEX_HRSC_IR
EVENT_TYPE = "MARS-REGIONAL-MAPPING-Vo-Te-Eo"
INSTRUMENT_HOST_ID = MEX
INSTRUMENT_HOST_NAME = "MARS EXPRESS"
INSTRUMENT_ID = HRSC
INSTRUMENT_NAME = "HIGH RESOLUTION STEREO CAMERA"
MISSION_NAME = "MARS EXPRESS"
MISSION_PHASE_NAME = ME_Phase_18
PROCESSING_LEVEL_ID = 3
PRODUCT_CREATION_TIME = 2016-06-30T05:04:16.000Z
PRODUCT_ID = "H7263_0000_IR3.JP2"
RELEASE_ID = 0080
REVISION_ID = 0000
/* QUALITY DATA ELEMENTS */
DATA_QUALITY_ID = 1
DATA_QUALITY_DESC = "Data calculated based on original SPICE kernels"
/* TIME DATA ELEMENTS */
SPACECRAFT_CLOCK_START_COUNT = "1/0199803110.09122"
SPACECRAFT_CLOCK_STOP_COUNT = "1/0199803482.29586"
START_TIME = 2009-08-31T12:51:57.974Z
STOP_TIME = 2009-08-31T12:56:26.207Z
/* ORBITAL DATA ELEMENTS */
ASCENDING_NODE_LONGITUDE = 78.91
MAXIMUM_RESOLUTION = 121.3
FOOTPRINT_POINT_LATITUDE = (4.03701,4.04351,4.04823,4.05173, 3.60314,3.31392,2.89125,2.60663,2.32205 ,2.03801,1.74309,1.40403,0.895589, 0.556573,0.217857,-0.11961,-0.459087, -0.797702,-1.30549,-1.64437,-1.98269, -2.31971,-2.65632,-2.99346,-3.33093, -3.83676,-4.17351,-4.50975,-4.85046, -5.19528,-5.5404,-5.8853,-6.23911, -6.59295,-6.94513,-7.30209,-7.663, -8.023,-8.38622,-8.94112,-9.31091, -9.6879,-10.253,-10.6355,-11.02, -11.4075,-11.803,-12.3954,-12.9963, -13.3546,-13.3571,-13.3583,-13.3628, -13.3624,-12.7642,-12.3663,-11.9652, -11.5781,-11.0011,-10.611,-10.0358, -9.65729,-9.28197,-8.9138,-8.54474, -8.1781,-7.81774,-7.45673,-7.09674, -6.744,-6.39226,-6.03658,-5.68899, -5.34422,-4.99863,-4.65376,-4.31718, -3.9803,-3.64323,-3.30621,-2.96887, -2.46217,-2.12437,-1.78675,-1.28026, -0.942,-0.603205,-0.0940612,0.245487, 0.58455,0.923311,1.43166,1.91562, 2.20055,2.48438,2.77046,3.05417,3.48176 ,3.76658,4.03701)
FOOTPRINT_POINT_LONGITUDE = (181.06,180.625,180.25,179.911,179.8, 179.794,179.789,179.785,179.78,179.776, 179.771,179.766,179.757,179.751,179.745 ,179.74,179.733,179.727,179.717,179.71, 179.703,179.696,179.69,179.683,179.675, 179.664,179.656,179.649,179.641,179.633 ,179.625,179.616,179.607,179.598, 179.589,179.58,179.571,179.562,179.552, 179.537,179.526,179.515,179.499,179.488 ,179.476,179.465,179.452,179.433, 179.413,179.531,179.862,180.226,180.738 ,181.161,181.155,181.151,181.143,181.14 ,181.136,181.129,181.121,181.117, 181.114,181.111,181.107,181.105,181.102 ,181.099,181.097,181.094,181.093,181.09 ,181.087,181.085,181.083,181.082,181.08 ,181.078,181.077,181.076,181.075, 181.073,181.072,181.071,181.07,181.07, 181.069,181.068,181.067,181.067,181.067 ,181.067,181.067,181.067,181.068, 181.067,181.068,181.068,181.068,181.06)
ORBIT_NUMBER = 7263
ORBITAL_ECCENTRICITY = 0.574
ORBITAL_INCLINATION = 86.81
ORBITAL_SEMIMAJOR_AXIS = 8761.66
PERIAPSIS_ALTITUDE = 339.01
PERIAPSIS_ARGUMENT_ANGLE = 164.16
PERIAPSIS_TIME = 2009-08-31T12:49:23.000Z
SPACECRAFT_ORIENTATION = (0.0,-1.0,0.0)
^MEX_ORIENTATION_DESC = "MEX_ORIENTATION_DESC.TXT"
SPACECRAFT_POINTING_MODE = ACROSSTRACK
^MEX_POINTING_DESC = "MEX_POINTING_DESC.TXT"
RIGHT_ASCENSION = -1e+32
DECLINATION = -1e+32
OFFSET_ANGLE = 0.1
SPACECRAFT_SOLAR_DISTANCE = 2.22209e+08
TARGET_NAME = MARS
/* CAMERA DATA ELEMENTS */
DETECTOR_TEMPERATURE = 17.7588
FOCAL_PLANE_TEMPERATURE = 8.3794
INST_CMPRS_NAME = "DISCRETE COSINE TRANSFORMATION (DCT)"
INST_CMPRS_RATIO = 16.5883
INST_CMPRS_QUALITY = 0
INST_CMPRS_QUANTZ_TBL_ID = 0
INSTRUMENT_TEMPERATURE = 11.4379
LENS_TEMPERATURE = 8.9911
MACROPIXEL_SIZE = 8
MISSING_FRAMES = 0
PIXEL_SUBSAMPLING_FLAG = N
SIGNAL_CHAIN_ID = 2
/* RADIOMETRIC DATA ELEMENTS */
BANDWIDTH = 81.0
CENTER_FILTER_WAVELENGTH = 955.5
RADIANCE_OFFSET = 1.27997
RADIANCE_SCALING_FACTOR = 0.00344313
REFLECTANCE_SCALING_FACTOR = 0.000366779
MEX:REFLECTANCE_OFFSET = 0.136349
/* IMAGE OBJECT DEFINITIONS */
OBJECT = IMAGE
  INTERCHANGE_FORMAT = BINARY
  LINES = 10314
  LINE_SAMPLES = 1118
  SAMPLE_TYPE = UNSIGNED_INTEGER
  SAMPLE_BITS = 8
  BANDS = 1
  BAND_STORAGE_TYPE = BAND_SEQUENTIAL
  MAXIMUM = 255
  MEAN = 142.814
  MINIMUM = 1
  STANDARD_DEVIATION = 24.946
END_OBJECT = IMAGE
/* MAP OBJECT DEFINITIONS */
OBJECT = IMAGE_MAP_PROJECTION
  ^DATA_SET_MAP_PROJECTION_CATALOG= "DSMAP.CAT"
  A_AXIS_RADIUS = 3396.0
  B_AXIS_RADIUS = 3396.0
  C_AXIS_RADIUS = 3396.0
  CENTER_LATITUDE = 0.0
  CENTER_LONGITUDE = 180.0
  COORDINATE_SYSTEM_NAME = PLANETOGRAPHIC
  COORDINATE_SYSTEM_TYPE = "BODY-FIXED ROTATING"
  EASTERNMOST_LONGITUDE = 181.161
  FIRST_STANDARD_PARALLEL = "N/A"
  LINE_FIRST_PIXEL = 1
  LINE_LAST_PIXEL = 10314
  LINE_PROJECTION_OFFSET = 2394.4375
  MAP_PROJECTION_ROTATION = 0.0
  MAP_PROJECTION_TYPE = SINUSOIDAL
  MAP_RESOLUTION = 592.713803866667
  MAP_SCALE = 0.1
  MAXIMUM_LATITUDE = 4.05173
  MINIMUM_LATITUDE = -13.3628
  POSITIVE_LONGITUDE_DIRECTION = EAST
  REFERENCE_LATITUDE = "N/A"
  REFERENCE_LONGITUDE = "N/A"
  SAMPLE_FIRST_PIXEL = 1
  SAMPLE_LAST_PIXEL = 1118
  SAMPLE_PROJECTION_OFFSET = 395.4375
  SECOND_STANDARD_PARALLEL = "N/A"
  WESTERNMOST_LONGITUDE = 179.413
END_OBJECT = IMAGE_MAP_PROJECTION
/* The JPEG2000 image data file associated with this label. */
OBJECT = COMPRESSED_FILE
  FILE_NAME = "H7263_0000_IR3.JP2"
  RECORD_TYPE = UNDEFINED
  FILE_RECORDS = UNK
  ENCODING_TYPE = "JP2"
  INTERCHANGE_FORMAT = BINARY
  UNCOMPRESSED_FILE_NAME = "H7263_0000_IR3.IMG"
  REQUIRED_STORAGE_BYTES = "11550058"
  ^DESCRIPTION = "JP2INFO.TXT"
END_OBJECT = COMPRESSED_FILE
END
