PDS_VERSION_ID = PDS3
/* FILE DATA ELEMENTS */
RECORD_TYPE = STREAM
/* POINTERS TO DATA OBJECTS */
^COMPRESSED_FILE = "H7263_0000_ND3.JP2"
/* IDENTIFICATION DATA ELEMENTS */
DATA_SET_ID = "MEX-M-HRSC-5-REFDR-MAPPROJECTED-V3.0"
DATA_SET_NAME = "MARS EXPRESS HRSC MAP PROJECTED REFDR V3.0"
DETECTOR_ID = MEX_HRSC_NADIR
EVENT_TYPE = "MARS-REGIONAL-MAPPING-Vo-Te-Eo"
INSTRUMENT_HOST_ID = MEX
INSTRUMENT_HOST_NAME = "MARS EXPRESS"
INSTRUMENT_ID = HRSC
INSTRUMENT_NAME = "HIGH RESOLUTION STEREO CAMERA"
MISSION_NAME = "MARS EXPRESS"
MISSION_PHASE_NAME = ME_Phase_18
PROCESSING_LEVEL_ID = 3
PRODUCT_CREATION_TIME = 2016-06-30T05:04:16.000Z
PRODUCT_ID = "H7263_0000_ND3.JP2"
RELEASE_ID = 0080
REVISION_ID = 0000
/* QUALITY DATA ELEMENTS */
DATA_QUALITY_ID = 1
DATA_QUALITY_DESC = "Data calculated based on original SPICE kernels"
/* TIME DATA ELEMENTS */
SPACECRAFT_CLOCK_START_COUNT = "1/0199803110.09122"
SPACECRAFT_CLOCK_STOP_COUNT = "1/0199803482.29586"
START_TIME = 2009-08-31T12:52:25.102Z
STOP_TIME = 2009-08-31T12:57:06.089Z
/* ORBITAL DATA ELEMENTS */
ASCENDING_NODE_LONGITUDE = 78.91
MAXIMUM_RESOLUTION = 14.8
FOOTPRINT_POINT_LATITUDE = (4.03236,4.036,4.03805,3.90086,3.62231, 3.29288,2.96089,2.62933,2.29811,1.9672, 1.63663,1.30643,0.97658,0.647102, 0.317986,-0.0107788,-0.339114,-0.667048 ,-0.99459,-1.32173,-1.64845,-1.97475, -2.30065,-2.62612,-3.12563,-3.45869, -3.79128,-4.29963,-4.63969,-4.97922, -5.32545,-5.67253,-6.01902,-6.37071, -6.72463,-7.07792,-7.61784,-7.97807, -8.52672,-8.89364,-9.45239,-9.82591, -10.3954,-10.7755,-11.163,-11.5495, -11.9428,-12.3358,-12.7357,-13.3449, -13.3523,-13.3573,-13.3593,-12.9557, -12.5559,-11.9628,-11.5691,-11.1824, -10.7949,-10.4147,-9.84504,-9.47143, -8.91236,-8.54529,-7.99637,-7.63604, -7.09584,-6.74242,-6.38835,-6.03644, -5.68983,-5.34262,-4.99617,-4.65652, -4.31634,-3.80769,-3.47496,-3.14175, -2.64194,-2.31637,-1.99035,-1.66389, -1.33701,-1.00972,-0.682023,-0.353931, -0.0254556,0.303411,0.632672,0.962312, 1.29231,1.62268,1.95341,2.28445,2.61582 ,2.94756,3.27959,3.60982,3.88851, 4.03236)
FOOTPRINT_POINT_LONGITUDE = (180.843,180.361,180.07,179.778,179.773 ,179.766,179.762,179.757,179.751, 179.745,179.74,179.734,179.728,179.721, 179.715,179.709,179.702,179.695,179.688 ,179.681,179.674,179.667,179.66,179.653 ,179.641,179.633,179.625,179.612, 179.604,179.596,179.587,179.577,179.568 ,179.558,179.548,179.538,179.523, 179.513,179.497,179.485,179.468,179.456 ,179.438,179.426,179.413,179.399, 179.385,179.371,179.357,179.483,180.185 ,180.813,181.209,181.205,181.196, 181.187,181.183,181.18,181.173,181.166, 181.157,181.152,181.146,181.142,181.136 ,181.133,181.128,181.125,181.122, 181.118,181.115,181.112,181.11,181.107, 181.105,181.102,181.1,181.098,181.096, 181.094,181.092,181.091,181.09,181.089, 181.088,181.087,181.085,181.084,181.083 ,181.083,181.082,181.082,181.082, 181.081,181.081,181.081,181.081,181.08, 181.08,180.843)
ORBIT_NUMBER = 7263
ORBITAL_ECCENTRICITY = 0.574
ORBITAL_INCLINATION = 86.81
ORBITAL_SEMIMAJOR_AXIS = 8761.66
PERIAPSIS_ALTITUDE = 339.01
PERIAPSIS_ARGUMENT_ANGLE = 164.16
PERIAPSIS_TIME = 2009-08-31T12:49:23.000Z
SPACECRAFT_ORIENTATION = (0.0,-1.0,0.0)
^MEX_ORIENTATION_DESC = "MEX_ORIENTATION_DESC.TXT"
SPACECRAFT_POINTING_MODE = ACROSSTRACK
^MEX_POINTING_DESC = "MEX_POINTING_DESC.TXT"
RIGHT_ASCENSION = -1e+32
DECLINATION = -1e+32
OFFSET_ANGLE = 0.1
SPACECRAFT_SOLAR_DISTANCE = 2.22209e+08
TARGET_NAME = MARS
/* CAMERA DATA ELEMENTS */
DETECTOR_TEMPERATURE = 18.5744
FOCAL_PLANE_TEMPERATURE = 8.3794
INST_CMPRS_NAME = "DISCRETE COSINE TRANSFORMATION (DCT)"
INST_CMPRS_RATIO = 7.31109
INST_CMPRS_QUALITY = 0
INST_CMPRS_QUANTZ_TBL_ID = 0
INSTRUMENT_TEMPERATURE = 11.4379
LENS_TEMPERATURE = 8.9911
MACROPIXEL_SIZE = 1
MISSING_FRAMES = 0
PIXEL_SUBSAMPLING_FLAG = N
SIGNAL_CHAIN_ID = 0
/* RADIOMETRIC DATA ELEMENTS */
BANDWIDTH = 177.0
CENTER_FILTER_WAVELENGTH = 677.5
RADIANCE_OFFSET = 4.41574
RADIANCE_SCALING_FACTOR = 0.0125506
REFLECTANCE_SCALING_FACTOR = 0.00032921
MEX:REFLECTANCE_OFFSET = 0.115828
/* IMAGE OBJECT DEFINITIONS */
OBJECT = IMAGE
  INTERCHANGE_FORMAT = BINARY
  LINES = 82507
  LINE_SAMPLES = 8944
  SAMPLE_TYPE = UNSIGNED_INTEGER
  SAMPLE_BITS = 8
  BANDS = 1
  BAND_STORAGE_TYPE = BAND_SEQUENTIAL
  MAXIMUM = 255
  MEAN = 141.703
  MINIMUM = 1
  STANDARD_DEVIATION = 23.0249
END_OBJECT = IMAGE
/* MAP OBJECT DEFINITIONS */
OBJECT = IMAGE_MAP_PROJECTION
  ^DATA_SET_MAP_PROJECTION_CATALOG= "DSMAP.CAT"
  A_AXIS_RADIUS = 3396.0
  B_AXIS_RADIUS = 3396.0
  C_AXIS_RADIUS = 3396.0
  CENTER_LATITUDE = 0.0
  CENTER_LONGITUDE = 180.0
  COORDINATE_SYSTEM_NAME = PLANETOGRAPHIC
  COORDINATE_SYSTEM_TYPE = "BODY-FIXED ROTATING"
  EASTERNMOST_LONGITUDE = 181.209
  FIRST_STANDARD_PARALLEL = "N/A"
  LINE_FIRST_PIXEL = 1
  LINE_LAST_PIXEL = 82507
  LINE_PROJECTION_OFFSET = 19159.0
  MAP_PROJECTION_ROTATION = 0.0
  MAP_PROJECTION_TYPE = SINUSOIDAL
  MAP_RESOLUTION = 4741.71043093333
  MAP_SCALE = 0.0125
  MAXIMUM_LATITUDE = 4.03805
  MINIMUM_LATITUDE = -13.3593
  POSITIVE_LONGITUDE_DIRECTION = EAST
  REFERENCE_LATITUDE = "N/A"
  REFERENCE_LONGITUDE = "N/A"
  SAMPLE_FIRST_PIXEL = 1
  SAMPLE_LAST_PIXEL = 8944
  SAMPLE_PROJECTION_OFFSET = 3167.0
  SECOND_STANDARD_PARALLEL = "N/A"
  WESTERNMOST_LONGITUDE = 179.357
END_OBJECT = IMAGE_MAP_PROJECTION
/* The JPEG2000 image data file associated with this label. */
OBJECT = COMPRESSED_FILE
  FILE_NAME = "H7263_0000_ND3.JP2"
  RECORD_TYPE = UNDEFINED
  FILE_RECORDS = UNK
  ENCODING_TYPE = "JP2"
  INTERCHANGE_FORMAT = BINARY
  UNCOMPRESSED_FILE_NAME = "H7263_0000_ND3.IMG"
  REQUIRED_STORAGE_BYTES = "737978384"
  ^DESCRIPTION = "JP2INFO.TXT"
END_OBJECT = COMPRESSED_FILE
END
