PDS_VERSION_ID = PDS3
/* FILE DATA ELEMENTS */
RECORD_TYPE = STREAM
/* POINTERS TO DATA OBJECTS */
^COMPRESSED_FILE = "H7264_0000_IR3.JP2"
/* IDENTIFICATION DATA ELEMENTS */
DATA_SET_ID = "MEX-M-HRSC-5-REFDR-MAPPROJECTED-V3.0"
DATA_SET_NAME = "MARS EXPRESS HRSC MAP PROJECTED REFDR V3.0"
DETECTOR_ID = MEX_HRSC_IR
EVENT_TYPE = "MARS-REGIONAL-MAPPING-Te-Im"
INSTRUMENT_HOST_ID = MEX
INSTRUMENT_HOST_NAME = "MARS EXPRESS"
INSTRUMENT_ID = HRSC
INSTRUMENT_NAME = "HIGH RESOLUTION STEREO CAMERA"
MISSION_NAME = "MARS EXPRESS"
MISSION_PHASE_NAME = ME_Phase_18
PROCESSING_LEVEL_ID = 3
PRODUCT_CREATION_TIME = 2016-06-30T05:04:16.000Z
PRODUCT_ID = "H7264_0000_IR3.JP2"
RELEASE_ID = 0080
REVISION_ID = 0000
/* QUALITY DATA ELEMENTS */
DATA_QUALITY_ID = 1
DATA_QUALITY_DESC = "Data calculated based on original SPICE kernels"
/* TIME DATA ELEMENTS */
SPACECRAFT_CLOCK_START_COUNT = "1/0199828059.08387"
SPACECRAFT_CLOCK_STOP_COUNT = "1/0199828404.47661"
START_TIME = 2009-08-31T19:47:47.711Z
STOP_TIME = 2009-08-31T19:51:29.681Z
/* ORBITAL DATA ELEMENTS */
ASCENDING_NODE_LONGITUDE = 78.89
MAXIMUM_RESOLUTION = 67.9
FOOTPRINT_POINT_LATITUDE = (-4.28883,-4.28891,-4.28972,-4.52846, -4.90238,-5.15315,-5.40226,-5.65417, -5.90804,-6.28804,-6.54682,-6.80337, -7.05935,-7.32195,-7.58451,-7.9776, -8.37514,-8.64374,-8.91137,-9.17899, -9.45131,-9.72515,-9.99868,-10.2724, -10.5521,-10.9713,-11.2502,-11.5331, -11.8191,-12.1041,-12.3939,-12.6847, -12.9753,-13.4174,-13.7125,-14.1618, -14.4645,-14.7647,-15.0718,-15.5332, -15.8527,-16.3151,-16.634,-16.9522, -17.2738,-17.5967,-18.0856,-18.4141, -18.4401,-18.4411,-18.4421,-18.4422, -18.4449,-18.4412,-18.1132,-17.7846, -17.4609,-17.1361,-16.8238,-16.5068, -16.1835,-15.8717,-15.4041,-15.0976, -14.7929,-14.4914,-14.1838,-13.8834, -13.5847,-13.2896,-13.0,-12.7073, -12.4139,-12.1259,-11.843,-11.5585, -11.133,-10.8535,-10.5741,-10.2939, -9.88313,-9.6089,-9.19894,-8.79711, -8.52888,-8.26047,-7.99502,-7.73425, -7.47199,-7.20943,-6.94931,-6.69302, -6.43631,-6.1795,-5.79563,-5.54531, -5.29481,-5.04365,-4.66932,-4.28883)
FOOTPRINT_POINT_LONGITUDE = (79.5946,79.1688,78.7412,78.4803, 78.4712,78.465,78.4594,78.4523,78.4444, 78.4368,78.4289,78.4219,78.415,78.4077, 78.4004,78.3894,78.3779,78.3699,78.3622 ,78.3544,78.3461,78.3379,78.3295,78.321 ,78.3122,78.2988,78.29,78.282,78.2721, 78.2625,78.2527,78.2427,78.2327,78.2175 ,78.2076,78.1912,78.1798,78.1694, 78.1581,78.1403,78.1248,78.1098,78.0968 ,78.084,78.0709,78.058,78.038,78.0243, 78.3291,78.6164,79.0365,79.4177,79.7032 ,80.0695,80.0632,80.0568,80.0507, 80.0445,80.0407,80.0355,80.028,80.023, 80.0153,80.0108,80.007,80.0028,79.9969, 79.993,79.9883,79.9848,79.9825,79.9784, 79.9741,79.9713,79.9686,79.9656,79.9611 ,79.9581,79.9554,79.9525,79.9487, 79.9461,79.9425,79.9391,79.937,79.9348, 79.9324,79.9308,79.929,79.9272,79.9254, 79.9237,79.9221,79.9205,79.9181,79.9167 ,79.9154,79.914,79.9127,79.5946)
ORBIT_NUMBER = 7264
ORBITAL_ECCENTRICITY = 0.574
ORBITAL_INCLINATION = 86.81
ORBITAL_SEMIMAJOR_AXIS = 8772.14
PERIAPSIS_ALTITUDE = 338.22
PERIAPSIS_ARGUMENT_ANGLE = 163.98
PERIAPSIS_TIME = 2009-08-31T19:43:02.000Z
SPACECRAFT_ORIENTATION = (0.0,-1.0,0.0)
^MEX_ORIENTATION_DESC = "MEX_ORIENTATION_DESC.TXT"
SPACECRAFT_POINTING_MODE = ACROSSTRACK
^MEX_POINTING_DESC = "MEX_POINTING_DESC.TXT"
RIGHT_ASCENSION = -1e+32
DECLINATION = -1e+32
OFFSET_ANGLE = -0.23
SPACECRAFT_SOLAR_DISTANCE = 2.22264e+08
TARGET_NAME = MARS
/* CAMERA DATA ELEMENTS */
DETECTOR_TEMPERATURE = 17.5549
FOCAL_PLANE_TEMPERATURE = 8.5833
INST_CMPRS_NAME = "DISCRETE COSINE TRANSFORMATION (DCT)"
INST_CMPRS_RATIO = 15.1669
INST_CMPRS_QUALITY = 0
INST_CMPRS_QUANTZ_TBL_ID = 0
INSTRUMENT_TEMPERATURE = 12.2535
LENS_TEMPERATURE = 8.9911
MACROPIXEL_SIZE = 4
MISSING_FRAMES = 0
PIXEL_SUBSAMPLING_FLAG = N
SIGNAL_CHAIN_ID = 2
/* RADIOMETRIC DATA ELEMENTS */
BANDWIDTH = 81.0
CENTER_FILTER_WAVELENGTH = 955.5
RADIANCE_OFFSET = 0.587321
RADIANCE_SCALING_FACTOR = 0.00298929
REFLECTANCE_SCALING_FACTOR = 0.000318595
MEX:REFLECTANCE_OFFSET = 0.062596
/* IMAGE OBJECT DEFINITIONS */
OBJECT = IMAGE
  INTERCHANGE_FORMAT = BINARY
  LINES = 16791
  LINE_SAMPLES = 2528
  SAMPLE_TYPE = UNSIGNED_INTEGER
  SAMPLE_BITS = 8
  BANDS = 1
  BAND_STORAGE_TYPE = BAND_SEQUENTIAL
  MAXIMUM = 255
  MEAN = 93.1688
  MINIMUM = 1
  STANDARD_DEVIATION = 19.7925
END_OBJECT = IMAGE
/* MAP OBJECT DEFINITIONS */
OBJECT = IMAGE_MAP_PROJECTION
  ^DATA_SET_MAP_PROJECTION_CATALOG= "DSMAP.CAT"
  A_AXIS_RADIUS = 3396.0
  B_AXIS_RADIUS = 3396.0
  C_AXIS_RADIUS = 3396.0
  CENTER_LATITUDE = 0.0
  CENTER_LONGITUDE = 79.0
  COORDINATE_SYSTEM_NAME = PLANETOGRAPHIC
  COORDINATE_SYSTEM_TYPE = "BODY-FIXED ROTATING"
  EASTERNMOST_LONGITUDE = 80.06950000000001
  FIRST_STANDARD_PARALLEL = "N/A"
  LINE_FIRST_PIXEL = 1
  LINE_LAST_PIXEL = 16791
  LINE_PROJECTION_OFFSET = -5083.625
  MAP_PROJECTION_ROTATION = 0.0
  MAP_PROJECTION_TYPE = SINUSOIDAL
  MAP_RESOLUTION = 1185.42760773333
  MAP_SCALE = 0.05
  MAXIMUM_LATITUDE = -4.28883
  MINIMUM_LATITUDE = -18.4449
  POSITIVE_LONGITUDE_DIRECTION = EAST
  REFERENCE_LATITUDE = "N/A"
  REFERENCE_LONGITUDE = "N/A"
  SAMPLE_FIRST_PIXEL = 1
  SAMPLE_LAST_PIXEL = 2528
  SAMPLE_PROJECTION_OFFSET = 1218.375
  SECOND_STANDARD_PARALLEL = "N/A"
  WESTERNMOST_LONGITUDE = 78.0243
END_OBJECT = IMAGE_MAP_PROJECTION
/* The JPEG2000 image data file associated with this label. */
OBJECT = COMPRESSED_FILE
  FILE_NAME = "H7264_0000_IR3.JP2"
  RECORD_TYPE = UNDEFINED
  FILE_RECORDS = UNK
  ENCODING_TYPE = "JP2"
  INTERCHANGE_FORMAT = BINARY
  UNCOMPRESSED_FILE_NAME = "H7264_0000_IR3.IMG"
  REQUIRED_STORAGE_BYTES = "42467872"
  ^DESCRIPTION = "JP2INFO.TXT"
END_OBJECT = COMPRESSED_FILE
END
