PDS_VERSION_ID = PDS3
/* FILE DATA ELEMENTS */
RECORD_TYPE = STREAM
/* POINTERS TO DATA OBJECTS */
^COMPRESSED_FILE = "H7264_0000_P13.JP2"
/* IDENTIFICATION DATA ELEMENTS */
DATA_SET_ID = "MEX-M-HRSC-5-REFDR-MAPPROJECTED-V3.0"
DATA_SET_NAME = "MARS EXPRESS HRSC MAP PROJECTED REFDR V3.0"
DETECTOR_ID = MEX_HRSC_P1
EVENT_TYPE = "MARS-REGIONAL-MAPPING-Te-Im"
INSTRUMENT_HOST_ID = MEX
INSTRUMENT_HOST_NAME = "MARS EXPRESS"
INSTRUMENT_ID = HRSC
INSTRUMENT_NAME = "HIGH RESOLUTION STEREO CAMERA"
MISSION_NAME = "MARS EXPRESS"
MISSION_PHASE_NAME = ME_Phase_18
PROCESSING_LEVEL_ID = 3
PRODUCT_CREATION_TIME = 2016-06-30T05:04:16.000Z
PRODUCT_ID = "H7264_0000_P13.JP2"
RELEASE_ID = 0080
REVISION_ID = 0000
/* QUALITY DATA ELEMENTS */
DATA_QUALITY_ID = 1
DATA_QUALITY_DESC = "Data calculated based on original SPICE kernels"
/* TIME DATA ELEMENTS */
SPACECRAFT_CLOCK_START_COUNT = "1/0199828059.08387"
SPACECRAFT_CLOCK_STOP_COUNT = "1/0199828404.47661"
START_TIME = 2009-08-31T19:47:54.128Z
STOP_TIME = 2009-08-31T19:51:38.890Z
/* ORBITAL DATA ELEMENTS */
ASCENDING_NODE_LONGITUDE = 78.89
MAXIMUM_RESOLUTION = 33.7
FOOTPRINT_POINT_LATITUDE = (-4.29517,-4.29472,-4.2943,-4.41397, -4.66185,-4.91063,-5.15911,-5.40622, -5.65782,-5.91496,-6.29521,-6.55058, -6.80893,-7.19897,-7.45898,-7.71842, -7.9837,-8.38201,-8.77983,-9.05058, -9.32143,-9.72785,-10.0028,-10.2796, -10.556,-10.9746,-11.2564,-11.5369, -11.8217,-12.1094,-12.3967,-12.8328, -13.1254,-13.4175,-13.8648,-14.1624, -14.4653,-14.9169,-15.3811,-15.8495, -16.1582,-16.4727,-16.9509,-17.2698, -17.5941,-17.9179,-18.2458,-18.4436, -18.4451,-18.4464,-18.4476,-18.4489, -18.4487,-18.1208,-17.6312,-17.3062, -16.9861,-16.6721,-16.3507,-16.0376, -15.5709,-15.2617,-14.9545,-14.654, -14.3467,-13.8977,-13.5974,-13.3021, -13.0139,-12.7204,-12.4264,-12.1414, -11.8549,-11.5705,-11.2888,-11.0067, -10.7258,-10.449,-10.1728,-9.89526, -9.62237,-9.35484,-9.08035,-8.80876, -8.41065,-8.14506,-7.74617,-7.48661, -7.22674,-6.96648,-6.57744,-6.32312, -5.94126,-5.68673,-5.43266,-5.18416, -4.93509,-4.56329,-4.31326,-4.29517)
FOOTPRINT_POINT_LONGITUDE = (79.5429,79.306,78.8589,78.4751,78.4695 ,78.4631,78.4568,78.4512,78.4458, 78.4374,78.4279,78.4202,78.413,78.4022, 78.3948,78.3875,78.3797,78.3682,78.3564 ,78.3483,78.3402,78.3276,78.3191, 78.3103,78.3015,78.2879,78.2789,78.2703 ,78.2606,78.2508,78.2409,78.2257, 78.2154,78.2053,78.1892,78.1784,78.1668 ,78.1518,78.1322,78.111,78.102,78.089, 78.0693,78.0561,78.0428,78.0293,78.0156 ,78.2086,78.4713,78.7733,79.1149, 79.5361,80.083,80.0768,80.0666,80.0601, 80.0539,80.0499,80.0423,80.0371,80.0293 ,80.0242,80.0193,80.0156,80.0098, 80.0032,79.9983,79.9946,79.9922,79.9882 ,79.9832,79.9805,79.9774,79.9743, 79.9712,79.9681,79.9652,79.9621,79.9595 ,79.9565,79.9538,79.9524,79.9489, 79.9464,79.943,79.9408,79.9376,79.9357, 79.9337,79.9318,79.9291,79.9274,79.9249 ,79.9233,79.9218,79.9204,79.9189, 79.9173,79.9157,79.5429)
ORBIT_NUMBER = 7264
ORBITAL_ECCENTRICITY = 0.574
ORBITAL_INCLINATION = 86.81
ORBITAL_SEMIMAJOR_AXIS = 8772.14
PERIAPSIS_ALTITUDE = 338.22
PERIAPSIS_ARGUMENT_ANGLE = 163.98
PERIAPSIS_TIME = 2009-08-31T19:43:02.000Z
SPACECRAFT_ORIENTATION = (0.0,-1.0,0.0)
^MEX_ORIENTATION_DESC = "MEX_ORIENTATION_DESC.TXT"
SPACECRAFT_POINTING_MODE = ACROSSTRACK
^MEX_POINTING_DESC = "MEX_POINTING_DESC.TXT"
RIGHT_ASCENSION = -1e+32
DECLINATION = -1e+32
OFFSET_ANGLE = -0.23
SPACECRAFT_SOLAR_DISTANCE = 2.22264e+08
TARGET_NAME = MARS
/* CAMERA DATA ELEMENTS */
DETECTOR_TEMPERATURE = 17.5549
FOCAL_PLANE_TEMPERATURE = 8.5833
INST_CMPRS_NAME = "DISCRETE COSINE TRANSFORMATION (DCT)"
INST_CMPRS_RATIO = 14.9365
INST_CMPRS_QUALITY = 0
INST_CMPRS_QUANTZ_TBL_ID = 0
INSTRUMENT_TEMPERATURE = 12.2535
LENS_TEMPERATURE = 8.9911
MACROPIXEL_SIZE = 2
MISSING_FRAMES = 0
PIXEL_SUBSAMPLING_FLAG = N
SIGNAL_CHAIN_ID = 3
/* RADIOMETRIC DATA ELEMENTS */
BANDWIDTH = 174.0
CENTER_FILTER_WAVELENGTH = 675.0
RADIANCE_OFFSET = 2.81422
RADIANCE_SCALING_FACTOR = 0.0105563
REFLECTANCE_SCALING_FACTOR = 0.000280505
MEX:REFLECTANCE_OFFSET = 0.0747801
/* IMAGE OBJECT DEFINITIONS */
OBJECT = IMAGE
  INTERCHANGE_FORMAT = BINARY
  LINES = 33582
  LINE_SAMPLES = 5056
  SAMPLE_TYPE = UNSIGNED_INTEGER
  SAMPLE_BITS = 8
  BANDS = 1
  BAND_STORAGE_TYPE = BAND_SEQUENTIAL
  MAXIMUM = 255
  MEAN = 105.133
  MINIMUM = 1
  STANDARD_DEVIATION = 17.8578
END_OBJECT = IMAGE
/* MAP OBJECT DEFINITIONS */
OBJECT = IMAGE_MAP_PROJECTION
  ^DATA_SET_MAP_PROJECTION_CATALOG= "DSMAP.CAT"
  A_AXIS_RADIUS = 3396.0
  B_AXIS_RADIUS = 3396.0
  C_AXIS_RADIUS = 3396.0
  CENTER_LATITUDE = 0.0
  CENTER_LONGITUDE = 79.0
  COORDINATE_SYSTEM_NAME = PLANETOGRAPHIC
  COORDINATE_SYSTEM_TYPE = "BODY-FIXED ROTATING"
  EASTERNMOST_LONGITUDE = 80.083
  FIRST_STANDARD_PARALLEL = "N/A"
  LINE_FIRST_PIXEL = 1
  LINE_LAST_PIXEL = 33582
  LINE_PROJECTION_OFFSET = -10166.75
  MAP_PROJECTION_ROTATION = 0.0
  MAP_PROJECTION_TYPE = SINUSOIDAL
  MAP_RESOLUTION = 2370.85521546667
  MAP_SCALE = 0.025
  MAXIMUM_LATITUDE = -4.2943
  MINIMUM_LATITUDE = -18.4489
  POSITIVE_LONGITUDE_DIRECTION = EAST
  REFERENCE_LATITUDE = "N/A"
  REFERENCE_LONGITUDE = "N/A"
  SAMPLE_FIRST_PIXEL = 1
  SAMPLE_LAST_PIXEL = 5056
  SAMPLE_PROJECTION_OFFSET = 2437.25
  SECOND_STANDARD_PARALLEL = "N/A"
  WESTERNMOST_LONGITUDE = 78.01560000000001
END_OBJECT = IMAGE_MAP_PROJECTION
/* The JPEG2000 image data file associated with this label. */
OBJECT = COMPRESSED_FILE
  FILE_NAME = "H7264_0000_P13.JP2"
  RECORD_TYPE = UNDEFINED
  FILE_RECORDS = UNK
  ENCODING_TYPE = "JP2"
  INTERCHANGE_FORMAT = BINARY
  UNCOMPRESSED_FILE_NAME = "H7264_0000_P13.IMG"
  REQUIRED_STORAGE_BYTES = "169815872"
  ^DESCRIPTION = "JP2INFO.TXT"
END_OBJECT = COMPRESSED_FILE
END
