PDS_VERSION_ID = PDS3
/* FILE DATA ELEMENTS */
RECORD_TYPE = STREAM
/* POINTERS TO DATA OBJECTS */
^COMPRESSED_FILE = "H7264_0000_P23.JP2"
/* IDENTIFICATION DATA ELEMENTS */
DATA_SET_ID = "MEX-M-HRSC-5-REFDR-MAPPROJECTED-V3.0"
DATA_SET_NAME = "MARS EXPRESS HRSC MAP PROJECTED REFDR V3.0"
DETECTOR_ID = MEX_HRSC_P2
EVENT_TYPE = "MARS-REGIONAL-MAPPING-Te-Im"
INSTRUMENT_HOST_ID = MEX
INSTRUMENT_HOST_NAME = "MARS EXPRESS"
INSTRUMENT_ID = HRSC
INSTRUMENT_NAME = "HIGH RESOLUTION STEREO CAMERA"
MISSION_NAME = "MARS EXPRESS"
MISSION_PHASE_NAME = ME_Phase_18
PROCESSING_LEVEL_ID = 3
PRODUCT_CREATION_TIME = 2016-06-30T05:04:16.000Z
PRODUCT_ID = "H7264_0000_P23.JP2"
RELEASE_ID = 0080
REVISION_ID = 0000
/* QUALITY DATA ELEMENTS */
DATA_QUALITY_ID = 1
DATA_QUALITY_DESC = "Data calculated based on original SPICE kernels"
/* TIME DATA ELEMENTS */
SPACECRAFT_CLOCK_START_COUNT = "1/0199828059.08387"
SPACECRAFT_CLOCK_STOP_COUNT = "1/0199828404.47661"
START_TIME = 2009-08-31T19:48:46.501Z
STOP_TIME = 2009-08-31T19:52:59.328Z
/* ORBITAL DATA ELEMENTS */
ASCENDING_NODE_LONGITUDE = 78.89
MAXIMUM_RESOLUTION = 36.1
FOOTPRINT_POINT_LATITUDE = (-4.30019,-4.29261,-4.28328,-4.28343, -4.53131,-4.78165,-5.03078,-5.2798, -5.5334,-5.91423,-6.16214,-6.42244, -6.80882,-7.06644,-7.45791,-7.71992, -7.98156,-8.24813,-8.51372,-8.77973, -9.05011,-9.32062,-9.72791,-10.0026, -10.2765,-10.6937,-10.9717,-11.2535, -11.5362,-11.8203,-12.1068,-12.3926, -12.6827,-12.9728,-13.4136,-13.7079, -14.0058,-14.3024,-14.604,-14.9094, -15.2105,-15.514,-15.9723,-16.2916, -16.7613,-17.0778,-17.3966,-17.8785, -18.3653,-18.4251,-18.4353,-18.4426, -18.4449,-18.4474,-18.2874,-17.964, -17.6403,-17.3221,-16.8426,-16.3758, -16.0624,-15.7534,-15.4457,-15.1402, -14.8351,-14.5312,-14.236,-13.9372, -13.6437,-13.3479,-13.0482,-12.7583, -12.4716,-12.1834,-11.7518,-11.3279, -11.0454,-10.7669,-10.4885,-10.0757, -9.80058,-9.52702,-9.12173,-8.85058, -8.58476,-8.31845,-7.92121,-7.65887, -7.39621,-7.13484,-6.74831,-6.49025, -6.10678,-5.85173,-5.59934,-5.22176, -4.84706,-4.59592,-4.34842,-4.30019)
FOOTPRINT_POINT_LONGITUDE = (79.6545,79.1918,78.712,78.424,78.417, 78.4101,78.4028,78.3956,78.3886,78.3772 ,78.3664,78.3609,78.3482,78.3401, 78.3272,78.3185,78.3098,78.3009,78.2914 ,78.2824,78.273,78.2635,78.2488,78.2388 ,78.2286,78.213,78.2023,78.1917,78.1807 ,78.1701,78.1586,78.147,78.1349,78.1229 ,78.1048,78.0926,78.0796,78.0661, 78.0527,78.0414,78.0252,78.0102,77.9855 ,77.9748,77.9517,77.9364,77.9203, 77.8961,77.871,78.2561,78.7793,79.2104, 79.5729,79.9124,80.209,80.1995,80.1908, 80.1814,80.17,80.1563,80.1488,80.1413, 80.1338,80.1267,80.1202,80.1143,80.106, 80.1001,80.0928,80.0875,80.0838,80.0781 ,80.0712,80.0666,80.0596,80.0525, 80.0479,80.0435,80.0389,80.0323,80.0284 ,80.0244,80.0187,80.015,80.0114,80.0079 ,80.0026,79.9995,79.9965,79.9934,79.989 ,79.9861,79.982,79.9799,79.9768,79.9731 ,79.9699,79.968,79.9654,79.6545)
ORBIT_NUMBER = 7264
ORBITAL_ECCENTRICITY = 0.574
ORBITAL_INCLINATION = 86.81
ORBITAL_SEMIMAJOR_AXIS = 8772.14
PERIAPSIS_ALTITUDE = 338.22
PERIAPSIS_ARGUMENT_ANGLE = 163.98
PERIAPSIS_TIME = 2009-08-31T19:43:02.000Z
SPACECRAFT_ORIENTATION = (0.0,-1.0,0.0)
^MEX_ORIENTATION_DESC = "MEX_ORIENTATION_DESC.TXT"
SPACECRAFT_POINTING_MODE = ACROSSTRACK
^MEX_POINTING_DESC = "MEX_POINTING_DESC.TXT"
RIGHT_ASCENSION = -1e+32
DECLINATION = -1e+32
OFFSET_ANGLE = -0.23
SPACECRAFT_SOLAR_DISTANCE = 2.22264e+08
TARGET_NAME = MARS
/* CAMERA DATA ELEMENTS */
DETECTOR_TEMPERATURE = 18.5744
FOCAL_PLANE_TEMPERATURE = 8.5833
INST_CMPRS_NAME = "DISCRETE COSINE TRANSFORMATION (DCT)"
INST_CMPRS_RATIO = 7.40034
INST_CMPRS_QUALITY = 0
INST_CMPRS_QUANTZ_TBL_ID = 0
INSTRUMENT_TEMPERATURE = 12.2535
LENS_TEMPERATURE = 8.9911
MACROPIXEL_SIZE = 2
MISSING_FRAMES = 0
PIXEL_SUBSAMPLING_FLAG = N
SIGNAL_CHAIN_ID = 3
/* RADIOMETRIC DATA ELEMENTS */
BANDWIDTH = 177.0
CENTER_FILTER_WAVELENGTH = 676.5
RADIANCE_OFFSET = 2.64087
RADIANCE_SCALING_FACTOR = 0.0111409
REFLECTANCE_SCALING_FACTOR = 0.000291824
MEX:REFLECTANCE_OFFSET = 0.0691746
/* IMAGE OBJECT DEFINITIONS */
OBJECT = IMAGE
  INTERCHANGE_FORMAT = BINARY
  LINES = 33582
  LINE_SAMPLES = 5056
  SAMPLE_TYPE = UNSIGNED_INTEGER
  SAMPLE_BITS = 8
  BANDS = 1
  BAND_STORAGE_TYPE = BAND_SEQUENTIAL
  MAXIMUM = 255
  MEAN = 106.925
  MINIMUM = 1
  STANDARD_DEVIATION = 18.5421
END_OBJECT = IMAGE
/* MAP OBJECT DEFINITIONS */
OBJECT = IMAGE_MAP_PROJECTION
  ^DATA_SET_MAP_PROJECTION_CATALOG= "DSMAP.CAT"
  A_AXIS_RADIUS = 3396.0
  B_AXIS_RADIUS = 3396.0
  C_AXIS_RADIUS = 3396.0
  CENTER_LATITUDE = 0.0
  CENTER_LONGITUDE = 79.0
  COORDINATE_SYSTEM_NAME = PLANETOGRAPHIC
  COORDINATE_SYSTEM_TYPE = "BODY-FIXED ROTATING"
  EASTERNMOST_LONGITUDE = 80.209
  FIRST_STANDARD_PARALLEL = "N/A"
  LINE_FIRST_PIXEL = 1
  LINE_LAST_PIXEL = 33582
  LINE_PROJECTION_OFFSET = -10166.75
  MAP_PROJECTION_ROTATION = 0.0
  MAP_PROJECTION_TYPE = SINUSOIDAL
  MAP_RESOLUTION = 2370.85521546667
  MAP_SCALE = 0.025
  MAXIMUM_LATITUDE = -4.28328
  MINIMUM_LATITUDE = -18.4474
  POSITIVE_LONGITUDE_DIRECTION = EAST
  REFERENCE_LATITUDE = "N/A"
  REFERENCE_LONGITUDE = "N/A"
  SAMPLE_FIRST_PIXEL = 1
  SAMPLE_LAST_PIXEL = 5056
  SAMPLE_PROJECTION_OFFSET = 2437.25
  SECOND_STANDARD_PARALLEL = "N/A"
  WESTERNMOST_LONGITUDE = 77.871
END_OBJECT = IMAGE_MAP_PROJECTION
/* The JPEG2000 image data file associated with this label. */
OBJECT = COMPRESSED_FILE
  FILE_NAME = "H7264_0000_P23.JP2"
  RECORD_TYPE = UNDEFINED
  FILE_RECORDS = UNK
  ENCODING_TYPE = "JP2"
  INTERCHANGE_FORMAT = BINARY
  UNCOMPRESSED_FILE_NAME = "H7264_0000_P23.IMG"
  REQUIRED_STORAGE_BYTES = "169815872"
  ^DESCRIPTION = "JP2INFO.TXT"
END_OBJECT = COMPRESSED_FILE
END
