PDS_VERSION_ID = PDS3
/* FILE DATA ELEMENTS */
RECORD_TYPE = STREAM
/* POINTERS TO DATA OBJECTS */
^COMPRESSED_FILE = "H7271_0000_GR3.JP2"
/* IDENTIFICATION DATA ELEMENTS */
DATA_SET_ID = "MEX-M-HRSC-5-REFDR-MAPPROJECTED-V3.0"
DATA_SET_NAME = "MARS EXPRESS HRSC MAP PROJECTED REFDR V3.0"
DETECTOR_ID = MEX_HRSC_GREEN
EVENT_TYPE = "MARS-REGIONAL-MAPPING-Vo-Te-Pf"
INSTRUMENT_HOST_ID = MEX
INSTRUMENT_HOST_NAME = "MARS EXPRESS"
INSTRUMENT_ID = HRSC
INSTRUMENT_NAME = "HIGH RESOLUTION STEREO CAMERA"
MISSION_NAME = "MARS EXPRESS"
MISSION_PHASE_NAME = ME_Phase_18
PROCESSING_LEVEL_ID = 3
PRODUCT_CREATION_TIME = 2016-06-30T05:04:16.000Z
PRODUCT_ID = "H7271_0000_GR3.JP2"
RELEASE_ID = 0080
REVISION_ID = 0000
/* QUALITY DATA ELEMENTS */
DATA_QUALITY_ID = 1
DATA_QUALITY_DESC = "Data calculated based on original SPICE kernels"
/* TIME DATA ELEMENTS */
SPACECRAFT_CLOCK_START_COUNT = "1/0200001360.08263"
SPACECRAFT_CLOCK_STOP_COUNT = "1/0200001594.24342"
START_TIME = 2009-09-02T19:56:30.787Z
STOP_TIME = 2009-09-02T19:59:19.026Z
/* ORBITAL DATA ELEMENTS */
ASCENDING_NODE_LONGITUDE = 78.76
MAXIMUM_RESOLUTION = 54.8
FOOTPRINT_POINT_LATITUDE = (26.5444,26.5435,26.541,26.5303,26.0992 ,25.6676,25.4518,25.2358,25.0196, 24.8032,24.5869,24.3704,24.1538,23.937, 23.7203,23.5034,23.2865,23.0694,22.8523 ,22.6348,22.4178,22.2003,21.9827, 21.7651,21.4389,21.2212,21.0033,20.7854 ,20.5675,20.3495,20.1315,19.9134, 19.6952,19.3679,19.1496,18.9313,18.6038 ,18.3854,18.1669,17.9484,17.7299, 17.5113,17.2928,17.0742,16.7462,16.5276 ,16.309,15.9809,15.7622,15.6373,15.6366 ,15.6356,15.6347,15.8536,16.0725, 16.2913,16.5101,16.8384,17.0571,17.3853 ,17.604,17.9321,18.1507,18.4787,18.6972 ,18.9157,19.2435,19.4619,19.6803, 20.0077,20.226,20.4443,20.6624,20.8804, 21.0985,21.3164,21.5343,21.7522,21.97, 22.1876,22.514,22.7315,22.9489,23.2749, 23.4921,23.7093,23.9263,24.1432,24.3601 ,24.5767,24.7933,25.0098,25.2263, 25.4426,25.6588,25.8749,26.0909,26.3068 ,26.5226,26.5444)
FOOTPRINT_POINT_LONGITUDE = (94.0032,93.7446,93.3057,92.9517, 92.9605,92.9691,92.9734,92.9775,92.9813 ,92.985,92.9887,92.9922,92.9957,92.999, 93.0023,93.0055,93.0087,93.0117,93.0145 ,93.0168,93.0201,93.0225,93.0247, 93.0272,93.031,93.0332,93.0351,93.0371, 93.0389,93.0407,93.0425,93.0442,93.0457 ,93.0478,93.0491,93.0504,93.0521, 93.0532,93.0542,93.055,93.0558,93.0565, 93.0572,93.0577,93.0584,93.0587,93.0591 ,93.0593,93.0594,93.3473,93.7046, 93.9701,94.297,94.298,94.299,94.3, 94.3011,94.3027,94.3039,94.3056,94.3068 ,94.3084,94.3097,94.3115,94.3127, 94.3141,94.3159,94.3172,94.3185,94.3206 ,94.3219,94.3232,94.3246,94.3261, 94.3275,94.3289,94.3303,94.3317,94.3331 ,94.3347,94.3368,94.3383,94.3399, 94.3421,94.3437,94.3452,94.3467,94.3483 ,94.3499,94.3517,94.3534,94.3551, 94.3568,94.3585,94.3601,94.3618,94.3635 ,94.3652,94.3669,94.0032)
ORBIT_NUMBER = 7271
ORBITAL_ECCENTRICITY = 0.574
ORBITAL_INCLINATION = 86.8
ORBITAL_SEMIMAJOR_AXIS = 8771.18
PERIAPSIS_ALTITUDE = 339.03
PERIAPSIS_ARGUMENT_ANGLE = 162.75
PERIAPSIS_TIME = 2009-09-02T19:58:59.000Z
SPACECRAFT_ORIENTATION = (0.0,-1.0,0.0)
^MEX_ORIENTATION_DESC = "MEX_ORIENTATION_DESC.TXT"
SPACECRAFT_POINTING_MODE = NADIR
^MEX_POINTING_DESC = "MEX_POINTING_DESC.TXT"
RIGHT_ASCENSION = -1e+32
DECLINATION = -1e+32
OFFSET_ANGLE = -1e+32
SPACECRAFT_SOLAR_DISTANCE = 2.22652e+08
TARGET_NAME = MARS
/* CAMERA DATA ELEMENTS */
DETECTOR_TEMPERATURE = 18.7783
FOCAL_PLANE_TEMPERATURE = 8.3794
INST_CMPRS_NAME = "DISCRETE COSINE TRANSFORMATION (DCT)"
INST_CMPRS_RATIO = 22.5655
INST_CMPRS_QUALITY = 0
INST_CMPRS_QUANTZ_TBL_ID = 0
INSTRUMENT_TEMPERATURE = 11.4379
LENS_TEMPERATURE = 8.7872
MACROPIXEL_SIZE = 4
MISSING_FRAMES = 0
PIXEL_SUBSAMPLING_FLAG = N
SIGNAL_CHAIN_ID = 2
/* RADIOMETRIC DATA ELEMENTS */
BANDWIDTH = 88.0
CENTER_FILTER_WAVELENGTH = 538.0
RADIANCE_OFFSET = 1.26942
RADIANCE_SCALING_FACTOR = 0.00236664
REFLECTANCE_SCALING_FACTOR = 0.000101012
MEX:REFLECTANCE_OFFSET = 0.0541806
/* IMAGE OBJECT DEFINITIONS */
OBJECT = IMAGE
  INTERCHANGE_FORMAT = BINARY
  LINES = 12937
  LINE_SAMPLES = 1569
  SAMPLE_TYPE = UNSIGNED_INTEGER
  SAMPLE_BITS = 8
  BANDS = 1
  BAND_STORAGE_TYPE = BAND_SEQUENTIAL
  MAXIMUM = 255
  MEAN = 131.69
  MINIMUM = 1
  STANDARD_DEVIATION = 39.7542
END_OBJECT = IMAGE
/* MAP OBJECT DEFINITIONS */
OBJECT = IMAGE_MAP_PROJECTION
  ^DATA_SET_MAP_PROJECTION_CATALOG= "DSMAP.CAT"
  A_AXIS_RADIUS = 3396.0
  B_AXIS_RADIUS = 3396.0
  C_AXIS_RADIUS = 3396.0
  CENTER_LATITUDE = 0.0
  CENTER_LONGITUDE = 94.0
  COORDINATE_SYSTEM_NAME = PLANETOGRAPHIC
  COORDINATE_SYSTEM_TYPE = "BODY-FIXED ROTATING"
  EASTERNMOST_LONGITUDE = 94.3669
  FIRST_STANDARD_PARALLEL = "N/A"
  LINE_FIRST_PIXEL = 1
  LINE_LAST_PIXEL = 12937
  LINE_PROJECTION_OFFSET = 31479.125
  MAP_PROJECTION_ROTATION = 0.0
  MAP_PROJECTION_TYPE = SINUSOIDAL
  MAP_RESOLUTION = 1185.42760773333
  MAP_SCALE = 0.05
  MAXIMUM_LATITUDE = 26.5444
  MINIMUM_LATITUDE = 15.6347
  POSITIVE_LONGITUDE_DIRECTION = EAST
  REFERENCE_LATITUDE = "N/A"
  REFERENCE_LONGITUDE = "N/A"
  SAMPLE_FIRST_PIXEL = 1
  SAMPLE_LAST_PIXEL = 1569
  SAMPLE_PROJECTION_OFFSET = 1148.375
  SECOND_STANDARD_PARALLEL = "N/A"
  WESTERNMOST_LONGITUDE = 92.9517
END_OBJECT = IMAGE_MAP_PROJECTION
/* The JPEG2000 image data file associated with this label. */
OBJECT = COMPRESSED_FILE
  FILE_NAME = "H7271_0000_GR3.JP2"
  RECORD_TYPE = UNDEFINED
  FILE_RECORDS = UNK
  ENCODING_TYPE = "JP2"
  INTERCHANGE_FORMAT = BINARY
  UNCOMPRESSED_FILE_NAME = "H7271_0000_GR3.IMG"
  REQUIRED_STORAGE_BYTES = "20316981"
  ^DESCRIPTION = "JP2INFO.TXT"
END_OBJECT = COMPRESSED_FILE
END
