PDS_VERSION_ID = PDS3
/* FILE DATA ELEMENTS */
RECORD_TYPE = STREAM
/* POINTERS TO DATA OBJECTS */
^COMPRESSED_FILE = "H7273_0000_P13.JP2"
/* IDENTIFICATION DATA ELEMENTS */
DATA_SET_ID = "MEX-M-HRSC-5-REFDR-MAPPROJECTED-V3.0"
DATA_SET_NAME = "MARS EXPRESS HRSC MAP PROJECTED REFDR V3.0"
DETECTOR_ID = MEX_HRSC_P1
EVENT_TYPE = "MARS-LOCAL-STEREO-Vo-Te"
INSTRUMENT_HOST_ID = MEX
INSTRUMENT_HOST_NAME = "MARS EXPRESS"
INSTRUMENT_ID = HRSC
INSTRUMENT_NAME = "HIGH RESOLUTION STEREO CAMERA"
MISSION_NAME = "MARS EXPRESS"
MISSION_PHASE_NAME = ME_Phase_18
PROCESSING_LEVEL_ID = 3
PRODUCT_CREATION_TIME = 2016-06-30T05:04:16.000Z
PRODUCT_ID = "H7273_0000_P13.JP2"
RELEASE_ID = 0080
REVISION_ID = 0000
/* QUALITY DATA ELEMENTS */
DATA_QUALITY_ID = 1
DATA_QUALITY_DESC = "Data calculated based on original SPICE kernels"
/* TIME DATA ELEMENTS */
SPACECRAFT_CLOCK_START_COUNT = "1/0200050944.08258"
SPACECRAFT_CLOCK_STOP_COUNT = "1/0200051153.00256"
START_TIME = 2009-09-03T09:42:39.350Z
STOP_TIME = 2009-09-03T09:45:02.113Z
/* ORBITAL DATA ELEMENTS */
ASCENDING_NODE_LONGITUDE = 78.72
MAXIMUM_RESOLUTION = 28.2
FOOTPRINT_POINT_LATITUDE = (30.7273,30.7255,30.7234,30.7205, 30.7169,30.6114,30.4148,30.2166,30.0191 ,29.8223,29.6248,29.4257,29.2259, 29.0259,28.8262,28.6269,28.4273,28.2275 ,28.0273,27.8269,27.6265,27.3383, 27.1701,27.0019,26.7491,26.4962,26.3274 ,26.1592,25.9896,25.7359,25.5629, 25.3933,25.2236,24.9692,24.7995,24.5446 ,24.3741,24.1184,23.8624,23.6916,23.521 ,23.3464,23.1754,22.919,22.6618,22.49, 22.3188,22.1476,21.8903,21.7184,21.6902 ,21.6907,21.6904,21.6897,21.9474, 22.1191,22.2909,22.5483,22.72,22.8917, 23.1494,23.3216,23.5816,23.7527,23.9245 ,24.0948,24.2653,24.4359,24.6075, 24.7774,24.9478,25.1171,25.2873,25.5413 ,25.7147,25.9686,26.1385,26.3063, 26.5586,26.7289,26.8971,27.0656,27.2333 ,27.4014,27.7008,27.9014,28.1019,28.302 ,28.6017,28.8015,29.0012,29.2008,29.4, 29.5989,29.7977,29.9963,30.1946,30.4921 ,30.6901,30.7273)
FOOTPRINT_POINT_LONGITUDE = (252.332,252.076,251.851,251.61,251.369 ,251.156,251.163,251.169,251.175, 251.182,251.189,251.195,251.2,251.205, 251.211,251.217,251.222,251.227,251.233 ,251.238,251.243,251.25,251.254,251.258 ,251.264,251.269,251.273,251.277,251.28 ,251.285,251.289,251.292,251.295,251.3, 251.303,251.308,251.31,251.315,251.318, 251.321,251.324,251.326,251.328,251.332 ,251.335,251.337,251.339,251.342, 251.345,251.347,251.571,251.92,252.195, 252.52,252.639,252.64,252.641,252.643, 252.644,252.645,252.647,252.647,252.649 ,252.65,252.651,252.652,252.654,252.655 ,252.656,252.657,252.658,252.66,252.661 ,252.663,252.665,252.667,252.668,252.67 ,252.673,252.674,252.675,252.677, 252.679,252.68,252.683,252.685,252.687, 252.688,252.691,252.693,252.695,252.697 ,252.698,252.7,252.702,252.704,252.706, 252.709,252.711,252.332)
ORBIT_NUMBER = 7273
ORBITAL_ECCENTRICITY = 0.575
ORBITAL_INCLINATION = 86.8
ORBITAL_SEMIMAJOR_AXIS = 8778.88
PERIAPSIS_ALTITUDE = 339.49
PERIAPSIS_ARGUMENT_ANGLE = 162.41
PERIAPSIS_TIME = 2009-09-03T09:46:25.000Z
SPACECRAFT_ORIENTATION = (0.0,-1.0,0.0)
^MEX_ORIENTATION_DESC = "MEX_ORIENTATION_DESC.TXT"
SPACECRAFT_POINTING_MODE = NADIR
^MEX_POINTING_DESC = "MEX_POINTING_DESC.TXT"
RIGHT_ASCENSION = -1e+32
DECLINATION = -1e+32
OFFSET_ANGLE = -1e+32
SPACECRAFT_SOLAR_DISTANCE = 2.22763e+08
TARGET_NAME = MARS
/* CAMERA DATA ELEMENTS */
DETECTOR_TEMPERATURE = 17.7588
FOCAL_PLANE_TEMPERATURE = 9.195
INST_CMPRS_NAME = "DISCRETE COSINE TRANSFORMATION (DCT)"
INST_CMPRS_RATIO = 8.83701
INST_CMPRS_QUALITY = 0
INST_CMPRS_QUANTZ_TBL_ID = 0
INSTRUMENT_TEMPERATURE = 11.234
LENS_TEMPERATURE = 8.9911
MACROPIXEL_SIZE = 2
MISSING_FRAMES = 2
PIXEL_SUBSAMPLING_FLAG = N
SIGNAL_CHAIN_ID = 3
/* RADIOMETRIC DATA ELEMENTS */
BANDWIDTH = 174.0
CENTER_FILTER_WAVELENGTH = 675.0
RADIANCE_OFFSET = 2.66757
RADIANCE_SCALING_FACTOR = 0.0214927
REFLECTANCE_SCALING_FACTOR = 0.000573668
MEX:REFLECTANCE_OFFSET = 0.0712008
/* IMAGE OBJECT DEFINITIONS */
OBJECT = IMAGE
  INTERCHANGE_FORMAT = BINARY
  LINES = 21430
  LINE_SAMPLES = 3285
  SAMPLE_TYPE = UNSIGNED_INTEGER
  SAMPLE_BITS = 8
  BANDS = 1
  BAND_STORAGE_TYPE = BAND_SEQUENTIAL
  MAXIMUM = 255
  MEAN = 104.05
  MINIMUM = 1
  STANDARD_DEVIATION = 37.0374
END_OBJECT = IMAGE
/* MAP OBJECT DEFINITIONS */
OBJECT = IMAGE_MAP_PROJECTION
  ^DATA_SET_MAP_PROJECTION_CATALOG= "DSMAP.CAT"
  A_AXIS_RADIUS = 3396.0
  B_AXIS_RADIUS = 3396.0
  C_AXIS_RADIUS = 3396.0
  CENTER_LATITUDE = 0.0
  CENTER_LONGITUDE = 252.0
  COORDINATE_SYSTEM_NAME = PLANETOGRAPHIC
  COORDINATE_SYSTEM_TYPE = "BODY-FIXED ROTATING"
  EASTERNMOST_LONGITUDE = 252.711
  FIRST_STANDARD_PARALLEL = "N/A"
  LINE_FIRST_PIXEL = 1
  LINE_LAST_PIXEL = 21430
  LINE_PROJECTION_OFFSET = 72788.25
  MAP_PROJECTION_ROTATION = 0.0
  MAP_PROJECTION_TYPE = SINUSOIDAL
  MAP_RESOLUTION = 2370.85521546667
  MAP_SCALE = 0.025
  MAXIMUM_LATITUDE = 30.7273
  MINIMUM_LATITUDE = 21.6897
  POSITIVE_LONGITUDE_DIRECTION = EAST
  REFERENCE_LATITUDE = "N/A"
  REFERENCE_LONGITUDE = "N/A"
  SAMPLE_FIRST_PIXEL = 1
  SAMPLE_LAST_PIXEL = 3285
  SAMPLE_PROJECTION_OFFSET = 1780.75
  SECOND_STANDARD_PARALLEL = "N/A"
  WESTERNMOST_LONGITUDE = 251.156
END_OBJECT = IMAGE_MAP_PROJECTION
/* The JPEG2000 image data file associated with this label. */
OBJECT = COMPRESSED_FILE
  FILE_NAME = "H7273_0000_P13.JP2"
  RECORD_TYPE = UNDEFINED
  FILE_RECORDS = UNK
  ENCODING_TYPE = "JP2"
  INTERCHANGE_FORMAT = BINARY
  UNCOMPRESSED_FILE_NAME = "H7273_0000_P13.IMG"
  REQUIRED_STORAGE_BYTES = "70420545"
  ^DESCRIPTION = "JP2INFO.TXT"
END_OBJECT = COMPRESSED_FILE
END
