PDS_VERSION_ID = PDS3
/* FILE DATA ELEMENTS */
RECORD_TYPE = STREAM
/* POINTERS TO DATA OBJECTS */
^COMPRESSED_FILE = "H7277_0000_S13.JP2"
/* IDENTIFICATION DATA ELEMENTS */
DATA_SET_ID = "MEX-M-HRSC-5-REFDR-MAPPROJECTED-V3.0"
DATA_SET_NAME = "MARS EXPRESS HRSC MAP PROJECTED REFDR V3.0"
DETECTOR_ID = MEX_HRSC_S1
EVENT_TYPE = "MARS-REGIONAL-MAPPING-Vo-Fl"
INSTRUMENT_HOST_ID = MEX
INSTRUMENT_HOST_NAME = "MARS EXPRESS"
INSTRUMENT_ID = HRSC
INSTRUMENT_NAME = "HIGH RESOLUTION STEREO CAMERA"
MISSION_NAME = "MARS EXPRESS"
MISSION_PHASE_NAME = ME_Phase_18
PROCESSING_LEVEL_ID = 3
PRODUCT_CREATION_TIME = 2016-06-30T05:04:16.000Z
PRODUCT_ID = "H7277_0000_S13.JP2"
RELEASE_ID = 0080
REVISION_ID = 0000
/* QUALITY DATA ELEMENTS */
DATA_QUALITY_ID = 1
DATA_QUALITY_DESC = "Data calculated based on original SPICE kernels"
/* TIME DATA ELEMENTS */
SPACECRAFT_CLOCK_START_COUNT = "1/0200150438.09126"
SPACECRAFT_CLOCK_STOP_COUNT = "1/0200150713.40674"
START_TIME = 2009-09-04T13:20:40.590Z
STOP_TIME = 2009-09-04T13:24:04.709Z
/* ORBITAL DATA ELEMENTS */
ASCENDING_NODE_LONGITUDE = 78.64
MAXIMUM_RESOLUTION = 29.2
FOOTPRINT_POINT_LATITUDE = (18.3021,18.2998,18.2972,18.2942, 18.2908,18.2869,18.2451,17.9818,17.7183 ,17.4547,17.1908,16.9268,16.6626, 16.3981,16.1335,15.8687,15.6037,15.3386 ,15.0734,14.8081,14.5426,14.2769, 14.0111,13.7451,13.4791,13.2129,12.9465 ,12.5465,12.2797,11.8793,11.6124, 11.3452,10.9445,10.5434,10.2767,10.0035 ,9.74142,9.47336,9.07153,8.66969, 8.40177,8.13381,7.73186,7.46378,7.0617, 6.79354,6.39129,6.12312,5.85489,5.45255 ,5.18424,4.91601,4.89092,4.89316, 4.89541,4.89737,4.89845,4.89967,5.30214 ,5.57048,5.83888,6.2415,6.5098,6.77823, 7.18086,7.58341,7.85171,8.25402,8.52217 ,8.92435,9.19248,9.59448,9.86237,10.264 ,10.5317,10.7992,11.2005,11.4677, 11.8685,12.1356,12.536,12.803,13.2028, 13.4695,13.7359,14.135,14.4011,14.667, 14.9325,15.3307,15.5958,15.9935,16.2584 ,16.5231,16.9201,17.1845,17.4484, 17.7122,18.108,18.3021)
FOOTPRINT_POINT_LONGITUDE = (208.938,208.745,208.551,208.357, 208.162,207.967,207.763,207.764,207.766 ,207.767,207.769,207.77,207.771,207.772 ,207.772,207.773,207.774,207.774, 207.774,207.775,207.775,207.775,207.775 ,207.774,207.774,207.774,207.773, 207.772,207.771,207.769,207.768,207.767 ,207.765,207.762,207.761,207.757, 207.757,207.755,207.752,207.748,207.746 ,207.743,207.739,207.737,207.732, 207.729,207.725,207.721,207.718,207.713 ,207.709,207.705,207.857,208.072, 208.299,208.626,208.827,209.006,209.006 ,209.006,209.006,209.007,209.007, 209.007,209.008,209.008,209.008,209.009 ,209.009,209.01,209.01,209.011,209.012, 209.013,209.013,209.014,209.015,209.016 ,209.017,209.017,209.019,209.019, 209.021,209.022,209.022,209.024,209.025 ,209.026,209.027,209.028,209.029, 209.031,209.032,209.033,209.035,209.036 ,209.037,209.039,209.04,208.938)
ORBIT_NUMBER = 7277
ORBITAL_ECCENTRICITY = 0.574
ORBITAL_INCLINATION = 86.81
ORBITAL_SEMIMAJOR_AXIS = 8764.78
PERIAPSIS_ALTITUDE = 340.3
PERIAPSIS_ARGUMENT_ANGLE = 161.7
PERIAPSIS_TIME = 2009-09-04T13:21:11.000Z
SPACECRAFT_ORIENTATION = (0.0,-1.0,0.0)
^MEX_ORIENTATION_DESC = "MEX_ORIENTATION_DESC.TXT"
SPACECRAFT_POINTING_MODE = ACROSSTRACK
^MEX_POINTING_DESC = "MEX_POINTING_DESC.TXT"
RIGHT_ASCENSION = -1e+32
DECLINATION = -1e+32
OFFSET_ANGLE = -0.229
SPACECRAFT_SOLAR_DISTANCE = 2.22985e+08
TARGET_NAME = MARS
/* CAMERA DATA ELEMENTS */
DETECTOR_TEMPERATURE = 17.5549
FOCAL_PLANE_TEMPERATURE = 8.3794
INST_CMPRS_NAME = "DISCRETE COSINE TRANSFORMATION (DCT)"
INST_CMPRS_RATIO = 10.0744
INST_CMPRS_QUALITY = 0
INST_CMPRS_QUANTZ_TBL_ID = 0
INSTRUMENT_TEMPERATURE = 11.234
LENS_TEMPERATURE = 8.7872
MACROPIXEL_SIZE = 2
MISSING_FRAMES = 0
PIXEL_SUBSAMPLING_FLAG = N
SIGNAL_CHAIN_ID = 1
/* RADIOMETRIC DATA ELEMENTS */
BANDWIDTH = 180.0
CENTER_FILTER_WAVELENGTH = 677.0
RADIANCE_OFFSET = 6.53777
RADIANCE_SCALING_FACTOR = 0.00889492
REFLECTANCE_SCALING_FACTOR = 0.000230747
MEX:REFLECTANCE_OFFSET = 0.169599
/* IMAGE OBJECT DEFINITIONS */
OBJECT = IMAGE
  INTERCHANGE_FORMAT = BINARY
  LINES = 31725
  LINE_SAMPLES = 3316
  SAMPLE_TYPE = UNSIGNED_INTEGER
  SAMPLE_BITS = 8
  BANDS = 1
  BAND_STORAGE_TYPE = BAND_SEQUENTIAL
  MAXIMUM = 255
  MEAN = 137.169
  MINIMUM = 1
  STANDARD_DEVIATION = 32.0023
END_OBJECT = IMAGE
/* MAP OBJECT DEFINITIONS */
OBJECT = IMAGE_MAP_PROJECTION
  ^DATA_SET_MAP_PROJECTION_CATALOG= "DSMAP.CAT"
  A_AXIS_RADIUS = 3396.0
  B_AXIS_RADIUS = 3396.0
  C_AXIS_RADIUS = 3396.0
  CENTER_LATITUDE = 0.0
  CENTER_LONGITUDE = 208.0
  COORDINATE_SYSTEM_NAME = PLANETOGRAPHIC
  COORDINATE_SYSTEM_TYPE = "BODY-FIXED ROTATING"
  EASTERNMOST_LONGITUDE = 209.04
  FIRST_STANDARD_PARALLEL = "N/A"
  LINE_FIRST_PIXEL = 1
  LINE_LAST_PIXEL = 31725
  LINE_PROJECTION_OFFSET = 43329.75
  MAP_PROJECTION_ROTATION = 0.0
  MAP_PROJECTION_TYPE = SINUSOIDAL
  MAP_RESOLUTION = 2370.85521546667
  MAP_SCALE = 0.025
  MAXIMUM_LATITUDE = 18.3021
  MINIMUM_LATITUDE = 4.89092
  POSITIVE_LONGITUDE_DIRECTION = EAST
  REFERENCE_LATITUDE = "N/A"
  REFERENCE_LONGITUDE = "N/A"
  SAMPLE_FIRST_PIXEL = 1
  SAMPLE_LAST_PIXEL = 3316
  SAMPLE_PROJECTION_OFFSET = 843.75
  SECOND_STANDARD_PARALLEL = "N/A"
  WESTERNMOST_LONGITUDE = 207.705
END_OBJECT = IMAGE_MAP_PROJECTION
/* The JPEG2000 image data file associated with this label. */
OBJECT = COMPRESSED_FILE
  FILE_NAME = "H7277_0000_S13.JP2"
  RECORD_TYPE = UNDEFINED
  FILE_RECORDS = UNK
  ENCODING_TYPE = "JP2"
  INTERCHANGE_FORMAT = BINARY
  UNCOMPRESSED_FILE_NAME = "H7277_0000_S13.IMG"
  REQUIRED_STORAGE_BYTES = "105223312"
  ^DESCRIPTION = "JP2INFO.TXT"
END_OBJECT = COMPRESSED_FILE
END
