PDS_VERSION_ID = PDS3
/* FILE DATA ELEMENTS */
RECORD_TYPE = STREAM
/* POINTERS TO DATA OBJECTS */
^COMPRESSED_FILE = "H7282_0000_GR3.JP2"
/* IDENTIFICATION DATA ELEMENTS */
DATA_SET_ID = "MEX-M-HRSC-5-REFDR-MAPPROJECTED-V3.0"
DATA_SET_NAME = "MARS EXPRESS HRSC MAP PROJECTED REFDR V3.0"
DETECTOR_ID = MEX_HRSC_GREEN
EVENT_TYPE = "MARS-REGIONAL-MAPPING-Vo-Im-Eo"
INSTRUMENT_HOST_ID = MEX
INSTRUMENT_HOST_NAME = "MARS EXPRESS"
INSTRUMENT_ID = HRSC
INSTRUMENT_NAME = "HIGH RESOLUTION STEREO CAMERA"
MISSION_NAME = "MARS EXPRESS"
MISSION_PHASE_NAME = ME_Phase_18
PROCESSING_LEVEL_ID = 3
PRODUCT_CREATION_TIME = 2016-06-30T05:04:16.000Z
PRODUCT_ID = "H7282_0000_GR3.JP2"
RELEASE_ID = 0080
REVISION_ID = 0000
/* QUALITY DATA ELEMENTS */
DATA_QUALITY_ID = 1
DATA_QUALITY_DESC = "Data calculated based on original SPICE kernels"
/* TIME DATA ELEMENTS */
SPACECRAFT_CLOCK_START_COUNT = "1/0200274518.09136"
SPACECRAFT_CLOCK_STOP_COUNT = "1/0200274771.58805"
START_TIME = 2009-09-05T23:49:06.508Z
STOP_TIME = 2009-09-05T23:52:13.147Z
/* ORBITAL DATA ELEMENTS */
ASCENDING_NODE_LONGITUDE = 78.54
MAXIMUM_RESOLUTION = 108.6
FOOTPRINT_POINT_LATITUDE = (21.3887,21.3875,21.3817,21.0211, 20.6602,20.4196,20.179,19.818,19.5773, 19.3368,19.0961,18.8554,18.6145,18.3738 ,18.1329,17.8921,17.6511,17.4102, 17.1693,16.9284,16.6875,16.3261,16.0852 ,15.7239,15.483,15.2422,15.0014,14.7606 ,14.5199,14.2792,14.0385,13.7978, 13.5572,13.3165,12.9559,12.7154,12.475, 12.2347,11.9944,11.7542,11.5141,11.2741 ,11.034,10.7941,10.5542,10.3143,9.83509 ,9.47576,9.26319,9.26174,9.26002, 9.25976,9.6191,9.85878,10.0986,10.3385, 10.5785,10.8185,11.0586,11.4189,11.6591 ,11.8995,12.1399,12.3804,12.621,12.8617 ,13.1024,13.343,13.5838,13.8246,14.1858 ,14.4267,14.6676,14.9086,15.1497, 15.3907,15.6317,15.8727,16.1139,16.355, 16.7165,16.9576,17.3192,17.5603,17.8014 ,18.0425,18.2833,18.5246,18.8863, 19.1273,19.3682,19.6092,19.8501,20.091, 20.332,20.573,20.8142,21.0549,21.2951, 21.3887)
FOOTPRINT_POINT_LONGITUDE = (64.4117,64.0569,63.6426,63.6458, 63.6486,63.6505,63.6522,63.6547,63.6563 ,63.6583,63.6598,63.6614,63.6622, 63.6636,63.6646,63.6655,63.6661,63.6667 ,63.6672,63.6676,63.6679,63.6683, 63.6683,63.6684,63.6682,63.668,63.6677, 63.6673,63.6668,63.6663,63.6657,63.6649 ,63.664,63.6626,63.6614,63.6602,63.659, 63.6576,63.6562,63.6547,63.6532,63.6517 ,63.6496,63.6477,63.6456,63.6434, 63.6392,63.6355,63.8549,64.2292,64.5557 ,64.8772,64.8774,64.8777,64.8778,64.878 ,64.8783,64.8787,64.879,64.8795,64.88, 64.8805,64.8809,64.8813,64.8817,64.8821 ,64.8825,64.8832,64.8837,64.8843, 64.8852,64.8858,64.8865,64.8871,64.8877 ,64.8883,64.889,64.8897,64.8904,64.8911 ,64.8924,64.8932,64.8944,64.8952,64.896 ,64.8968,64.898,64.8984,64.8995,64.9004 ,64.9014,64.9022,64.9032,64.904,64.9047 ,64.9054,64.9057,64.9065,64.9083, 64.4117)
ORBIT_NUMBER = 7282
ORBITAL_ECCENTRICITY = 0.574
ORBITAL_INCLINATION = 86.82
ORBITAL_SEMIMAJOR_AXIS = 8769.05
PERIAPSIS_ALTITUDE = 340.41
PERIAPSIS_ARGUMENT_ANGLE = 160.85
PERIAPSIS_TIME = 2009-09-05T23:49:46.000Z
SPACECRAFT_ORIENTATION = (0.0,-1.0,0.0)
^MEX_ORIENTATION_DESC = "MEX_ORIENTATION_DESC.TXT"
SPACECRAFT_POINTING_MODE = ACROSSTRACK
^MEX_POINTING_DESC = "MEX_POINTING_DESC.TXT"
RIGHT_ASCENSION = -1e+32
DECLINATION = -1e+32
OFFSET_ANGLE = -0.15
SPACECRAFT_SOLAR_DISTANCE = 2.23263e+08
TARGET_NAME = MARS
/* CAMERA DATA ELEMENTS */
DETECTOR_TEMPERATURE = 18.3705
FOCAL_PLANE_TEMPERATURE = 8.7872
INST_CMPRS_NAME = "DISCRETE COSINE TRANSFORMATION (DCT)"
INST_CMPRS_RATIO = 22.1208
INST_CMPRS_QUALITY = 0
INST_CMPRS_QUANTZ_TBL_ID = 0
INSTRUMENT_TEMPERATURE = 11.234
LENS_TEMPERATURE = 9.195
MACROPIXEL_SIZE = 8
MISSING_FRAMES = 0
PIXEL_SUBSAMPLING_FLAG = N
SIGNAL_CHAIN_ID = 2
/* RADIOMETRIC DATA ELEMENTS */
BANDWIDTH = 88.0
CENTER_FILTER_WAVELENGTH = 538.0
RADIANCE_OFFSET = 1.09487
RADIANCE_SCALING_FACTOR = 0.00330723
REFLECTANCE_SCALING_FACTOR = 0.000141934
MEX:REFLECTANCE_OFFSET = 0.0469877
/* IMAGE OBJECT DEFINITIONS */
OBJECT = IMAGE
  INTERCHANGE_FORMAT = BINARY
  LINES = 7194
  LINE_SAMPLES = 791
  SAMPLE_TYPE = UNSIGNED_INTEGER
  SAMPLE_BITS = 8
  BANDS = 1
  BAND_STORAGE_TYPE = BAND_SEQUENTIAL
  MAXIMUM = 255
  MEAN = 130.672
  MINIMUM = 1
  STANDARD_DEVIATION = 18.826
END_OBJECT = IMAGE
/* MAP OBJECT DEFINITIONS */
OBJECT = IMAGE_MAP_PROJECTION
  ^DATA_SET_MAP_PROJECTION_CATALOG= "DSMAP.CAT"
  A_AXIS_RADIUS = 3396.0
  B_AXIS_RADIUS = 3396.0
  C_AXIS_RADIUS = 3396.0
  CENTER_LATITUDE = 0.0
  CENTER_LONGITUDE = 64.0
  COORDINATE_SYSTEM_NAME = PLANETOGRAPHIC
  COORDINATE_SYSTEM_TYPE = "BODY-FIXED ROTATING"
  EASTERNMOST_LONGITUDE = 64.9083
  FIRST_STANDARD_PARALLEL = "N/A"
  LINE_FIRST_PIXEL = 1
  LINE_LAST_PIXEL = 7194
  LINE_PROJECTION_OFFSET = 12679.1875
  MAP_PROJECTION_ROTATION = 0.0
  MAP_PROJECTION_TYPE = SINUSOIDAL
  MAP_RESOLUTION = 592.713803866667
  MAP_SCALE = 0.1
  MAXIMUM_LATITUDE = 21.3887
  MINIMUM_LATITUDE = 9.25976
  POSITIVE_LONGITUDE_DIRECTION = EAST
  REFERENCE_LATITUDE = "N/A"
  REFERENCE_LONGITUDE = "N/A"
  SAMPLE_FIRST_PIXEL = 1
  SAMPLE_LAST_PIXEL = 791
  SAMPLE_PROJECTION_OFFSET = 255.4375
  SECOND_STANDARD_PARALLEL = "N/A"
  WESTERNMOST_LONGITUDE = 63.6355
END_OBJECT = IMAGE_MAP_PROJECTION
/* The JPEG2000 image data file associated with this label. */
OBJECT = COMPRESSED_FILE
  FILE_NAME = "H7282_0000_GR3.JP2"
  RECORD_TYPE = UNDEFINED
  FILE_RECORDS = UNK
  ENCODING_TYPE = "JP2"
  INTERCHANGE_FORMAT = BINARY
  UNCOMPRESSED_FILE_NAME = "H7282_0000_GR3.IMG"
  REQUIRED_STORAGE_BYTES = "5707856"
  ^DESCRIPTION = "JP2INFO.TXT"
END_OBJECT = COMPRESSED_FILE
END
