PDS_VERSION_ID = PDS3
/* FILE DATA ELEMENTS */
RECORD_TYPE = STREAM
/* POINTERS TO DATA OBJECTS */
^COMPRESSED_FILE = "H7286_0000_P23.JP2"
/* IDENTIFICATION DATA ELEMENTS */
DATA_SET_ID = "MEX-M-HRSC-5-REFDR-MAPPROJECTED-V3.0"
DATA_SET_NAME = "MARS EXPRESS HRSC MAP PROJECTED REFDR V3.0"
DETECTOR_ID = MEX_HRSC_P2
EVENT_TYPE = "MARS-REGIONAL-MAPPING-Im-Fl"
INSTRUMENT_HOST_ID = MEX
INSTRUMENT_HOST_NAME = "MARS EXPRESS"
INSTRUMENT_ID = HRSC
INSTRUMENT_NAME = "HIGH RESOLUTION STEREO CAMERA"
MISSION_NAME = "MARS EXPRESS"
MISSION_PHASE_NAME = ME_Phase_18
PROCESSING_LEVEL_ID = 3
PRODUCT_CREATION_TIME = 2016-06-30T05:04:16.000Z
PRODUCT_ID = "H7286_0000_P23.JP2"
RELEASE_ID = 0080
REVISION_ID = 0000
/* QUALITY DATA ELEMENTS */
DATA_QUALITY_ID = 1
DATA_QUALITY_DESC = "Data calculated based on original SPICE kernels"
/* TIME DATA ELEMENTS */
SPACECRAFT_CLOCK_START_COUNT = "1/0200373684.08247"
SPACECRAFT_CLOCK_STOP_COUNT = "1/0200374020.09192"
START_TIME = 2009-09-07T03:22:22.642Z
STOP_TIME = 2009-09-07T03:26:49.188Z
/* ORBITAL DATA ELEMENTS */
ASCENDING_NODE_LONGITUDE = 78.47
MAXIMUM_RESOLUTION = 56.6
FOOTPRINT_POINT_LATITUDE = (29.7192,29.7147,29.7101,29.7054, 29.7005,29.6955,29.5461,29.195,28.8469, 28.3235,27.9752,27.628,27.1111,26.7629, 26.4079,26.061,25.7133,25.3648,25.0163, 24.6684,24.321,23.7998,23.454,23.1069, 22.5857,22.2377,21.8924,21.5455,21.2007 ,20.8543,20.5087,20.1631,19.6456, 19.3003,18.7838,18.4384,18.0939,17.7506 ,17.4071,17.0634,16.7204,16.2061, 15.8639,15.3506,14.8354,14.4949,13.9854 ,13.6463,13.3093,12.9662,12.6275, 12.4179,12.4206,12.4253,12.43,12.4344, 12.774,13.2837,13.6241,13.9645,14.4755, 14.8169,15.1588,15.5007,15.8422,16.3567 ,16.6996,17.0422,17.3855,17.7294, 18.0737,18.4198,18.7629,19.1086,19.4533 ,19.7975,20.1427,20.4888,21.0081, 21.7017,22.0484,22.3952,22.9152,23.2632 ,23.7832,24.131,24.482,25.0016,25.3501, 25.8723,26.2201,26.7419,27.2646,27.6141 ,27.9629,28.3112,28.834,29.3574,29.7063 ,29.7192)
FOOTPRINT_POINT_LONGITUDE = (22.1276,21.9108,21.6952,21.481,21.2683 ,21.0565,20.8954,20.9022,20.9084, 20.9174,20.9229,20.9281,20.9351,20.9398 ,20.9448,20.9488,20.9527,20.9564, 20.9599,20.9631,20.966,20.97,20.9723, 20.9744,20.9773,20.9791,20.9804,20.9816 ,20.9826,20.9834,20.984,20.9844,20.9846 ,20.9846,20.9841,20.9837,20.983,20.9821 ,20.981,20.9798,20.9784,20.976,20.9742, 20.9712,20.9681,20.9656,20.9615,20.9586 ,20.9554,20.9525,20.9492,21.088,21.29, 21.6129,21.9994,22.2357,22.2374,22.2397 ,22.2414,22.2429,22.2448,22.2465, 22.2483,22.2499,22.2509,22.2539,22.2556 ,22.2568,22.2584,22.2603,22.2623, 22.2658,22.2664,22.2693,22.2709,22.272, 22.2739,22.2764,22.2801,22.2855,22.2879 ,22.2904,22.2937,22.2971,22.3,22.303, 22.3087,22.3111,22.3145,22.3191,22.3218 ,22.3259,22.3307,22.335,22.3386,22.3418 ,22.347,22.3528,22.3567,22.1276)
ORBIT_NUMBER = 7286
ORBITAL_ECCENTRICITY = 0.574
ORBITAL_INCLINATION = 86.79
ORBITAL_SEMIMAJOR_AXIS = 8765.8
PERIAPSIS_ALTITUDE = 341.4
PERIAPSIS_ARGUMENT_ANGLE = 160.15
PERIAPSIS_TIME = 2009-09-07T03:24:33.000Z
SPACECRAFT_ORIENTATION = (0.0,-1.0,0.0)
^MEX_ORIENTATION_DESC = "MEX_ORIENTATION_DESC.TXT"
SPACECRAFT_POINTING_MODE = ACROSSTRACK
^MEX_POINTING_DESC = "MEX_POINTING_DESC.TXT"
RIGHT_ASCENSION = -1e+32
DECLINATION = -1e+32
OFFSET_ANGLE = 0.5
SPACECRAFT_SOLAR_DISTANCE = 2.23486e+08
TARGET_NAME = MARS
/* CAMERA DATA ELEMENTS */
DETECTOR_TEMPERATURE = 18.5744
FOCAL_PLANE_TEMPERATURE = 8.3794
INST_CMPRS_NAME = "DISCRETE COSINE TRANSFORMATION (DCT)"
INST_CMPRS_RATIO = 9.52594
INST_CMPRS_QUALITY = 0
INST_CMPRS_QUANTZ_TBL_ID = 0
INSTRUMENT_TEMPERATURE = 11.234
LENS_TEMPERATURE = 8.9911
MACROPIXEL_SIZE = 4
MISSING_FRAMES = 0
PIXEL_SUBSAMPLING_FLAG = N
SIGNAL_CHAIN_ID = 3
/* RADIOMETRIC DATA ELEMENTS */
BANDWIDTH = 177.0
CENTER_FILTER_WAVELENGTH = 676.5
RADIANCE_OFFSET = 3.77839
RADIANCE_SCALING_FACTOR = 0.0148172
REFLECTANCE_SCALING_FACTOR = 0.000392395
MEX:REFLECTANCE_OFFSET = 0.100061
/* IMAGE OBJECT DEFINITIONS */
OBJECT = IMAGE
  INTERCHANGE_FORMAT = BINARY
  LINES = 20541
  LINE_SAMPLES = 1651
  SAMPLE_TYPE = UNSIGNED_INTEGER
  SAMPLE_BITS = 8
  BANDS = 1
  BAND_STORAGE_TYPE = BAND_SEQUENTIAL
  MAXIMUM = 255
  MEAN = 121.0
  MINIMUM = 1
  STANDARD_DEVIATION = 25.2143
END_OBJECT = IMAGE
/* MAP OBJECT DEFINITIONS */
OBJECT = IMAGE_MAP_PROJECTION
  ^DATA_SET_MAP_PROJECTION_CATALOG= "DSMAP.CAT"
  A_AXIS_RADIUS = 3396.0
  B_AXIS_RADIUS = 3396.0
  C_AXIS_RADIUS = 3396.0
  CENTER_LATITUDE = 0.0
  CENTER_LONGITUDE = 22.0
  COORDINATE_SYSTEM_NAME = PLANETOGRAPHIC
  COORDINATE_SYSTEM_TYPE = "BODY-FIXED ROTATING"
  EASTERNMOST_LONGITUDE = 22.3567
  FIRST_STANDARD_PARALLEL = "N/A"
  LINE_FIRST_PIXEL = 1
  LINE_LAST_PIXEL = 20541
  LINE_PROJECTION_OFFSET = 35259.625
  MAP_PROJECTION_ROTATION = 0.0
  MAP_PROJECTION_TYPE = SINUSOIDAL
  MAP_RESOLUTION = 1185.42760773333
  MAP_SCALE = 0.05
  MAXIMUM_LATITUDE = 29.7192
  MINIMUM_LATITUDE = 12.4179
  POSITIVE_LONGITUDE_DIRECTION = EAST
  REFERENCE_LATITUDE = "N/A"
  REFERENCE_LONGITUDE = "N/A"
  SAMPLE_FIRST_PIXEL = 1
  SAMPLE_LAST_PIXEL = 1651
  SAMPLE_PROJECTION_OFFSET = 1219.625
  SECOND_STANDARD_PARALLEL = "N/A"
  WESTERNMOST_LONGITUDE = 20.8954
END_OBJECT = IMAGE_MAP_PROJECTION
/* The JPEG2000 image data file associated with this label. */
OBJECT = COMPRESSED_FILE
  FILE_NAME = "H7286_0000_P23.JP2"
  RECORD_TYPE = UNDEFINED
  FILE_RECORDS = UNK
  ENCODING_TYPE = "JP2"
  INTERCHANGE_FORMAT = BINARY
  UNCOMPRESSED_FILE_NAME = "H7286_0000_P23.IMG"
  REQUIRED_STORAGE_BYTES = "33933003"
  ^DESCRIPTION = "JP2INFO.TXT"
END_OBJECT = COMPRESSED_FILE
END
