PDS_VERSION_ID = PDS3
/* FILE DATA ELEMENTS */
RECORD_TYPE = STREAM
/* POINTERS TO DATA OBJECTS */
^COMPRESSED_FILE = "H7295_0000_S13.JP2"
/* IDENTIFICATION DATA ELEMENTS */
DATA_SET_ID = "MEX-M-HRSC-5-REFDR-MAPPROJECTED-V3.0"
DATA_SET_NAME = "MARS EXPRESS HRSC MAP PROJECTED REFDR V3.0"
DETECTOR_ID = MEX_HRSC_S1
EVENT_TYPE = "MARS-REGIONAL-MAPPING-Vo-Pf-Mw"
INSTRUMENT_HOST_ID = MEX
INSTRUMENT_HOST_NAME = "MARS EXPRESS"
INSTRUMENT_ID = HRSC
INSTRUMENT_NAME = "HIGH RESOLUTION STEREO CAMERA"
MISSION_NAME = "MARS EXPRESS"
MISSION_PHASE_NAME = ME_Phase_18
PROCESSING_LEVEL_ID = 3
PRODUCT_CREATION_TIME = 2016-06-30T05:04:16.000Z
PRODUCT_ID = "H7295_0000_S13.JP2"
RELEASE_ID = 0080
REVISION_ID = 0000
/* QUALITY DATA ELEMENTS */
DATA_QUALITY_ID = 1
DATA_QUALITY_DESC = "Data calculated based on original SPICE kernels"
/* TIME DATA ELEMENTS */
SPACECRAFT_CLOCK_START_COUNT = "1/0200597244.08247"
SPACECRAFT_CLOCK_STOP_COUNT = "1/0200597611.31826"
START_TIME = 2009-09-09T17:27:26.600Z
STOP_TIME = 2009-09-09T17:32:13.866Z
/* ORBITAL DATA ELEMENTS */
ASCENDING_NODE_LONGITUDE = 78.28
MAXIMUM_RESOLUTION = 29.4
FOOTPRINT_POINT_LATITUDE = (21.4666,21.4534,21.4382,21.2021,20.848 ,20.4934,20.1389,19.6061,19.2512, 18.8931,18.5363,18.1793,17.8222,17.4646 ,16.9278,16.5698,16.2113,15.8531, 15.3149,14.9559,14.5965,14.2369,13.877, 13.5172,12.9776,12.6173,12.0767,11.7161 ,11.1753,10.8144,10.4538,9.91285, 9.55189,9.01061,8.46905,8.10817,7.74489 ,7.31428,7.09848,6.88281,6.45266, 6.02213,5.37676,4.94541,4.51377,3.86906 ,3.43898,3.00911,2.57973,2.58622, 2.59162,2.6005,2.6048,2.82433,3.25442, 3.68462,4.11497,4.54542,4.97565,5.40681 ,5.62329,6.05385,6.48505,7.13179, 7.34741,7.56312,7.96131,8.32268,8.68392 ,9.04526,9.5878,10.1292,10.4901,10.8511 ,11.2122,11.5731,11.9339,12.4749, 12.8354,13.376,13.7363,14.0963,14.4567, 14.9959,15.3555,15.8945,16.433,16.7915, 17.3292,17.6874,18.0457,18.4032,18.9389 ,19.4734,19.8302,20.185,20.5405,20.8959 ,21.2502,21.4666)
FOOTPRINT_POINT_LONGITUDE = (193.454,193.057,192.655,192.283, 192.287,192.291,192.296,192.301,192.304 ,192.306,192.308,192.311,192.313, 192.314,192.316,192.317,192.318,192.319 ,192.32,192.32,192.319,192.319,192.318, 192.317,192.316,192.314,192.312,192.31, 192.306,192.304,192.301,192.297,192.294 ,192.288,192.283,192.279,192.274, 192.269,192.266,192.263,192.257,192.251 ,192.242,192.234,192.227,192.216, 192.208,192.2,192.192,192.498,192.733, 193.159,193.404,193.611,193.61,193.609, 193.608,193.607,193.606,193.606,193.605 ,193.605,193.604,193.603,193.603, 193.603,193.602,193.602,193.602,193.602 ,193.601,193.601,193.601,193.601, 193.601,193.6,193.6,193.6,193.6,193.6, 193.6,193.6,193.6,193.601,193.601, 193.601,193.601,193.601,193.601,193.602 ,193.602,193.602,193.602,193.602, 193.603,193.603,193.603,193.603,193.604 ,193.454)
ORBIT_NUMBER = 7295
ORBITAL_ECCENTRICITY = 0.573
ORBITAL_INCLINATION = 86.81
ORBITAL_SEMIMAJOR_AXIS = 8757.01
PERIAPSIS_ALTITUDE = 342.4
PERIAPSIS_ARGUMENT_ANGLE = 158.56
PERIAPSIS_TIME = 2009-09-09T17:27:57.000Z
SPACECRAFT_ORIENTATION = (0.0,-1.0,0.0)
^MEX_ORIENTATION_DESC = "MEX_ORIENTATION_DESC.TXT"
SPACECRAFT_POINTING_MODE = ACROSSTRACK
^MEX_POINTING_DESC = "MEX_POINTING_DESC.TXT"
RIGHT_ASCENSION = -1e+32
DECLINATION = -1e+32
OFFSET_ANGLE = -0.5
SPACECRAFT_SOLAR_DISTANCE = 2.23989e+08
TARGET_NAME = MARS
/* CAMERA DATA ELEMENTS */
DETECTOR_TEMPERATURE = 17.9627
FOCAL_PLANE_TEMPERATURE = 8.9911
INST_CMPRS_NAME = "DISCRETE COSINE TRANSFORMATION (DCT)"
INST_CMPRS_RATIO = 9.79369
INST_CMPRS_QUALITY = 0
INST_CMPRS_QUANTZ_TBL_ID = 0
INSTRUMENT_TEMPERATURE = 11.234
LENS_TEMPERATURE = 9.3989
MACROPIXEL_SIZE = 2
MISSING_FRAMES = 0
PIXEL_SUBSAMPLING_FLAG = N
SIGNAL_CHAIN_ID = 1
/* RADIOMETRIC DATA ELEMENTS */
BANDWIDTH = 180.0
CENTER_FILTER_WAVELENGTH = 677.0
RADIANCE_OFFSET = 6.70739
RADIANCE_SCALING_FACTOR = 0.0107406
REFLECTANCE_SCALING_FACTOR = 0.000281141
MEX:REFLECTANCE_OFFSET = 0.17557
/* IMAGE OBJECT DEFINITIONS */
OBJECT = IMAGE
  INTERCHANGE_FORMAT = BINARY
  LINES = 44573
  LINE_SAMPLES = 3634
  SAMPLE_TYPE = UNSIGNED_INTEGER
  SAMPLE_BITS = 8
  BANDS = 1
  BAND_STORAGE_TYPE = BAND_SEQUENTIAL
  MAXIMUM = 255
  MEAN = 135.97
  MINIMUM = 1
  STANDARD_DEVIATION = 38.0383
END_OBJECT = IMAGE
/* MAP OBJECT DEFINITIONS */
OBJECT = IMAGE_MAP_PROJECTION
  ^DATA_SET_MAP_PROJECTION_CATALOG= "DSMAP.CAT"
  A_AXIS_RADIUS = 3396.0
  B_AXIS_RADIUS = 3396.0
  C_AXIS_RADIUS = 3396.0
  CENTER_LATITUDE = 0.0
  CENTER_LONGITUDE = 193.0
  COORDINATE_SYSTEM_NAME = PLANETOGRAPHIC
  COORDINATE_SYSTEM_TYPE = "BODY-FIXED ROTATING"
  EASTERNMOST_LONGITUDE = 193.611
  FIRST_STANDARD_PARALLEL = "N/A"
  LINE_FIRST_PIXEL = 1
  LINE_LAST_PIXEL = 44573
  LINE_PROJECTION_OFFSET = 50780.75
  MAP_PROJECTION_ROTATION = 0.0
  MAP_PROJECTION_TYPE = SINUSOIDAL
  MAP_RESOLUTION = 2370.85521546667
  MAP_SCALE = 0.025
  MAXIMUM_LATITUDE = 21.4666
  MINIMUM_LATITUDE = 2.57973
  POSITIVE_LONGITUDE_DIRECTION = EAST
  REFERENCE_LATITUDE = "N/A"
  REFERENCE_LONGITUDE = "N/A"
  SAMPLE_FIRST_PIXEL = 1
  SAMPLE_LAST_PIXEL = 3634
  SAMPLE_PROJECTION_OFFSET = 2094.25
  SECOND_STANDARD_PARALLEL = "N/A"
  WESTERNMOST_LONGITUDE = 192.192
END_OBJECT = IMAGE_MAP_PROJECTION
/* The JPEG2000 image data file associated with this label. */
OBJECT = COMPRESSED_FILE
  FILE_NAME = "H7295_0000_S13.JP2"
  RECORD_TYPE = UNDEFINED
  FILE_RECORDS = UNK
  ENCODING_TYPE = "JP2"
  INTERCHANGE_FORMAT = BINARY
  UNCOMPRESSED_FILE_NAME = "H7295_0000_S13.IMG"
  REQUIRED_STORAGE_BYTES = "162000086"
  ^DESCRIPTION = "JP2INFO.TXT"
END_OBJECT = COMPRESSED_FILE
END
