PDS_VERSION_ID = PDS3
/* FILE DATA ELEMENTS */
RECORD_TYPE = STREAM
/* POINTERS TO DATA OBJECTS */
^COMPRESSED_FILE = "H7298_0000_P23.JP2"
/* IDENTIFICATION DATA ELEMENTS */
DATA_SET_ID = "MEX-M-HRSC-5-REFDR-MAPPROJECTED-V3.0"
DATA_SET_NAME = "MARS EXPRESS HRSC MAP PROJECTED REFDR V3.0"
DETECTOR_ID = MEX_HRSC_P2
EVENT_TYPE = "MARS-LOCAL-STEREO-Vo-Te"
INSTRUMENT_HOST_ID = MEX
INSTRUMENT_HOST_NAME = "MARS EXPRESS"
INSTRUMENT_ID = HRSC
INSTRUMENT_NAME = "HIGH RESOLUTION STEREO CAMERA"
MISSION_NAME = "MARS EXPRESS"
MISSION_PHASE_NAME = ME_Phase_18
PROCESSING_LEVEL_ID = 3
PRODUCT_CREATION_TIME = 2016-06-30T05:04:16.000Z
PRODUCT_ID = "H7298_0000_P23.JP2"
RELEASE_ID = 0080
REVISION_ID = 0000
/* QUALITY DATA ELEMENTS */
DATA_QUALITY_ID = 1
DATA_QUALITY_DESC = "Data calculated based on original SPICE kernels"
/* TIME DATA ELEMENTS */
SPACECRAFT_CLOCK_START_COUNT = "1/0200671585.07304"
SPACECRAFT_CLOCK_STOP_COUNT = "1/0200671794.49161"
START_TIME = 2009-09-10T14:07:22.336Z
STOP_TIME = 2009-09-10T14:09:44.339Z
/* ORBITAL DATA ELEMENTS */
ASCENDING_NODE_LONGITUDE = 78.23
MAXIMUM_RESOLUTION = 27.9
FOOTPRINT_POINT_LATITUDE = (30.0848,30.0832,30.0804,30.0786, 30.0765,29.9821,29.7966,29.6102,29.4249 ,29.2397,29.055,28.8703,28.5927,28.4075 ,28.2224,28.0373,27.8517,27.6665, 27.4816,27.2967,27.1117,26.9267,26.6493 ,26.4645,26.1874,26.0027,25.818,25.5408 ,25.3561,25.1717,24.8952,24.7108, 24.5263,24.3419,24.1575,23.9731,23.7887 ,23.6042,23.4199,23.2359,22.96,22.7758, 22.4999,22.3159,22.1323,21.9483,21.6729 ,21.4892,21.3059,21.1225,20.9392, 20.8179,20.8187,20.8188,20.9116,21.0952 ,21.2788,21.4628,21.6463,21.9218, 22.1058,22.2897,22.4736,22.6578,22.8415 ,23.1174,23.3013,23.4856,23.7619, 23.9466,24.2227,24.4068,24.5914,24.868, 25.0526,25.2375,25.4227,25.6071,25.7924 ,25.9769,26.1625,26.4404,26.7185, 26.9974,27.2752,27.4605,27.7384,27.9237 ,28.1092,28.2945,28.48,28.6654,28.8508, 29.0359,29.2206,29.4057,29.5911,29.7769 ,29.9632,30.0848)
FOOTPRINT_POINT_LONGITUDE = (251.472,251.212,250.828,250.623, 250.404,250.21,250.215,250.22,250.224, 250.228,250.232,250.236,250.242,250.246 ,250.25,250.253,250.257,250.261,250.264 ,250.268,250.271,250.274,250.279, 250.282,250.286,250.289,250.291,250.295 ,250.298,250.3,250.303,250.306,250.308, 250.31,250.312,250.314,250.316,250.318, 250.319,250.321,250.323,250.325,250.327 ,250.328,250.329,250.331,250.332, 250.333,250.334,250.335,250.336,250.73, 251.05,251.407,251.609,251.609,251.609, 251.61,251.61,251.61,251.61,251.611, 251.611,251.611,251.611,251.611,251.611 ,251.612,251.612,251.612,251.612, 251.612,251.613,251.613,251.613,251.613 ,251.614,251.614,251.614,251.615, 251.615,251.616,251.616,251.617,251.618 ,251.618,251.619,251.619,251.62,251.62, 251.62,251.621,251.621,251.621,251.621, 251.621,251.621,251.622,251.623, 251.472)
ORBIT_NUMBER = 7298
ORBITAL_ECCENTRICITY = 0.574
ORBITAL_INCLINATION = 86.8
ORBITAL_SEMIMAJOR_AXIS = 8773.34
PERIAPSIS_ALTITUDE = 342.18
PERIAPSIS_ARGUMENT_ANGLE = 158.03
PERIAPSIS_TIME = 2009-09-10T14:09:07.000Z
SPACECRAFT_ORIENTATION = (0.0,-1.0,0.0)
^MEX_ORIENTATION_DESC = "MEX_ORIENTATION_DESC.TXT"
SPACECRAFT_POINTING_MODE = NADIR
^MEX_POINTING_DESC = "MEX_POINTING_DESC.TXT"
RIGHT_ASCENSION = -1e+32
DECLINATION = -1e+32
OFFSET_ANGLE = -1e+32
SPACECRAFT_SOLAR_DISTANCE = 2.24157e+08
TARGET_NAME = MARS
/* CAMERA DATA ELEMENTS */
DETECTOR_TEMPERATURE = 18.3705
FOCAL_PLANE_TEMPERATURE = 8.9911
INST_CMPRS_NAME = "DISCRETE COSINE TRANSFORMATION (DCT)"
INST_CMPRS_RATIO = 6.23288
INST_CMPRS_QUALITY = 0
INST_CMPRS_QUANTZ_TBL_ID = 0
INSTRUMENT_TEMPERATURE = 11.4379
LENS_TEMPERATURE = 9.3989
MACROPIXEL_SIZE = 2
MISSING_FRAMES = 0
PIXEL_SUBSAMPLING_FLAG = N
SIGNAL_CHAIN_ID = 3
/* RADIOMETRIC DATA ELEMENTS */
BANDWIDTH = 177.0
CENTER_FILTER_WAVELENGTH = 676.5
RADIANCE_OFFSET = 2.95312
RADIANCE_SCALING_FACTOR = 0.0216028
REFLECTANCE_SCALING_FACTOR = 0.00057553
MEX:REFLECTANCE_OFFSET = 0.0786755
/* IMAGE OBJECT DEFINITIONS */
OBJECT = IMAGE
  INTERCHANGE_FORMAT = BINARY
  LINES = 22021
  LINE_SAMPLES = 3181
  SAMPLE_TYPE = UNSIGNED_INTEGER
  SAMPLE_BITS = 8
  BANDS = 1
  BAND_STORAGE_TYPE = BAND_SEQUENTIAL
  MAXIMUM = 255
  MEAN = 128.789
  MINIMUM = 1
  STANDARD_DEVIATION = 28.1007
END_OBJECT = IMAGE
/* MAP OBJECT DEFINITIONS */
OBJECT = IMAGE_MAP_PROJECTION
  ^DATA_SET_MAP_PROJECTION_CATALOG= "DSMAP.CAT"
  A_AXIS_RADIUS = 3396.0
  B_AXIS_RADIUS = 3396.0
  C_AXIS_RADIUS = 3396.0
  CENTER_LATITUDE = 0.0
  CENTER_LONGITUDE = 251.0
  COORDINATE_SYSTEM_NAME = PLANETOGRAPHIC
  COORDINATE_SYSTEM_TYPE = "BODY-FIXED ROTATING"
  EASTERNMOST_LONGITUDE = 251.623
  FIRST_STANDARD_PARALLEL = "N/A"
  LINE_FIRST_PIXEL = 1
  LINE_LAST_PIXEL = 22021
  LINE_PROJECTION_OFFSET = 71415.25
  MAP_PROJECTION_ROTATION = 0.0
  MAP_PROJECTION_TYPE = SINUSOIDAL
  MAP_RESOLUTION = 2370.85521546667
  MAP_SCALE = 0.025
  MAXIMUM_LATITUDE = 30.0848
  MINIMUM_LATITUDE = 20.8179
  POSITIVE_LONGITUDE_DIRECTION = EAST
  REFERENCE_LATITUDE = "N/A"
  REFERENCE_LONGITUDE = "N/A"
  SAMPLE_FIRST_PIXEL = 1
  SAMPLE_LAST_PIXEL = 3181
  SAMPLE_PROJECTION_OFFSET = 1735.25
  SECOND_STANDARD_PARALLEL = "N/A"
  WESTERNMOST_LONGITUDE = 250.21
END_OBJECT = IMAGE_MAP_PROJECTION
/* The JPEG2000 image data file associated with this label. */
OBJECT = COMPRESSED_FILE
  FILE_NAME = "H7298_0000_P23.JP2"
  RECORD_TYPE = UNDEFINED
  FILE_RECORDS = UNK
  ENCODING_TYPE = "JP2"
  INTERCHANGE_FORMAT = BINARY
  UNCOMPRESSED_FILE_NAME = "H7298_0000_P23.IMG"
  REQUIRED_STORAGE_BYTES = "70071068"
  ^DESCRIPTION = "JP2INFO.TXT"
END_OBJECT = COMPRESSED_FILE
END
