PDS_VERSION_ID = PDS3
/* FILE DATA ELEMENTS */
RECORD_TYPE = STREAM
/* POINTERS TO DATA OBJECTS */
^COMPRESSED_FILE = "H7299_0000_P13.JP2"
/* IDENTIFICATION DATA ELEMENTS */
DATA_SET_ID = "MEX-M-HRSC-5-REFDR-MAPPROJECTED-V3.0"
DATA_SET_NAME = "MARS EXPRESS HRSC MAP PROJECTED REFDR V3.0"
DETECTOR_ID = MEX_HRSC_P1
EVENT_TYPE = "MARS-REGIONAL-MAPPING-Te-Fl-La"
INSTRUMENT_HOST_ID = MEX
INSTRUMENT_HOST_NAME = "MARS EXPRESS"
INSTRUMENT_ID = HRSC
INSTRUMENT_NAME = "HIGH RESOLUTION STEREO CAMERA"
MISSION_NAME = "MARS EXPRESS"
MISSION_PHASE_NAME = ME_Phase_18
PROCESSING_LEVEL_ID = 3
PRODUCT_CREATION_TIME = 2016-06-30T05:04:16.000Z
PRODUCT_ID = "H7299_0000_P13.JP2"
RELEASE_ID = 0080
REVISION_ID = 0000
/* QUALITY DATA ELEMENTS */
DATA_QUALITY_ID = 1
DATA_QUALITY_DESC = "Data calculated based on original SPICE kernels"
/* TIME DATA ELEMENTS */
SPACECRAFT_CLOCK_START_COUNT = "1/0200696874.09038"
SPACECRAFT_CLOCK_STOP_COUNT = "1/0200697169.41750"
START_TIME = 2009-09-10T21:08:09.650Z
STOP_TIME = 2009-09-10T21:11:08.076Z
/* ORBITAL DATA ELEMENTS */
ASCENDING_NODE_LONGITUDE = 78.2
MAXIMUM_RESOLUTION = 35.4
FOOTPRINT_POINT_LATITUDE = (0.175971,0.174656,0.172444,0.170635, 0.168585,0.166281,0.0518075,-0.147234, -0.351344,-0.657465,-0.963478,-1.26908, -1.47663,-1.68422,-1.89243,-2.20464, -2.41325,-2.62554,-2.83827,-3.15695, -3.36856,-3.58368,-3.80169,-4.12766, -4.34423,-4.56402,-4.89666,-5.11885, -5.33911,-5.5668,-5.79088,-6.01641, -6.24258,-6.47312,-6.81727,-7.04654, -7.27983,-7.50889,-7.74431,-7.97628, -8.21413,-8.56976,-8.92987,-9.17126, -9.41214,-9.77955,-10.0254,-10.3957, -10.6452,-10.8941,-11.0419,-11.0434, -11.0445,-11.0443,-11.0447,-11.0438, -10.6704,-10.4177,-10.0461,-9.68497, -9.43972,-9.19777,-8.955,-8.71254, -8.47483,-8.23316,-7.87751,-7.53112, -7.29913,-7.06503,-6.83374,-6.60191, -6.37135,-6.14429,-5.91911,-5.58124, -5.2436,-5.02265,-4.80148,-4.57958, -4.35855,-4.03333,-3.81654,-3.59882, -3.27556,-2.95716,-2.74424,-2.53114, -2.31918,-2.11028,-1.90072,-1.69288, -1.4842,-1.27605,-1.07212,-0.868041, -0.663767,-0.357625,-0.153213,0.175971)
FOOTPRINT_POINT_LONGITUDE = (150.19,149.96,149.627,149.395,149.161, 148.925,148.731,148.726,148.721,148.713 ,148.705,148.697,148.691,148.686, 148.681,148.672,148.666,148.661,148.655 ,148.645,148.64,148.634,148.627,148.617 ,148.61,148.604,148.593,148.585,148.578 ,148.569,148.563,148.555,148.547, 148.539,148.527,148.519,148.511,148.506 ,148.497,148.49,148.481,148.469,148.456 ,148.447,148.438,148.424,148.415,148.4, 148.391,148.382,148.606,149.025,149.367 ,149.595,149.916,150.216,150.332, 150.328,150.324,150.322,150.319,150.317 ,150.314,150.311,150.309,150.306, 150.303,150.3,150.299,150.297,150.294, 150.292,150.29,150.288,150.286,150.284, 150.281,150.28,150.278,150.276,150.275, 150.273,150.271,150.27,150.268,150.266, 150.265,150.263,150.262,150.261,150.259 ,150.258,150.257,150.256,150.255, 150.254,150.253,150.251,150.251,150.19)
ORBIT_NUMBER = 7299
ORBITAL_ECCENTRICITY = 0.573
ORBITAL_INCLINATION = 86.8
ORBITAL_SEMIMAJOR_AXIS = 8760.34
PERIAPSIS_ALTITUDE = 343.18
PERIAPSIS_ARGUMENT_ANGLE = 157.89
PERIAPSIS_TIME = 2009-09-10T21:02:52.000Z
SPACECRAFT_ORIENTATION = (0.0,-1.0,0.0)
^MEX_ORIENTATION_DESC = "MEX_ORIENTATION_DESC.TXT"
SPACECRAFT_POINTING_MODE = ACROSSTRACK
^MEX_POINTING_DESC = "MEX_POINTING_DESC.TXT"
RIGHT_ASCENSION = -1e+32
DECLINATION = -1e+32
OFFSET_ANGLE = -0.5
SPACECRAFT_SOLAR_DISTANCE = 2.24213e+08
TARGET_NAME = MARS
/* CAMERA DATA ELEMENTS */
DETECTOR_TEMPERATURE = 17.5549
FOCAL_PLANE_TEMPERATURE = 8.9911
INST_CMPRS_NAME = "DISCRETE COSINE TRANSFORMATION (DCT)"
INST_CMPRS_RATIO = 6.90654
INST_CMPRS_QUALITY = 0
INST_CMPRS_QUANTZ_TBL_ID = 0
INSTRUMENT_TEMPERATURE = 11.4379
LENS_TEMPERATURE = 8.9911
MACROPIXEL_SIZE = 2
MISSING_FRAMES = 0
PIXEL_SUBSAMPLING_FLAG = N
SIGNAL_CHAIN_ID = 3
/* RADIOMETRIC DATA ELEMENTS */
BANDWIDTH = 174.0
CENTER_FILTER_WAVELENGTH = 675.0
RADIANCE_OFFSET = 4.88739
RADIANCE_SCALING_FACTOR = 0.0134762
REFLECTANCE_SCALING_FACTOR = 0.000364401
MEX:REFLECTANCE_OFFSET = 0.132156
/* IMAGE OBJECT DEFINITIONS */
OBJECT = IMAGE
  INTERCHANGE_FORMAT = BINARY
  LINES = 26610
  LINE_SAMPLES = 5001
  SAMPLE_TYPE = UNSIGNED_INTEGER
  SAMPLE_BITS = 8
  BANDS = 1
  BAND_STORAGE_TYPE = BAND_SEQUENTIAL
  MAXIMUM = 255
  MEAN = 160.19
  MINIMUM = 1
  STANDARD_DEVIATION = 26.624
END_OBJECT = IMAGE
/* MAP OBJECT DEFINITIONS */
OBJECT = IMAGE_MAP_PROJECTION
  ^DATA_SET_MAP_PROJECTION_CATALOG= "DSMAP.CAT"
  A_AXIS_RADIUS = 3396.0
  B_AXIS_RADIUS = 3396.0
  C_AXIS_RADIUS = 3396.0
  CENTER_LATITUDE = 0.0
  CENTER_LONGITUDE = 149.0
  COORDINATE_SYSTEM_NAME = PLANETOGRAPHIC
  COORDINATE_SYSTEM_TYPE = "BODY-FIXED ROTATING"
  EASTERNMOST_LONGITUDE = 150.332
  FIRST_STANDARD_PARALLEL = "N/A"
  LINE_FIRST_PIXEL = 1
  LINE_LAST_PIXEL = 26610
  LINE_PROJECTION_OFFSET = 414.75
  MAP_PROJECTION_ROTATION = 0.0
  MAP_PROJECTION_TYPE = SINUSOIDAL
  MAP_RESOLUTION = 2370.85521546667
  MAP_SCALE = 0.025
  MAXIMUM_LATITUDE = 0.175971
  MINIMUM_LATITUDE = -11.0447
  POSITIVE_LONGITUDE_DIRECTION = EAST
  REFERENCE_LATITUDE = "N/A"
  REFERENCE_LONGITUDE = "N/A"
  SAMPLE_FIRST_PIXEL = 1
  SAMPLE_LAST_PIXEL = 5001
  SAMPLE_PROJECTION_OFFSET = 1723.75
  SECOND_STANDARD_PARALLEL = "N/A"
  WESTERNMOST_LONGITUDE = 148.382
END_OBJECT = IMAGE_MAP_PROJECTION
/* The JPEG2000 image data file associated with this label. */
OBJECT = COMPRESSED_FILE
  FILE_NAME = "H7299_0000_P13.JP2"
  RECORD_TYPE = UNDEFINED
  FILE_RECORDS = UNK
  ENCODING_TYPE = "JP2"
  INTERCHANGE_FORMAT = BINARY
  UNCOMPRESSED_FILE_NAME = "H7299_0000_P13.IMG"
  REQUIRED_STORAGE_BYTES = "133101615"
  ^DESCRIPTION = "JP2INFO.TXT"
END_OBJECT = COMPRESSED_FILE
END
