PDS_VERSION_ID = PDS3
/* FILE DATA ELEMENTS */
RECORD_TYPE = STREAM
/* POINTERS TO DATA OBJECTS */
^COMPRESSED_FILE = "H7307_0000_P23.JP2"
/* IDENTIFICATION DATA ELEMENTS */
DATA_SET_ID = "MEX-M-HRSC-5-REFDR-MAPPROJECTED-V3.0"
DATA_SET_NAME = "MARS EXPRESS HRSC MAP PROJECTED REFDR V3.0"
DETECTOR_ID = MEX_HRSC_P2
EVENT_TYPE = "MARS-REGIONAL-MAPPING-Vo-Im-Eo"
INSTRUMENT_HOST_ID = MEX
INSTRUMENT_HOST_NAME = "MARS EXPRESS"
INSTRUMENT_ID = HRSC
INSTRUMENT_NAME = "HIGH RESOLUTION STEREO CAMERA"
MISSION_NAME = "MARS EXPRESS"
MISSION_PHASE_NAME = ME_Phase_18
PROCESSING_LEVEL_ID = 3
PRODUCT_CREATION_TIME = 2016-06-30T16:05:12.000Z
PRODUCT_ID = "H7307_0000_P23.JP2"
RELEASE_ID = 0081
REVISION_ID = 0000
/* QUALITY DATA ELEMENTS */
DATA_QUALITY_ID = 1
DATA_QUALITY_DESC = "Data calculated based on original SPICE kernels"
/* TIME DATA ELEMENTS */
SPACECRAFT_CLOCK_START_COUNT = "1/0200895171.08397"
SPACECRAFT_CLOCK_STOP_COUNT = "1/0200895406.57092"
START_TIME = 2009-09-13T04:13:45.244Z
STOP_TIME = 2009-09-13T04:16:34.486Z
/* ORBITAL DATA ELEMENTS */
ASCENDING_NODE_LONGITUDE = 78.05
MAXIMUM_RESOLUTION = 28.6
FOOTPRINT_POINT_LATITUDE = (19.9485,19.9487,19.9489,19.949,19.8535 ,19.6491,19.4449,19.2409,19.0375, 18.8343,18.6307,18.3224,18.1163,17.9139 ,17.6105,17.4078,17.2052,17.0027, 16.6991,16.4968,16.2945,15.9918,15.79, 15.4875,15.2861,15.0848,14.8839,14.6832 ,14.3821,14.082,13.7804,13.5853,13.3859 ,13.0498,12.8124,12.5747,12.3376, 12.1006,11.8638,11.6274,11.273,11.0373, 10.8018,10.5665,10.3314,10.1006,9.86235 ,9.62838,9.27734,9.2625,9.26075,9.25922 ,9.25742,9.25648,9.49046,9.72484,9.9591 ,10.194,10.5464,10.7819,11.0176,11.2538 ,11.4901,11.7267,12.0825,12.3198, 12.5573,12.7951,13.0331,13.266,13.4658, 13.7661,13.9664,14.1669,14.3678,14.5685 ,14.7692,15.0711,15.2726,15.5751,15.878 ,16.181,16.383,16.5853,16.7879,16.9906, 17.1931,17.3961,17.599,17.8022,18.0059, 18.2094,18.4131,18.6169,18.8207,19.0245 ,19.2286,19.4325,19.6375,19.9485)
FOOTPRINT_POINT_LONGITUDE = (63.9113,63.6746,63.3258,62.9397, 62.7577,62.7579,62.758,62.758,62.7577, 62.7573,62.757,62.758,62.7589,62.758, 62.7566,62.7558,62.755,62.7542,62.7528, 62.7519,62.7509,62.7491,62.7479,62.7461 ,62.7447,62.7433,62.7417,62.7401, 62.7376,62.7347,62.7326,62.7284,62.7263 ,62.7251,62.7224,62.7197,62.7169, 62.7139,62.711,62.7079,62.7033,62.7, 62.6966,62.6932,62.6897,62.6844,62.6824 ,62.6786,62.673,63.1693,63.4108,63.6255 ,63.8669,64.0598,64.0592,64.0586, 64.0579,64.0574,64.0564,64.0558,64.0553 ,64.0549,64.0544,64.054,64.0536,64.0532 ,64.0528,64.0525,64.0522,64.0519, 64.0516,64.0514,64.0512,64.051,64.051, 64.0508,64.0505,64.0504,64.0504,64.0503 ,64.0503,64.0502,64.0501,64.05,64.05, 64.05,64.0499,64.0499,64.0499,64.0499, 64.0501,64.0502,64.0503,64.0504,64.0504 ,64.0504,64.0505,64.0504,64.0509, 63.9113)
ORBIT_NUMBER = 7307
ORBITAL_ECCENTRICITY = 0.574
ORBITAL_INCLINATION = 86.82
ORBITAL_SEMIMAJOR_AXIS = 8763.99
PERIAPSIS_ALTITUDE = 343.15
PERIAPSIS_ARGUMENT_ANGLE = 156.48
PERIAPSIS_TIME = 2009-09-13T04:12:30.000Z
SPACECRAFT_ORIENTATION = (0.0,-1.0,0.0)
^MEX_ORIENTATION_DESC = "MEX_ORIENTATION_DESC.TXT"
SPACECRAFT_POINTING_MODE = ACROSSTRACK
^MEX_POINTING_DESC = "MEX_POINTING_DESC.TXT"
RIGHT_ASCENSION = -1e+32
DECLINATION = -1e+32
OFFSET_ANGLE = 0.0
SPACECRAFT_SOLAR_DISTANCE = 2.24661e+08
TARGET_NAME = MARS
/* CAMERA DATA ELEMENTS */
DETECTOR_TEMPERATURE = 18.5744
FOCAL_PLANE_TEMPERATURE = 8.3794
INST_CMPRS_NAME = "DISCRETE COSINE TRANSFORMATION (DCT)"
INST_CMPRS_RATIO = 7.27762
INST_CMPRS_QUALITY = 0
INST_CMPRS_QUANTZ_TBL_ID = 0
INSTRUMENT_TEMPERATURE = 11.234
LENS_TEMPERATURE = 8.7872
MACROPIXEL_SIZE = 2
MISSING_FRAMES = 0
PIXEL_SUBSAMPLING_FLAG = N
SIGNAL_CHAIN_ID = 3
/* RADIOMETRIC DATA ELEMENTS */
BANDWIDTH = 177.0
CENTER_FILTER_WAVELENGTH = 676.5
RADIANCE_OFFSET = 3.08608
RADIANCE_SCALING_FACTOR = 0.0139439
REFLECTANCE_SCALING_FACTOR = 0.000373161
MEX:REFLECTANCE_OFFSET = 0.0825883
/* IMAGE OBJECT DEFINITIONS */
OBJECT = IMAGE
  INTERCHANGE_FORMAT = BINARY
  LINES = 25351
  LINE_SAMPLES = 3348
  SAMPLE_TYPE = UNSIGNED_INTEGER
  SAMPLE_BITS = 8
  BANDS = 1
  BAND_STORAGE_TYPE = BAND_SEQUENTIAL
  MAXIMUM = 255
  MEAN = 96.4949
  MINIMUM = 1
  STANDARD_DEVIATION = 32.6525
END_OBJECT = IMAGE
/* MAP OBJECT DEFINITIONS */
OBJECT = IMAGE_MAP_PROJECTION
  ^DATA_SET_MAP_PROJECTION_CATALOG= "DSMAP.CAT"
  A_AXIS_RADIUS = 3396.0
  B_AXIS_RADIUS = 3396.0
  C_AXIS_RADIUS = 3396.0
  CENTER_LATITUDE = 0.0
  CENTER_LONGITUDE = 63.0
  COORDINATE_SYSTEM_NAME = PLANETOGRAPHIC
  COORDINATE_SYSTEM_TYPE = "BODY-FIXED ROTATING"
  EASTERNMOST_LONGITUDE = 64.0598
  FIRST_STANDARD_PARALLEL = "N/A"
  LINE_FIRST_PIXEL = 1
  LINE_LAST_PIXEL = 25351
  LINE_PROJECTION_OFFSET = 47359.75
  MAP_PROJECTION_ROTATION = 0.0
  MAP_PROJECTION_TYPE = SINUSOIDAL
  MAP_RESOLUTION = 2370.85521546667
  MAP_SCALE = 0.025
  MAXIMUM_LATITUDE = 19.949
  MINIMUM_LATITUDE = 9.25648
  POSITIVE_LONGITUDE_DIRECTION = EAST
  REFERENCE_LATITUDE = "N/A"
  REFERENCE_LONGITUDE = "N/A"
  SAMPLE_FIRST_PIXEL = 1
  SAMPLE_LAST_PIXEL = 3348
  SAMPLE_PROJECTION_OFFSET = 810.75
  SECOND_STANDARD_PARALLEL = "N/A"
  WESTERNMOST_LONGITUDE = 62.673
END_OBJECT = IMAGE_MAP_PROJECTION
/* The JPEG2000 image data file associated with this label. */
OBJECT = COMPRESSED_FILE
  FILE_NAME = "H7307_0000_P23.JP2"
  RECORD_TYPE = UNDEFINED
  FILE_RECORDS = UNK
  ENCODING_TYPE = "JP2"
  INTERCHANGE_FORMAT = BINARY
  UNCOMPRESSED_FILE_NAME = "H7307_0000_P23.IMG"
  REQUIRED_STORAGE_BYTES = "84898584"
  ^DESCRIPTION = "JP2INFO.TXT"
END_OBJECT = COMPRESSED_FILE
END
