PDS_VERSION_ID = PDS3
/* FILE DATA ELEMENTS */
RECORD_TYPE = STREAM
/* POINTERS TO DATA OBJECTS */
^COMPRESSED_FILE = "H7310_0000_IR3.JP2"
/* IDENTIFICATION DATA ELEMENTS */
DATA_SET_ID = "MEX-M-HRSC-5-REFDR-MAPPROJECTED-V3.0"
DATA_SET_NAME = "MARS EXPRESS HRSC MAP PROJECTED REFDR V3.0"
DETECTOR_ID = MEX_HRSC_IR
EVENT_TYPE = "MARS-REGIONAL-MAPPING-Vo-Im-Fl"
INSTRUMENT_HOST_ID = MEX
INSTRUMENT_HOST_NAME = "MARS EXPRESS"
INSTRUMENT_ID = HRSC
INSTRUMENT_NAME = "HIGH RESOLUTION STEREO CAMERA"
MISSION_NAME = "MARS EXPRESS"
MISSION_PHASE_NAME = ME_Phase_18
PROCESSING_LEVEL_ID = 3
PRODUCT_CREATION_TIME = 2016-06-30T16:05:12.000Z
PRODUCT_ID = "H7310_0000_IR3.JP2"
RELEASE_ID = 0081
REVISION_ID = 0000
/* QUALITY DATA ELEMENTS */
DATA_QUALITY_ID = 1
DATA_QUALITY_DESC = "Data calculated based on original SPICE kernels"
/* TIME DATA ELEMENTS */
SPACECRAFT_CLOCK_START_COUNT = "1/0200969962.09042"
SPACECRAFT_CLOCK_STOP_COUNT = "1/0200970441.03981"
START_TIME = 2009-09-14T00:59:31.335Z
STOP_TIME = 2009-09-14T01:04:36.511Z
/* ORBITAL DATA ELEMENTS */
ASCENDING_NODE_LONGITUDE = 77.99
MAXIMUM_RESOLUTION = 150
FOOTPRINT_POINT_LATITUDE = (-0.842598,-0.833799,-0.820453,-1.28767 ,-1.91253,-2.23011,-2.54825,-3.02702, -3.51617,-3.84276,-4.1752,-4.5071, -4.8388,-5.17494,-5.51285,-5.85405, -6.19867,-6.71684,-7.06553,-7.41717, -7.77306,-8.12971,-8.49498,-8.8572, -9.22575,-9.59537,-9.96982,-10.5346, -10.9142,-11.301,-11.685,-12.0764, -12.6704,-13.0672,-13.4789,-14.0835, -14.4967,-14.912,-15.3367,-15.7571, -16.1855,-16.6194,-17.0574,-17.4983, -17.9442,-18.394,-18.8488,-19.3087, -19.6978,-19.7085,-19.7195,-19.7257, -19.7307,-19.7367,-19.2727,-18.8147, -18.3622,-17.9134,-17.4685,-17.0281, -16.591,-16.1575,-15.7304,-15.3064, -14.8858,-14.4692,-14.0574,-13.6488, -13.2441,-12.8431,-12.4445,-12.0499, -11.6599,-11.2723,-10.6972,-10.3168, -9.94113,-9.38314,-9.01237,-8.64805, -8.29372,-7.92428,-7.56784,-7.0401, -6.51667,-6.17918,-5.83425,-5.49075, -4.97944,-4.64578,-4.31424,-3.98214, -3.65615,-3.33132,-3.00489,-2.52564, -2.20624,-1.88929,-0.951016,-0.842598)
FOOTPRINT_POINT_LONGITUDE = (121.106,120.637,120.194,120.181, 120.163,120.154,120.145,120.131,120.116 ,120.106,120.095,120.084,120.074, 120.063,120.052,120.041,120.029,120.012 ,120.0,119.988,119.976,119.963,119.949, 119.935,119.921,119.907,119.893,119.871 ,119.856,119.84,119.825,119.808,119.783 ,119.767,119.747,119.722,119.703, 119.685,119.664,119.646,119.625,119.604 ,119.583,119.562,119.539,119.516, 119.493,119.469,119.449,119.952,120.677 ,121.113,121.453,122.028,122.015, 122.003,121.993,121.982,121.971,121.961 ,121.951,121.941,121.933,121.924, 121.915,121.907,121.899,121.892,121.885 ,121.878,121.871,121.864,121.858, 121.852,121.843,121.838,121.832,121.825 ,121.819,121.815,121.814,121.806, 121.802,121.797,121.793,121.792,121.789 ,121.784,121.778,121.775,121.773,121.77 ,121.768,121.766,121.763,121.76,121.758 ,121.756,121.75,121.106)
ORBIT_NUMBER = 7310
ORBITAL_ECCENTRICITY = 0.574
ORBITAL_INCLINATION = 86.8
ORBITAL_SEMIMAJOR_AXIS = 8762.32
PERIAPSIS_ALTITUDE = 343.72
PERIAPSIS_ARGUMENT_ANGLE = 155.95
PERIAPSIS_TIME = 2009-09-14T00:53:35.000Z
SPACECRAFT_ORIENTATION = (0.0,-1.0,0.0)
^MEX_ORIENTATION_DESC = "MEX_ORIENTATION_DESC.TXT"
SPACECRAFT_POINTING_MODE = ACROSSTRACK
^MEX_POINTING_DESC = "MEX_POINTING_DESC.TXT"
RIGHT_ASCENSION = -1e+32
DECLINATION = -1e+32
OFFSET_ANGLE = 0.2
SPACECRAFT_SOLAR_DISTANCE = 2.24829e+08
TARGET_NAME = MARS
/* CAMERA DATA ELEMENTS */
DETECTOR_TEMPERATURE = 17.5549
FOCAL_PLANE_TEMPERATURE = 9.6028
INST_CMPRS_NAME = "DISCRETE COSINE TRANSFORMATION (DCT)"
INST_CMPRS_RATIO = 11.2078
INST_CMPRS_QUALITY = 0
INST_CMPRS_QUANTZ_TBL_ID = 0
INSTRUMENT_TEMPERATURE = 11.4379
LENS_TEMPERATURE = 9.3989
MACROPIXEL_SIZE = 8
MISSING_FRAMES = 0
PIXEL_SUBSAMPLING_FLAG = N
SIGNAL_CHAIN_ID = 2
/* RADIOMETRIC DATA ELEMENTS */
BANDWIDTH = 81.0
CENTER_FILTER_WAVELENGTH = 955.5
RADIANCE_OFFSET = 0.648426
RADIANCE_SCALING_FACTOR = 0.00615637
REFLECTANCE_SCALING_FACTOR = 0.000671367
MEX:REFLECTANCE_OFFSET = 0.0707125
/* IMAGE OBJECT DEFINITIONS */
OBJECT = IMAGE
  INTERCHANGE_FORMAT = BINARY
  LINES = 5601
  LINE_SAMPLES = 812
  SAMPLE_TYPE = UNSIGNED_INTEGER
  SAMPLE_BITS = 8
  BANDS = 1
  BAND_STORAGE_TYPE = BAND_SEQUENTIAL
  MAXIMUM = 255
  MEAN = 89.3759
  MINIMUM = 1
  STANDARD_DEVIATION = 51.7102
END_OBJECT = IMAGE
/* MAP OBJECT DEFINITIONS */
OBJECT = IMAGE_MAP_PROJECTION
  ^DATA_SET_MAP_PROJECTION_CATALOG= "DSMAP.CAT"
  A_AXIS_RADIUS = 3396.0
  B_AXIS_RADIUS = 3396.0
  C_AXIS_RADIUS = 3396.0
  CENTER_LATITUDE = 0.0
  CENTER_LONGITUDE = 121.0
  COORDINATE_SYSTEM_NAME = PLANETOGRAPHIC
  COORDINATE_SYSTEM_TYPE = "BODY-FIXED ROTATING"
  EASTERNMOST_LONGITUDE = 122.028
  FIRST_STANDARD_PARALLEL = "N/A"
  LINE_FIRST_PIXEL = 1
  LINE_LAST_PIXEL = 5601
  LINE_PROJECTION_OFFSET = -249.9375
  MAP_PROJECTION_ROTATION = 0.0
  MAP_PROJECTION_TYPE = SINUSOIDAL
  MAP_RESOLUTION = 296.356901933333
  MAP_SCALE = 0.2
  MAXIMUM_LATITUDE = -0.820453
  MINIMUM_LATITUDE = -19.7367
  POSITIVE_LONGITUDE_DIRECTION = EAST
  REFERENCE_LATITUDE = "N/A"
  REFERENCE_LONGITUDE = "N/A"
  SAMPLE_FIRST_PIXEL = 1
  SAMPLE_LAST_PIXEL = 812
  SAMPLE_PROJECTION_OFFSET = 479.4375
  SECOND_STANDARD_PARALLEL = "N/A"
  WESTERNMOST_LONGITUDE = 119.449
END_OBJECT = IMAGE_MAP_PROJECTION
/* The JPEG2000 image data file associated with this label. */
OBJECT = COMPRESSED_FILE
  FILE_NAME = "H7310_0000_IR3.JP2"
  RECORD_TYPE = UNDEFINED
  FILE_RECORDS = UNK
  ENCODING_TYPE = "JP2"
  INTERCHANGE_FORMAT = BINARY
  UNCOMPRESSED_FILE_NAME = "H7310_0000_IR3.IMG"
  REQUIRED_STORAGE_BYTES = "4565876"
  ^DESCRIPTION = "JP2INFO.TXT"
END_OBJECT = COMPRESSED_FILE
END
