PDS_VERSION_ID = PDS3
/* FILE DATA ELEMENTS */
RECORD_TYPE = STREAM
/* POINTERS TO DATA OBJECTS */
^COMPRESSED_FILE = "H7311_0000_P23.JP2"
/* IDENTIFICATION DATA ELEMENTS */
DATA_SET_ID = "MEX-M-HRSC-5-REFDR-MAPPROJECTED-V3.0"
DATA_SET_NAME = "MARS EXPRESS HRSC MAP PROJECTED REFDR V3.0"
DETECTOR_ID = MEX_HRSC_P2
EVENT_TYPE = "MARS-REGIONAL-MAPPING-Im-Fl"
INSTRUMENT_HOST_ID = MEX
INSTRUMENT_HOST_NAME = "MARS EXPRESS"
INSTRUMENT_ID = HRSC
INSTRUMENT_NAME = "HIGH RESOLUTION STEREO CAMERA"
MISSION_NAME = "MARS EXPRESS"
MISSION_PHASE_NAME = ME_Phase_18
PROCESSING_LEVEL_ID = 3
PRODUCT_CREATION_TIME = 2016-06-30T16:05:12.000Z
PRODUCT_ID = "H7311_0000_P23.JP2"
RELEASE_ID = 0081
REVISION_ID = 0000
/* QUALITY DATA ELEMENTS */
DATA_QUALITY_ID = 1
DATA_QUALITY_DESC = "Data calculated based on original SPICE kernels"
/* TIME DATA ELEMENTS */
SPACECRAFT_CLOCK_START_COUNT = "1/0200994318.09068"
SPACECRAFT_CLOCK_STOP_COUNT = "1/0200994657.07846"
START_TIME = 2009-09-14T07:46:14.061Z
STOP_TIME = 2009-09-14T07:50:45.103Z
/* ORBITAL DATA ELEMENTS */
ASCENDING_NODE_LONGITUDE = 77.97
MAXIMUM_RESOLUTION = 57.1
FOOTPRINT_POINT_LATITUDE = (29.7074,29.6993,29.6907,29.3662, 29.0211,28.6754,28.3288,27.8112,27.2937 ,26.9487,26.604,26.0885,25.7452,25.4008 ,25.0568,24.7133,24.3693,24.0256, 23.5115,23.1692,22.8265,22.3131,21.8001 ,21.2889,20.9483,20.608,20.2674,19.927, 19.4172,18.9094,18.5709,18.2332,17.895, 17.3901,16.8839,16.5478,16.0439,15.709, 15.3742,15.0398,14.7061,14.3718,14.1726 ,13.9741,13.5779,13.1818,12.787,12.3913 ,12.3096,12.3115,12.3131,12.3165, 12.3197,12.7143,13.1108,13.3115,13.7041 ,13.9028,14.1011,14.4781,14.8122, 15.1495,15.6524,15.9882,16.3235,16.8283 ,17.165,17.5021,17.8399,18.1773,18.5161 ,19.0242,19.3638,19.8733,20.213,20.7247 ,21.2343,21.5754,21.9167,22.2586, 22.6052,22.9445,23.2879,23.8008,24.1426 ,24.4867,24.8314,25.1768,25.5213, 25.8661,26.3847,26.7348,27.08,27.593, 27.937,28.2825,28.6285,29.1467,29.493, 29.7074)
FOOTPRINT_POINT_LONGITUDE = (20.7525,20.3359,19.9234,19.7676, 19.7731,19.7785,19.7837,19.7907,19.7971 ,19.801,19.8047,19.8096,19.8125,19.8153 ,19.8179,19.8202,19.8224,19.8244, 19.8267,19.8279,19.8291,19.8303,19.8311 ,19.8313,19.8312,19.8309,19.8305, 19.8299,19.8286,19.8267,19.8253,19.8236 ,19.8219,19.8187,19.8155,19.813,19.809, 19.806,19.8029,19.7997,19.7963,19.7929, 19.7907,19.7885,19.7837,19.7788,19.7737 ,19.7685,20.0438,20.2591,20.539,20.8723 ,21.1348,21.1347,21.1355,21.1376, 21.1348,21.1351,21.1349,21.1333,21.1338 ,21.1364,21.1375,21.1382,21.1384, 21.1393,21.1397,21.1403,21.141,21.1412, 21.1423,21.1432,21.1443,21.1455,21.146, 21.1481,21.148,21.1488,21.1495,21.1505, 21.1552,21.1537,21.1554,21.1557,21.1557 ,21.1573,21.1593,21.1618,21.1633,21.165 ,21.1684,21.1742,21.1758,21.1739, 21.1742,21.1757,21.1774,21.1794,21.1813 ,20.7525)
ORBIT_NUMBER = 7311
ORBITAL_ECCENTRICITY = 0.573
ORBITAL_INCLINATION = 86.79
ORBITAL_SEMIMAJOR_AXIS = 8760.37
PERIAPSIS_ALTITUDE = 344.2
PERIAPSIS_ARGUMENT_ANGLE = 155.77
PERIAPSIS_TIME = 2009-09-14T07:47:18.000Z
SPACECRAFT_ORIENTATION = (0.0,-1.0,0.0)
^MEX_ORIENTATION_DESC = "MEX_ORIENTATION_DESC.TXT"
SPACECRAFT_POINTING_MODE = ACROSSTRACK
^MEX_POINTING_DESC = "MEX_POINTING_DESC.TXT"
RIGHT_ASCENSION = -1e+32
DECLINATION = -1e+32
OFFSET_ANGLE = 0.4
SPACECRAFT_SOLAR_DISTANCE = 2.24885e+08
TARGET_NAME = MARS
/* CAMERA DATA ELEMENTS */
DETECTOR_TEMPERATURE = 18.7783
FOCAL_PLANE_TEMPERATURE = 8.5833
INST_CMPRS_NAME = "DISCRETE COSINE TRANSFORMATION (DCT)"
INST_CMPRS_RATIO = 10.1117
INST_CMPRS_QUALITY = 0
INST_CMPRS_QUANTZ_TBL_ID = 0
INSTRUMENT_TEMPERATURE = 11.4379
LENS_TEMPERATURE = 9.195
MACROPIXEL_SIZE = 4
MISSING_FRAMES = 0
PIXEL_SUBSAMPLING_FLAG = N
SIGNAL_CHAIN_ID = 3
/* RADIOMETRIC DATA ELEMENTS */
BANDWIDTH = 177.0
CENTER_FILTER_WAVELENGTH = 676.5
RADIANCE_OFFSET = 4.50879
RADIANCE_SCALING_FACTOR = 0.0146719
REFLECTANCE_SCALING_FACTOR = 0.000393429
MEX:REFLECTANCE_OFFSET = 0.120904
/* IMAGE OBJECT DEFINITIONS */
OBJECT = IMAGE
  INTERCHANGE_FORMAT = BINARY
  LINES = 20656
  LINE_SAMPLES = 1639
  SAMPLE_TYPE = UNSIGNED_INTEGER
  SAMPLE_BITS = 8
  BANDS = 1
  BAND_STORAGE_TYPE = BAND_SEQUENTIAL
  MAXIMUM = 255
  MEAN = 135.427
  MINIMUM = 1
  STANDARD_DEVIATION = 27.7781
END_OBJECT = IMAGE
/* MAP OBJECT DEFINITIONS */
OBJECT = IMAGE_MAP_PROJECTION
  ^DATA_SET_MAP_PROJECTION_CATALOG= "DSMAP.CAT"
  A_AXIS_RADIUS = 3396.0
  B_AXIS_RADIUS = 3396.0
  C_AXIS_RADIUS = 3396.0
  CENTER_LATITUDE = 0.0
  CENTER_LONGITUDE = 20.0
  COORDINATE_SYSTEM_NAME = PLANETOGRAPHIC
  COORDINATE_SYSTEM_TYPE = "BODY-FIXED ROTATING"
  EASTERNMOST_LONGITUDE = 21.1813
  FIRST_STANDARD_PARALLEL = "N/A"
  LINE_FIRST_PIXEL = 1
  LINE_LAST_PIXEL = 20656
  LINE_PROJECTION_OFFSET = 35243.625
  MAP_PROJECTION_ROTATION = 0.0
  MAP_PROJECTION_TYPE = SINUSOIDAL
  MAP_RESOLUTION = 1185.42760773333
  MAP_SCALE = 0.05
  MAXIMUM_LATITUDE = 29.7074
  MINIMUM_LATITUDE = 12.3096
  POSITIVE_LONGITUDE_DIRECTION = EAST
  REFERENCE_LATITUDE = "N/A"
  REFERENCE_LONGITUDE = "N/A"
  SAMPLE_FIRST_PIXEL = 1
  SAMPLE_LAST_PIXEL = 1639
  SAMPLE_PROJECTION_OFFSET = 270.875
  SECOND_STANDARD_PARALLEL = "N/A"
  WESTERNMOST_LONGITUDE = 19.7676
END_OBJECT = IMAGE_MAP_PROJECTION
/* The JPEG2000 image data file associated with this label. */
OBJECT = COMPRESSED_FILE
  FILE_NAME = "H7311_0000_P23.JP2"
  RECORD_TYPE = UNDEFINED
  FILE_RECORDS = UNK
  ENCODING_TYPE = "JP2"
  INTERCHANGE_FORMAT = BINARY
  UNCOMPRESSED_FILE_NAME = "H7311_0000_P23.IMG"
  REQUIRED_STORAGE_BYTES = "33874852"
  ^DESCRIPTION = "JP2INFO.TXT"
END_OBJECT = COMPRESSED_FILE
END
