PDS_VERSION_ID = PDS3
/* FILE DATA ELEMENTS */
RECORD_TYPE = STREAM
/* POINTERS TO DATA OBJECTS */
^COMPRESSED_FILE = "H7312_0000_IR3.JP2"
/* IDENTIFICATION DATA ELEMENTS */
DATA_SET_ID = "MEX-M-HRSC-5-REFDR-MAPPROJECTED-V3.0"
DATA_SET_NAME = "MARS EXPRESS HRSC MAP PROJECTED REFDR V3.0"
DETECTOR_ID = MEX_HRSC_IR
EVENT_TYPE = "MARS-REGIONAL-MAPPING-Vo-Te"
INSTRUMENT_HOST_ID = MEX
INSTRUMENT_HOST_NAME = "MARS EXPRESS"
INSTRUMENT_ID = HRSC
INSTRUMENT_NAME = "HIGH RESOLUTION STEREO CAMERA"
MISSION_NAME = "MARS EXPRESS"
MISSION_PHASE_NAME = ME_Phase_18
PROCESSING_LEVEL_ID = 3
PRODUCT_CREATION_TIME = 2016-06-30T16:05:12.000Z
PRODUCT_ID = "H7312_0000_IR3.JP2"
RELEASE_ID = 0081
REVISION_ID = 0000
/* QUALITY DATA ELEMENTS */
DATA_QUALITY_ID = 1
DATA_QUALITY_DESC = "Data calculated based on original SPICE kernels"
/* TIME DATA ELEMENTS */
SPACECRAFT_CLOCK_START_COUNT = "1/0201019070.09078"
SPACECRAFT_CLOCK_STOP_COUNT = "1/0201019389.26203"
START_TIME = 2009-09-14T14:37:58.942Z
STOP_TIME = 2009-09-14T14:42:11.606Z
/* ORBITAL DATA ELEMENTS */
ASCENDING_NODE_LONGITUDE = 77.95
MAXIMUM_RESOLUTION = 114.7
FOOTPRINT_POINT_LATITUDE = (34.7178,34.7085,34.6965,34.6553, 34.1077,33.743,33.3752,33.006,32.6377, 32.3249,32.0164,31.7077,31.2414,30.9305 ,30.6123,30.3056,29.9935,29.524,29.2114 ,28.8979,28.4274,28.113,27.7983,27.4833 ,27.1675,26.8514,26.3766,26.0596, 25.7427,25.4256,25.1082,24.7906,24.4728 ,24.1546,23.8362,23.5176,23.1987, 22.7199,22.4006,22.0811,21.7612,21.4412 ,21.1209,20.8004,20.4796,19.9987, 19.6778,19.3568,19.0356,18.7146,18.4698 ,18.4762,18.4791,18.6444,18.9659, 19.2872,19.6086,20.0903,20.4112,20.7323 ,21.2139,21.5345,21.855,22.1752,22.6553 ,22.9748,23.2941,23.6134,23.9323, 24.2509,24.7287,25.0473,25.3655,25.6833 ,26.0008,26.4767,26.7937,27.1076, 27.4268,27.7423,28.0581,28.3732,28.6877 ,29.1566,29.6293,29.9423,30.2551, 30.5672,30.879,31.1906,31.502,31.8127, 32.123,32.4317,32.7583,33.1274,33.4955, 34.0472,34.4139,34.7178)
FOOTPRINT_POINT_LONGITUDE = (279.462,278.993,278.521,278.013, 278.037,278.052,278.067,278.08,278.094, 278.104,278.116,278.127,278.142,278.151 ,278.157,278.169,278.178,278.191, 278.199,278.207,278.219,278.226,278.233 ,278.24,278.247,278.253,278.261,278.267 ,278.272,278.277,278.282,278.287, 278.291,278.296,278.3,278.303,278.307, 278.312,278.315,278.318,278.32,278.323, 278.325,278.327,278.329,278.331,278.332 ,278.333,278.334,278.335,278.454, 278.908,279.205,279.603,279.603,279.603 ,279.603,279.604,279.604,279.604, 279.604,279.604,279.604,279.604,279.604 ,279.604,279.604,279.604,279.604, 279.604,279.604,279.604,279.604,279.604 ,279.604,279.604,279.604,279.605, 279.604,279.604,279.604,279.604,279.604 ,279.604,279.604,279.604,279.604, 279.604,279.604,279.603,279.603,279.603 ,279.603,279.603,279.603,279.603, 279.603,279.602,279.602,279.462)
ORBIT_NUMBER = 7312
ORBITAL_ECCENTRICITY = 0.574
ORBITAL_INCLINATION = 86.8
ORBITAL_SEMIMAJOR_AXIS = 8764.54
PERIAPSIS_ALTITUDE = 343.9
PERIAPSIS_ARGUMENT_ANGLE = 155.61
PERIAPSIS_TIME = 2009-09-14T14:41:06.000Z
SPACECRAFT_ORIENTATION = (0.0,-1.0,0.0)
^MEX_ORIENTATION_DESC = "MEX_ORIENTATION_DESC.TXT"
SPACECRAFT_POINTING_MODE = ACROSSTRACK
^MEX_POINTING_DESC = "MEX_POINTING_DESC.TXT"
RIGHT_ASCENSION = -1e+32
DECLINATION = -1e+32
OFFSET_ANGLE = -0.2
SPACECRAFT_SOLAR_DISTANCE = 2.24941e+08
TARGET_NAME = MARS
/* CAMERA DATA ELEMENTS */
DETECTOR_TEMPERATURE = 17.5549
FOCAL_PLANE_TEMPERATURE = 8.5833
INST_CMPRS_NAME = "DISCRETE COSINE TRANSFORMATION (DCT)"
INST_CMPRS_RATIO = 11.6414
INST_CMPRS_QUALITY = 0
INST_CMPRS_QUANTZ_TBL_ID = 0
INSTRUMENT_TEMPERATURE = 11.234
LENS_TEMPERATURE = 8.9911
MACROPIXEL_SIZE = 8
MISSING_FRAMES = 0
PIXEL_SUBSAMPLING_FLAG = N
SIGNAL_CHAIN_ID = 2
/* RADIOMETRIC DATA ELEMENTS */
BANDWIDTH = 81.0
CENTER_FILTER_WAVELENGTH = 955.5
RADIANCE_OFFSET = 0.949089
RADIANCE_SCALING_FACTOR = 0.00596688
REFLECTANCE_SCALING_FACTOR = 0.000651351
MEX:REFLECTANCE_OFFSET = 0.103603
/* IMAGE OBJECT DEFINITIONS */
OBJECT = IMAGE
  INTERCHANGE_FORMAT = BINARY
  LINES = 9607
  LINE_SAMPLES = 862
  SAMPLE_TYPE = UNSIGNED_INTEGER
  SAMPLE_BITS = 8
  BANDS = 1
  BAND_STORAGE_TYPE = BAND_SEQUENTIAL
  MAXIMUM = 255
  MEAN = 131.316
  MINIMUM = 1
  STANDARD_DEVIATION = 24.4738
END_OBJECT = IMAGE
/* MAP OBJECT DEFINITIONS */
OBJECT = IMAGE_MAP_PROJECTION
  ^DATA_SET_MAP_PROJECTION_CATALOG= "DSMAP.CAT"
  A_AXIS_RADIUS = 3396.0
  B_AXIS_RADIUS = 3396.0
  C_AXIS_RADIUS = 3396.0
  CENTER_LATITUDE = 0.0
  CENTER_LONGITUDE = 279.0
  COORDINATE_SYSTEM_NAME = PLANETOGRAPHIC
  COORDINATE_SYSTEM_TYPE = "BODY-FIXED ROTATING"
  EASTERNMOST_LONGITUDE = 279.605
  FIRST_STANDARD_PARALLEL = "N/A"
  LINE_FIRST_PIXEL = 1
  LINE_LAST_PIXEL = 9607
  LINE_PROJECTION_OFFSET = 20549.0625
  MAP_PROJECTION_ROTATION = 0.0
  MAP_PROJECTION_TYPE = SINUSOIDAL
  MAP_RESOLUTION = 592.713803866667
  MAP_SCALE = 0.1
  MAXIMUM_LATITUDE = 34.7178
  MINIMUM_LATITUDE = 18.4698
  POSITIVE_LONGITUDE_DIRECTION = EAST
  REFERENCE_LATITUDE = "N/A"
  REFERENCE_LONGITUDE = "N/A"
  SAMPLE_FIRST_PIXEL = 1
  SAMPLE_LAST_PIXEL = 862
  SAMPLE_PROJECTION_OFFSET = 503.5625
  SECOND_STANDARD_PARALLEL = "N/A"
  WESTERNMOST_LONGITUDE = 278.013
END_OBJECT = IMAGE_MAP_PROJECTION
/* The JPEG2000 image data file associated with this label. */
OBJECT = COMPRESSED_FILE
  FILE_NAME = "H7312_0000_IR3.JP2"
  RECORD_TYPE = UNDEFINED
  FILE_RECORDS = UNK
  ENCODING_TYPE = "JP2"
  INTERCHANGE_FORMAT = BINARY
  UNCOMPRESSED_FILE_NAME = "H7312_0000_IR3.IMG"
  REQUIRED_STORAGE_BYTES = "8299336"
  ^DESCRIPTION = "JP2INFO.TXT"
END_OBJECT = COMPRESSED_FILE
END
