PDS_VERSION_ID = PDS3
/* FILE DATA ELEMENTS */
RECORD_TYPE = STREAM
/* POINTERS TO DATA OBJECTS */
^COMPRESSED_FILE = "H7313_0000_BL3.JP2"
/* IDENTIFICATION DATA ELEMENTS */
DATA_SET_ID = "MEX-M-HRSC-5-REFDR-MAPPROJECTED-V3.0"
DATA_SET_NAME = "MARS EXPRESS HRSC MAP PROJECTED REFDR V3.0"
DETECTOR_ID = MEX_HRSC_BLUE
EVENT_TYPE = "MARS-REGIONAL-MAPPING-Vo-Te-Eo"
INSTRUMENT_HOST_ID = MEX
INSTRUMENT_HOST_NAME = "MARS EXPRESS"
INSTRUMENT_ID = HRSC
INSTRUMENT_NAME = "HIGH RESOLUTION STEREO CAMERA"
MISSION_NAME = "MARS EXPRESS"
MISSION_PHASE_NAME = ME_Phase_18
PROCESSING_LEVEL_ID = 3
PRODUCT_CREATION_TIME = 2016-06-30T16:05:12.000Z
PRODUCT_ID = "H7313_0000_BL3.JP2"
RELEASE_ID = 0081
REVISION_ID = 0000
/* QUALITY DATA ELEMENTS */
DATA_QUALITY_ID = 1
DATA_QUALITY_DESC = "Data calculated based on original SPICE kernels"
/* TIME DATA ELEMENTS */
SPACECRAFT_CLOCK_START_COUNT = "1/0201044369.07302"
SPACECRAFT_CLOCK_STOP_COUNT = "1/0201044784.38421"
START_TIME = 2009-09-14T21:40:17.115Z
STOP_TIME = 2009-09-14T21:45:17.291Z
/* ORBITAL DATA ELEMENTS */
ASCENDING_NODE_LONGITUDE = 77.93
MAXIMUM_RESOLUTION = 140.7
FOOTPRINT_POINT_LATITUDE = (3.8683,3.87312,3.87845,3.88206,3.44776 ,3.00278,2.70463,2.40692,1.95339, 1.64974,1.34664,1.03813,0.728891, 0.420041,0.105837,-0.20864,-0.682995, -1.00318,-1.32272,-1.80981,-2.13483, -2.62988,-2.9598,-3.29541,-3.63122, -4.14068,-4.48136,-4.8279,-5.17364, -5.52495,-5.87583,-6.23254,-6.76945, -7.13042,-7.49556,-8.04747,-8.41818, -8.79396,-9.17135,-9.55201,-9.93642, -10.3228,-10.7128,-11.107,-11.5041, -11.9035,-12.3075,-12.7152,-13.1276, -13.4554,-13.4636,-13.4696,-13.4743, -13.4812,-13.2748,-12.8616,-12.452, -12.0479,-11.6457,-11.2475,-10.8522, -10.4613,-9.87974,-9.3055,-8.92627, -8.54984,-8.17789,-7.80715,-7.44064, -6.89543,-6.53437,-6.17783,-5.82239, -5.47089,-5.12068,-4.7745,-4.42892, -4.08776,-3.74633,-3.41053,-2.90761, -2.57688,-2.08272,-1.75755,-1.27113, -0.950962,-0.471559,-0.156971,0.158068, 0.470967,0.780211,1.09014,1.39742, 1.70106,2.00525,2.30885,2.60671,2.90507 ,3.35227,3.8683)
FOOTPRINT_POINT_LONGITUDE = (178.598,178.189,177.736,177.424, 177.297,177.286,177.278,177.27,177.259, 177.25,177.242,177.233,177.225,177.216, 177.207,177.198,177.183,177.174,177.164 ,177.148,177.137,177.121,177.109, 177.098,177.087,177.068,177.056,177.043 ,177.03,177.017,177.004,176.99,176.969, 176.954,176.939,176.916,176.9,176.884, 176.868,176.851,176.833,176.815,176.797 ,176.778,176.759,176.739,176.718, 176.697,176.678,177.085,177.532,177.89, 178.203,178.716,179.038,179.029,179.021 ,179.012,179.005,178.996,178.988, 178.981,178.971,178.962,178.956,178.95, 178.944,178.938,178.933,178.926,178.921 ,178.917,178.912,178.908,178.904, 178.899,178.896,178.892,178.888,178.885 ,178.88,178.877,178.872,178.869,178.864 ,178.862,178.858,178.855,178.853,178.85 ,178.848,178.846,178.844,178.842,178.84 ,178.838,178.836,178.835,178.832, 178.598)
ORBIT_NUMBER = 7313
ORBITAL_ECCENTRICITY = 0.573
ORBITAL_INCLINATION = 86.81
ORBITAL_SEMIMAJOR_AXIS = 8752.39
PERIAPSIS_ALTITUDE = 344.58
PERIAPSIS_ARGUMENT_ANGLE = 155.42
PERIAPSIS_TIME = 2009-09-14T21:34:46.000Z
SPACECRAFT_ORIENTATION = (0.0,-1.0,0.0)
^MEX_ORIENTATION_DESC = "MEX_ORIENTATION_DESC.TXT"
SPACECRAFT_POINTING_MODE = ACROSSTRACK
^MEX_POINTING_DESC = "MEX_POINTING_DESC.TXT"
RIGHT_ASCENSION = -1e+32
DECLINATION = -1e+32
OFFSET_ANGLE = -0.2
SPACECRAFT_SOLAR_DISTANCE = 2.24997e+08
TARGET_NAME = MARS
/* CAMERA DATA ELEMENTS */
DETECTOR_TEMPERATURE = 18.5744
FOCAL_PLANE_TEMPERATURE = 8.5833
INST_CMPRS_NAME = "DISCRETE COSINE TRANSFORMATION (DCT)"
INST_CMPRS_RATIO = 27.4786
INST_CMPRS_QUALITY = 0
INST_CMPRS_QUANTZ_TBL_ID = 0
INSTRUMENT_TEMPERATURE = 11.234
LENS_TEMPERATURE = 9.195
MACROPIXEL_SIZE = 8
MISSING_FRAMES = 0
PIXEL_SUBSAMPLING_FLAG = N
SIGNAL_CHAIN_ID = 2
/* RADIOMETRIC DATA ELEMENTS */
BANDWIDTH = 76.0
CENTER_FILTER_WAVELENGTH = 444.0
RADIANCE_OFFSET = 0.788059
RADIANCE_SCALING_FACTOR = 0.000643839
REFLECTANCE_SCALING_FACTOR = 3.34881e-05
MEX:REFLECTANCE_OFFSET = 0.0409895
/* IMAGE OBJECT DEFINITIONS */
OBJECT = IMAGE
  INTERCHANGE_FORMAT = BINARY
  LINES = 10289
  LINE_SAMPLES = 1395
  SAMPLE_TYPE = UNSIGNED_INTEGER
  SAMPLE_BITS = 8
  BANDS = 1
  BAND_STORAGE_TYPE = BAND_SEQUENTIAL
  MAXIMUM = 255
  MEAN = 153.822
  MINIMUM = 1
  STANDARD_DEVIATION = 33.6603
END_OBJECT = IMAGE
/* MAP OBJECT DEFINITIONS */
OBJECT = IMAGE_MAP_PROJECTION
  ^DATA_SET_MAP_PROJECTION_CATALOG= "DSMAP.CAT"
  A_AXIS_RADIUS = 3396.0
  B_AXIS_RADIUS = 3396.0
  C_AXIS_RADIUS = 3396.0
  CENTER_LATITUDE = 0.0
  CENTER_LONGITUDE = 178.0
  COORDINATE_SYSTEM_NAME = PLANETOGRAPHIC
  COORDINATE_SYSTEM_TYPE = "BODY-FIXED ROTATING"
  EASTERNMOST_LONGITUDE = 179.038
  FIRST_STANDARD_PARALLEL = "N/A"
  LINE_FIRST_PIXEL = 1
  LINE_LAST_PIXEL = 10289
  LINE_PROJECTION_OFFSET = 2303.0625
  MAP_PROJECTION_ROTATION = 0.0
  MAP_PROJECTION_TYPE = SINUSOIDAL
  MAP_RESOLUTION = 592.713803866667
  MAP_SCALE = 0.1
  MAXIMUM_LATITUDE = 3.88206
  MINIMUM_LATITUDE = -13.4812
  POSITIVE_LONGITUDE_DIRECTION = EAST
  REFERENCE_LATITUDE = "N/A"
  REFERENCE_LONGITUDE = "N/A"
  SAMPLE_FIRST_PIXEL = 1
  SAMPLE_LAST_PIXEL = 1395
  SAMPLE_PROJECTION_OFFSET = 790.9375
  SECOND_STANDARD_PARALLEL = "N/A"
  WESTERNMOST_LONGITUDE = 176.678
END_OBJECT = IMAGE_MAP_PROJECTION
/* The JPEG2000 image data file associated with this label. */
OBJECT = COMPRESSED_FILE
  FILE_NAME = "H7313_0000_BL3.JP2"
  RECORD_TYPE = UNDEFINED
  FILE_RECORDS = UNK
  ENCODING_TYPE = "JP2"
  INTERCHANGE_FORMAT = BINARY
  UNCOMPRESSED_FILE_NAME = "H7313_0000_BL3.IMG"
  REQUIRED_STORAGE_BYTES = "14372685"
  ^DESCRIPTION = "JP2INFO.TXT"
END_OBJECT = COMPRESSED_FILE
END
