PDS_VERSION_ID = PDS3
/* FILE DATA ELEMENTS */
RECORD_TYPE = STREAM
/* POINTERS TO DATA OBJECTS */
^COMPRESSED_FILE = "H7321_0000_BL3.JP2"
/* IDENTIFICATION DATA ELEMENTS */
DATA_SET_ID = "MEX-M-HRSC-5-REFDR-MAPPROJECTED-V3.0"
DATA_SET_NAME = "MARS EXPRESS HRSC MAP PROJECTED REFDR V3.0"
DETECTOR_ID = MEX_HRSC_BLUE
EVENT_TYPE = "MARS-REGIONAL-MAPPING-Vo-Te-Pf"
INSTRUMENT_HOST_ID = MEX
INSTRUMENT_HOST_NAME = "MARS EXPRESS"
INSTRUMENT_ID = HRSC
INSTRUMENT_NAME = "HIGH RESOLUTION STEREO CAMERA"
MISSION_NAME = "MARS EXPRESS"
MISSION_PHASE_NAME = ME_Phase_18
PROCESSING_LEVEL_ID = 3
PRODUCT_CREATION_TIME = 2016-06-30T16:05:12.000Z
PRODUCT_ID = "H7321_0000_BL3.JP2"
RELEASE_ID = 0081
REVISION_ID = 0000
/* QUALITY DATA ELEMENTS */
DATA_QUALITY_ID = 1
DATA_QUALITY_DESC = "Data calculated based on original SPICE kernels"
/* TIME DATA ELEMENTS */
SPACECRAFT_CLOCK_START_COUNT = "1/0201242602.09059"
SPACECRAFT_CLOCK_STOP_COUNT = "1/0201242839.07936"
START_TIME = 2009-09-17T04:44:01.416Z
STOP_TIME = 2009-09-17T04:46:51.666Z
/* ORBITAL DATA ELEMENTS */
ASCENDING_NODE_LONGITUDE = 77.77
MAXIMUM_RESOLUTION = 55.6
FOOTPRINT_POINT_LATITUDE = (28.0156,28.0126,28.0094,27.7949, 27.5749,27.3548,27.1348,26.9147,26.5847 ,26.3647,26.1447,25.9248,25.7047, 25.4849,25.265,24.9352,24.7154,24.3858, 24.166,23.9464,23.7268,23.5072,23.2877, 23.0683,22.8489,22.6293,22.4101,22.1909 ,21.9718,21.7527,21.5337,21.3148, 21.0959,20.8771,20.6584,20.4397,20.2212 ,20.0026,19.7842,19.5659,19.3477, 19.1296,18.9116,18.6936,18.4757,18.258, 18.0404,17.7142,17.4969,17.0625,17.0031 ,17.0025,17.0006,17.2181,17.4355,17.653 ,17.8707,18.0884,18.3063,18.5242, 18.7423,18.9605,19.1788,19.3972,19.6156 ,19.8341,20.0527,20.2714,20.4903, 20.7092,20.9282,21.1472,21.3663,21.5856 ,21.8048,22.1339,22.463,22.6825,22.902, 23.1219,23.3416,23.5614,23.7812,24.0011 ,24.331,24.551,24.7711,25.1011,25.3212, 25.6515,25.8717,26.092,26.4224,26.6427, 26.8629,27.0832,27.3036,27.6341,27.8544 ,28.0156)
FOOTPRINT_POINT_LONGITUDE = (92.0348,91.4713,91.0957,90.9052, 90.9089,90.9125,90.9158,90.9191,90.9237 ,90.9267,90.9296,90.9323,90.9352, 90.9377,90.94,90.9435,90.9456,90.9487, 90.9506,90.9524,90.9539,90.9556,90.957, 90.9583,90.9596,90.961,90.962,90.9629, 90.9637,90.9644,90.9651,90.9656,90.966, 90.9664,90.9667,90.9668,90.9669,90.967, 90.967,90.9668,90.9666,90.9662,90.9658, 90.9653,90.9648,90.9641,90.9634,90.962, 90.9611,90.9589,91.2416,91.6116,92.1423 ,92.282,92.2818,92.2815,92.2813,92.2811 ,92.2809,92.2807,92.2804,92.2803, 92.2802,92.28,92.2798,92.2796,92.2794, 92.2792,92.2791,92.2791,92.2788,92.2786 ,92.2785,92.2784,92.2783,92.2782, 92.2779,92.2776,92.2774,92.2776,92.2776 ,92.2776,92.2775,92.2774,92.2773, 92.2773,92.2772,92.277,92.2769,92.2769, 92.2768,92.2769,92.2768,92.2768,92.2765 ,92.2765,92.2765,92.2763,92.2762, 92.0348)
ORBIT_NUMBER = 7321
ORBITAL_ECCENTRICITY = 0.573
ORBITAL_INCLINATION = 86.81
ORBITAL_SEMIMAJOR_AXIS = 8761.36
PERIAPSIS_ALTITUDE = 344.52
PERIAPSIS_ARGUMENT_ANGLE = 154.0
PERIAPSIS_TIME = 2009-09-17T04:44:27.000Z
SPACECRAFT_ORIENTATION = (0.0,-1.0,0.0)
^MEX_ORIENTATION_DESC = "MEX_ORIENTATION_DESC.TXT"
SPACECRAFT_POINTING_MODE = NADIR
^MEX_POINTING_DESC = "MEX_POINTING_DESC.TXT"
RIGHT_ASCENSION = -1e+32
DECLINATION = -1e+32
OFFSET_ANGLE = -1e+32
SPACECRAFT_SOLAR_DISTANCE = 2.25447e+08
TARGET_NAME = MARS
/* CAMERA DATA ELEMENTS */
DETECTOR_TEMPERATURE = 18.3705
FOCAL_PLANE_TEMPERATURE = 8.5833
INST_CMPRS_NAME = "DISCRETE COSINE TRANSFORMATION (DCT)"
INST_CMPRS_RATIO = 12.072
INST_CMPRS_QUALITY = 0
INST_CMPRS_QUANTZ_TBL_ID = 0
INSTRUMENT_TEMPERATURE = 11.4379
LENS_TEMPERATURE = 8.7872
MACROPIXEL_SIZE = 4
MISSING_FRAMES = 0
PIXEL_SUBSAMPLING_FLAG = N
SIGNAL_CHAIN_ID = 2
/* RADIOMETRIC DATA ELEMENTS */
BANDWIDTH = 76.0
CENTER_FILTER_WAVELENGTH = 444.0
RADIANCE_OFFSET = 0.602618
RADIANCE_SCALING_FACTOR = 0.000996978
REFLECTANCE_SCALING_FACTOR = 5.20629e-05
MEX:REFLECTANCE_OFFSET = 0.0314691
/* IMAGE OBJECT DEFINITIONS */
OBJECT = IMAGE
  INTERCHANGE_FORMAT = BINARY
  LINES = 13071
  LINE_SAMPLES = 1574
  SAMPLE_TYPE = UNSIGNED_INTEGER
  SAMPLE_BITS = 8
  BANDS = 1
  BAND_STORAGE_TYPE = BAND_SEQUENTIAL
  MAXIMUM = 255
  MEAN = 156.832
  MINIMUM = 1
  STANDARD_DEVIATION = 23.5821
END_OBJECT = IMAGE
/* MAP OBJECT DEFINITIONS */
OBJECT = IMAGE_MAP_PROJECTION
  ^DATA_SET_MAP_PROJECTION_CATALOG= "DSMAP.CAT"
  A_AXIS_RADIUS = 3396.0
  B_AXIS_RADIUS = 3396.0
  C_AXIS_RADIUS = 3396.0
  CENTER_LATITUDE = 0.0
  CENTER_LONGITUDE = 92.0
  COORDINATE_SYSTEM_NAME = PLANETOGRAPHIC
  COORDINATE_SYSTEM_TYPE = "BODY-FIXED ROTATING"
  EASTERNMOST_LONGITUDE = 92.282
  FIRST_STANDARD_PARALLEL = "N/A"
  LINE_FIRST_PIXEL = 1
  LINE_LAST_PIXEL = 13071
  LINE_PROJECTION_OFFSET = 33222.875
  MAP_PROJECTION_ROTATION = 0.0
  MAP_PROJECTION_TYPE = SINUSOIDAL
  MAP_RESOLUTION = 1185.42760773333
  MAP_SCALE = 0.05
  MAXIMUM_LATITUDE = 28.0156
  MINIMUM_LATITUDE = 17.0006
  POSITIVE_LONGITUDE_DIRECTION = EAST
  REFERENCE_LATITUDE = "N/A"
  REFERENCE_LONGITUDE = "N/A"
  SAMPLE_FIRST_PIXEL = 1
  SAMPLE_LAST_PIXEL = 1574
  SAMPLE_PROJECTION_OFFSET = 1219.125
  SECOND_STANDARD_PARALLEL = "N/A"
  WESTERNMOST_LONGITUDE = 90.90519999999999
END_OBJECT = IMAGE_MAP_PROJECTION
/* The JPEG2000 image data file associated with this label. */
OBJECT = COMPRESSED_FILE
  FILE_NAME = "H7321_0000_BL3.JP2"
  RECORD_TYPE = UNDEFINED
  FILE_RECORDS = UNK
  ENCODING_TYPE = "JP2"
  INTERCHANGE_FORMAT = BINARY
  UNCOMPRESSED_FILE_NAME = "H7321_0000_BL3.IMG"
  REQUIRED_STORAGE_BYTES = "20592642"
  ^DESCRIPTION = "JP2INFO.TXT"
END_OBJECT = COMPRESSED_FILE
END
