PDS_VERSION_ID = PDS3
/* FILE DATA ELEMENTS */
RECORD_TYPE = STREAM
/* POINTERS TO DATA OBJECTS */
^COMPRESSED_FILE = "H7321_0000_GR3.JP2"
/* IDENTIFICATION DATA ELEMENTS */
DATA_SET_ID = "MEX-M-HRSC-5-REFDR-MAPPROJECTED-V3.0"
DATA_SET_NAME = "MARS EXPRESS HRSC MAP PROJECTED REFDR V3.0"
DETECTOR_ID = MEX_HRSC_GREEN
EVENT_TYPE = "MARS-REGIONAL-MAPPING-Vo-Te-Pf"
INSTRUMENT_HOST_ID = MEX
INSTRUMENT_HOST_NAME = "MARS EXPRESS"
INSTRUMENT_ID = HRSC
INSTRUMENT_NAME = "HIGH RESOLUTION STEREO CAMERA"
MISSION_NAME = "MARS EXPRESS"
MISSION_PHASE_NAME = ME_Phase_18
PROCESSING_LEVEL_ID = 3
PRODUCT_CREATION_TIME = 2016-06-30T16:05:12.000Z
PRODUCT_ID = "H7321_0000_GR3.JP2"
RELEASE_ID = 0081
REVISION_ID = 0000
/* QUALITY DATA ELEMENTS */
DATA_QUALITY_ID = 1
DATA_QUALITY_DESC = "Data calculated based on original SPICE kernels"
/* TIME DATA ELEMENTS */
SPACECRAFT_CLOCK_START_COUNT = "1/0201242602.09059"
SPACECRAFT_CLOCK_STOP_COUNT = "1/0201242839.07936"
START_TIME = 2009-09-17T04:43:50.940Z
STOP_TIME = 2009-09-17T04:46:40.661Z
/* ORBITAL DATA ELEMENTS */
ASCENDING_NODE_LONGITUDE = 77.77
MAXIMUM_RESOLUTION = 55.6
FOOTPRINT_POINT_LATITUDE = (28.0226,28.0216,28.0206,28.0185, 28.0061,27.7866,27.4573,27.1278,26.9082 ,26.6885,26.3589,26.1391,25.9193, 25.6995,25.4796,25.1498,24.9299,24.7099 ,24.49,24.1601,23.9401,23.7202,23.5002, 23.2803,23.0603,22.8403,22.6205,22.4005 ,22.0706,21.8506,21.6307,21.4109,21.191 ,20.9712,20.7514,20.5316,20.3119, 20.0922,19.8726,19.653,19.4334,19.2139, 18.9944,18.775,18.5557,18.3364,18.1171, 17.898,17.5692,17.3502,17.1313,16.9962, 16.9957,16.9942,16.9935,17.2126,17.4318 ,17.6511,17.8705,18.0898,18.3093, 18.5288,18.8583,19.0779,19.2976,19.5173 ,19.7371,19.957,20.1769,20.3968,20.6168 ,20.8368,21.0568,21.2769,21.607,21.8271 ,22.0472,22.2674,22.4876,22.8178, 23.1482,23.3684,23.5886,23.9189,24.2492 ,24.5795,24.7997,25.0199,25.2401, 25.4602,25.7903,26.0104,26.2305,26.5605 ,26.8906,27.1105,27.3304,27.5502, 27.7701,28.0226)
FOOTPRINT_POINT_LONGITUDE = (92.1102,91.8216,91.6207,91.3322, 90.8992,90.903,90.9087,90.9139,90.9173, 90.9206,90.9253,90.9283,90.9311,90.934, 90.9367,90.9404,90.9428,90.945,90.9472, 90.9503,90.9522,90.9539,90.9556,90.9572 ,90.9587,90.96,90.9616,90.9627,90.9642, 90.965,90.9658,90.9665,90.9671,90.9676, 90.9681,90.9684,90.9687,90.9689,90.9691 ,90.969,90.9689,90.9687,90.9684,90.9681 ,90.9678,90.9673,90.9666,90.966,90.9646 ,90.9637,90.9628,91.1943,91.5986, 91.9909,92.277,92.2769,92.2767,92.2767, 92.2766,92.2765,92.2764,92.2763,92.2761 ,92.2761,92.2761,92.2761,92.276,92.2759 ,92.2758,92.2758,92.2758,92.2758, 92.2757,92.2757,92.2757,92.2757,92.2758 ,92.2757,92.2756,92.276,92.2758,92.2758 ,92.2759,92.2759,92.2761,92.2761, 92.2762,92.2762,92.2762,92.2762,92.2764 ,92.2765,92.2766,92.2768,92.2767, 92.2768,92.2769,92.2769,92.2769, 92.1102)
ORBIT_NUMBER = 7321
ORBITAL_ECCENTRICITY = 0.573
ORBITAL_INCLINATION = 86.81
ORBITAL_SEMIMAJOR_AXIS = 8761.36
PERIAPSIS_ALTITUDE = 344.52
PERIAPSIS_ARGUMENT_ANGLE = 154.0
PERIAPSIS_TIME = 2009-09-17T04:44:27.000Z
SPACECRAFT_ORIENTATION = (0.0,-1.0,0.0)
^MEX_ORIENTATION_DESC = "MEX_ORIENTATION_DESC.TXT"
SPACECRAFT_POINTING_MODE = NADIR
^MEX_POINTING_DESC = "MEX_POINTING_DESC.TXT"
RIGHT_ASCENSION = -1e+32
DECLINATION = -1e+32
OFFSET_ANGLE = -1e+32
SPACECRAFT_SOLAR_DISTANCE = 2.25447e+08
TARGET_NAME = MARS
/* CAMERA DATA ELEMENTS */
DETECTOR_TEMPERATURE = 18.3705
FOCAL_PLANE_TEMPERATURE = 8.5833
INST_CMPRS_NAME = "DISCRETE COSINE TRANSFORMATION (DCT)"
INST_CMPRS_RATIO = 20.2253
INST_CMPRS_QUALITY = 0
INST_CMPRS_QUANTZ_TBL_ID = 0
INSTRUMENT_TEMPERATURE = 11.4379
LENS_TEMPERATURE = 8.7872
MACROPIXEL_SIZE = 4
MISSING_FRAMES = 0
PIXEL_SUBSAMPLING_FLAG = N
SIGNAL_CHAIN_ID = 2
/* RADIOMETRIC DATA ELEMENTS */
BANDWIDTH = 88.0
CENTER_FILTER_WAVELENGTH = 538.0
RADIANCE_OFFSET = 1.60238
RADIANCE_SCALING_FACTOR = 0.00269307
REFLECTANCE_SCALING_FACTOR = 0.000117848
MEX:REFLECTANCE_OFFSET = 0.0701198
/* IMAGE OBJECT DEFINITIONS */
OBJECT = IMAGE
  INTERCHANGE_FORMAT = BINARY
  LINES = 13071
  LINE_SAMPLES = 1574
  SAMPLE_TYPE = UNSIGNED_INTEGER
  SAMPLE_BITS = 8
  BANDS = 1
  BAND_STORAGE_TYPE = BAND_SEQUENTIAL
  MAXIMUM = 255
  MEAN = 152.353
  MINIMUM = 2
  STANDARD_DEVIATION = 28.1651
END_OBJECT = IMAGE
/* MAP OBJECT DEFINITIONS */
OBJECT = IMAGE_MAP_PROJECTION
  ^DATA_SET_MAP_PROJECTION_CATALOG= "DSMAP.CAT"
  A_AXIS_RADIUS = 3396.0
  B_AXIS_RADIUS = 3396.0
  C_AXIS_RADIUS = 3396.0
  CENTER_LATITUDE = 0.0
  CENTER_LONGITUDE = 92.0
  COORDINATE_SYSTEM_NAME = PLANETOGRAPHIC
  COORDINATE_SYSTEM_TYPE = "BODY-FIXED ROTATING"
  EASTERNMOST_LONGITUDE = 92.277
  FIRST_STANDARD_PARALLEL = "N/A"
  LINE_FIRST_PIXEL = 1
  LINE_LAST_PIXEL = 13071
  LINE_PROJECTION_OFFSET = 33222.875
  MAP_PROJECTION_ROTATION = 0.0
  MAP_PROJECTION_TYPE = SINUSOIDAL
  MAP_RESOLUTION = 1185.42760773333
  MAP_SCALE = 0.05
  MAXIMUM_LATITUDE = 28.0226
  MINIMUM_LATITUDE = 16.9935
  POSITIVE_LONGITUDE_DIRECTION = EAST
  REFERENCE_LATITUDE = "N/A"
  REFERENCE_LONGITUDE = "N/A"
  SAMPLE_FIRST_PIXEL = 1
  SAMPLE_LAST_PIXEL = 1574
  SAMPLE_PROJECTION_OFFSET = 1219.125
  SECOND_STANDARD_PARALLEL = "N/A"
  WESTERNMOST_LONGITUDE = 90.89919999999999
END_OBJECT = IMAGE_MAP_PROJECTION
/* The JPEG2000 image data file associated with this label. */
OBJECT = COMPRESSED_FILE
  FILE_NAME = "H7321_0000_GR3.JP2"
  RECORD_TYPE = UNDEFINED
  FILE_RECORDS = UNK
  ENCODING_TYPE = "JP2"
  INTERCHANGE_FORMAT = BINARY
  UNCOMPRESSED_FILE_NAME = "H7321_0000_GR3.IMG"
  REQUIRED_STORAGE_BYTES = "20592642"
  ^DESCRIPTION = "JP2INFO.TXT"
END_OBJECT = COMPRESSED_FILE
END
