PDS_VERSION_ID = PDS3
/* FILE DATA ELEMENTS */
RECORD_TYPE = STREAM
/* POINTERS TO DATA OBJECTS */
^COMPRESSED_FILE = "H7321_0000_RE3.JP2"
/* IDENTIFICATION DATA ELEMENTS */
DATA_SET_ID = "MEX-M-HRSC-5-REFDR-MAPPROJECTED-V3.0"
DATA_SET_NAME = "MARS EXPRESS HRSC MAP PROJECTED REFDR V3.0"
DETECTOR_ID = MEX_HRSC_RED
EVENT_TYPE = "MARS-REGIONAL-MAPPING-Vo-Te-Pf"
INSTRUMENT_HOST_ID = MEX
INSTRUMENT_HOST_NAME = "MARS EXPRESS"
INSTRUMENT_ID = HRSC
INSTRUMENT_NAME = "HIGH RESOLUTION STEREO CAMERA"
MISSION_NAME = "MARS EXPRESS"
MISSION_PHASE_NAME = ME_Phase_18
PROCESSING_LEVEL_ID = 3
PRODUCT_CREATION_TIME = 2016-06-30T16:05:12.000Z
PRODUCT_ID = "H7321_0000_RE3.JP2"
RELEASE_ID = 0081
REVISION_ID = 0000
/* QUALITY DATA ELEMENTS */
DATA_QUALITY_ID = 1
DATA_QUALITY_DESC = "Data calculated based on original SPICE kernels"
/* TIME DATA ELEMENTS */
SPACECRAFT_CLOCK_START_COUNT = "1/0201242602.09059"
SPACECRAFT_CLOCK_STOP_COUNT = "1/0201242839.07936"
START_TIME = 2009-09-17T04:44:21.839Z
STOP_TIME = 2009-09-17T04:47:13.888Z
/* ORBITAL DATA ELEMENTS */
ASCENDING_NODE_LONGITUDE = 77.77
MAXIMUM_RESOLUTION = 58.2
FOOTPRINT_POINT_LATITUDE = (27.9981,27.9968,27.9957,27.9934, 27.8064,27.5826,27.2472,26.9122,26.5773 ,26.3541,26.1311,25.9083,25.685,25.4625 ,25.1289,24.7956,24.4624,24.2403, 24.0185,23.7972,23.5756,23.3544,23.0228 ,22.8016,22.5805,22.3602,22.1399, 21.9199,21.6998,21.48,21.2604,21.0409, 20.8216,20.493,20.2741,20.0552,19.7272, 19.509,19.2907,19.0731,18.8553,18.6377, 18.3116,18.0947,17.8779,17.6614,17.4451 ,17.2289,17.0074,17.0067,17.0054, 17.0041,17.0043,17.2205,17.4369,17.6535 ,17.8704,18.0874,18.3047,18.5219, 18.7395,18.9573,19.2848,19.5031,19.7215 ,19.94,20.1588,20.4876,20.707,20.9264, 21.146,21.3658,21.586,21.8061,22.0267, 22.2473,22.4677,22.6881,22.9107,23.131, 23.3525,23.685,23.9066,24.1287,24.462, 24.7954,25.1291,25.3516,25.5745,25.7977 ,26.1326,26.3558,26.5797,26.8028, 27.0263,27.2503,27.586,27.8098,28.034, 27.9981)
FOOTPRINT_POINT_LONGITUDE = (91.9214,91.6695,91.4555,91.0904, 90.8978,90.9013,90.9062,90.9109,90.9153 ,90.9181,90.9208,90.9233,90.9259, 90.9282,90.9314,90.9344,90.9372,90.939, 90.9406,90.9419,90.9434,90.9446,90.9463 ,90.9474,90.9485,90.9492,90.9498, 90.9503,90.9508,90.9512,90.9514,90.9516 ,90.9517,90.9517,90.9515,90.9514,90.951 ,90.9505,90.95,90.9493,90.9486,90.9479, 90.9466,90.9456,90.9445,90.9433,90.942, 90.9407,91.103,91.3306,91.697,92.0509, 92.2957,92.2951,92.2946,92.2942,92.2937 ,92.2932,92.2928,92.2923,92.2918, 92.2913,92.2908,92.2904,92.2899,92.2895 ,92.289,92.2885,92.2881,92.2877,92.2873 ,92.2869,92.2866,92.2862,92.2859, 92.2856,92.2851,92.2846,92.2848,92.2841 ,92.2839,92.2834,92.2831,92.2828, 92.2824,92.282,92.2814,92.2811,92.2808, 92.2806,92.2802,92.2799,92.2798,92.2793 ,92.279,92.2788,92.2782,92.2778,92.2775 ,91.9214)
ORBIT_NUMBER = 7321
ORBITAL_ECCENTRICITY = 0.573
ORBITAL_INCLINATION = 86.81
ORBITAL_SEMIMAJOR_AXIS = 8761.36
PERIAPSIS_ALTITUDE = 344.52
PERIAPSIS_ARGUMENT_ANGLE = 154.0
PERIAPSIS_TIME = 2009-09-17T04:44:27.000Z
SPACECRAFT_ORIENTATION = (0.0,-1.0,0.0)
^MEX_ORIENTATION_DESC = "MEX_ORIENTATION_DESC.TXT"
SPACECRAFT_POINTING_MODE = NADIR
^MEX_POINTING_DESC = "MEX_POINTING_DESC.TXT"
RIGHT_ASCENSION = -1e+32
DECLINATION = -1e+32
OFFSET_ANGLE = -1e+32
SPACECRAFT_SOLAR_DISTANCE = 2.25447e+08
TARGET_NAME = MARS
/* CAMERA DATA ELEMENTS */
DETECTOR_TEMPERATURE = 18.7783
FOCAL_PLANE_TEMPERATURE = 8.5833
INST_CMPRS_NAME = "DISCRETE COSINE TRANSFORMATION (DCT)"
INST_CMPRS_RATIO = 23.9151
INST_CMPRS_QUALITY = 0
INST_CMPRS_QUANTZ_TBL_ID = 0
INSTRUMENT_TEMPERATURE = 11.4379
LENS_TEMPERATURE = 8.7872
MACROPIXEL_SIZE = 4
MISSING_FRAMES = 0
PIXEL_SUBSAMPLING_FLAG = N
SIGNAL_CHAIN_ID = 2
/* RADIOMETRIC DATA ELEMENTS */
BANDWIDTH = 48.0
CENTER_FILTER_WAVELENGTH = 748.0
RADIANCE_OFFSET = 1.21901
RADIANCE_SCALING_FACTOR = 0.00318696
REFLECTANCE_SCALING_FACTOR = 0.000369649
MEX:REFLECTANCE_OFFSET = 0.141391
/* IMAGE OBJECT DEFINITIONS */
OBJECT = IMAGE
  INTERCHANGE_FORMAT = BINARY
  LINES = 13071
  LINE_SAMPLES = 1574
  SAMPLE_TYPE = UNSIGNED_INTEGER
  SAMPLE_BITS = 8
  BANDS = 1
  BAND_STORAGE_TYPE = BAND_SEQUENTIAL
  MAXIMUM = 255
  MEAN = 155.36
  MINIMUM = 1
  STANDARD_DEVIATION = 37.2232
END_OBJECT = IMAGE
/* MAP OBJECT DEFINITIONS */
OBJECT = IMAGE_MAP_PROJECTION
  ^DATA_SET_MAP_PROJECTION_CATALOG= "DSMAP.CAT"
  A_AXIS_RADIUS = 3396.0
  B_AXIS_RADIUS = 3396.0
  C_AXIS_RADIUS = 3396.0
  CENTER_LATITUDE = 0.0
  CENTER_LONGITUDE = 92.0
  COORDINATE_SYSTEM_NAME = PLANETOGRAPHIC
  COORDINATE_SYSTEM_TYPE = "BODY-FIXED ROTATING"
  EASTERNMOST_LONGITUDE = 92.2957
  FIRST_STANDARD_PARALLEL = "N/A"
  LINE_FIRST_PIXEL = 1
  LINE_LAST_PIXEL = 13071
  LINE_PROJECTION_OFFSET = 33222.875
  MAP_PROJECTION_ROTATION = 0.0
  MAP_PROJECTION_TYPE = SINUSOIDAL
  MAP_RESOLUTION = 1185.42760773333
  MAP_SCALE = 0.05
  MAXIMUM_LATITUDE = 28.034
  MINIMUM_LATITUDE = 17.0041
  POSITIVE_LONGITUDE_DIRECTION = EAST
  REFERENCE_LATITUDE = "N/A"
  REFERENCE_LONGITUDE = "N/A"
  SAMPLE_FIRST_PIXEL = 1
  SAMPLE_LAST_PIXEL = 1574
  SAMPLE_PROJECTION_OFFSET = 1219.125
  SECOND_STANDARD_PARALLEL = "N/A"
  WESTERNMOST_LONGITUDE = 90.8978
END_OBJECT = IMAGE_MAP_PROJECTION
/* The JPEG2000 image data file associated with this label. */
OBJECT = COMPRESSED_FILE
  FILE_NAME = "H7321_0000_RE3.JP2"
  RECORD_TYPE = UNDEFINED
  FILE_RECORDS = UNK
  ENCODING_TYPE = "JP2"
  INTERCHANGE_FORMAT = BINARY
  UNCOMPRESSED_FILE_NAME = "H7321_0000_RE3.IMG"
  REQUIRED_STORAGE_BYTES = "20592642"
  ^DESCRIPTION = "JP2INFO.TXT"
END_OBJECT = COMPRESSED_FILE
END
