PDS_VERSION_ID = PDS3
/* FILE DATA ELEMENTS */
RECORD_TYPE = STREAM
/* POINTERS TO DATA OBJECTS */
^COMPRESSED_FILE = "H7325_0000_GR3.JP2"
/* IDENTIFICATION DATA ELEMENTS */
DATA_SET_ID = "MEX-M-HRSC-5-REFDR-MAPPROJECTED-V3.0"
DATA_SET_NAME = "MARS EXPRESS HRSC MAP PROJECTED REFDR V3.0"
DETECTOR_ID = MEX_HRSC_GREEN
EVENT_TYPE = "MARS-REGIONAL-MAPPING-Im-Fl"
INSTRUMENT_HOST_ID = MEX
INSTRUMENT_HOST_NAME = "MARS EXPRESS"
INSTRUMENT_ID = HRSC
INSTRUMENT_NAME = "HIGH RESOLUTION STEREO CAMERA"
MISSION_NAME = "MARS EXPRESS"
MISSION_PHASE_NAME = ME_Phase_18
PROCESSING_LEVEL_ID = 3
PRODUCT_CREATION_TIME = 2016-06-30T16:05:12.000Z
PRODUCT_ID = "H7325_0000_GR3.JP2"
RELEASE_ID = 0081
REVISION_ID = 0000
/* QUALITY DATA ELEMENTS */
DATA_QUALITY_ID = 1
DATA_QUALITY_DESC = "Data calculated based on original SPICE kernels"
/* TIME DATA ELEMENTS */
SPACECRAFT_CLOCK_START_COUNT = "1/0201342258.09064"
SPACECRAFT_CLOCK_STOP_COUNT = "1/0201342540.24797"
START_TIME = 2009-09-18T08:24:53.269Z
STOP_TIME = 2009-09-18T08:27:47.595Z
/* ORBITAL DATA ELEMENTS */
ASCENDING_NODE_LONGITUDE = 77.69
MAXIMUM_RESOLUTION = 69.6
FOOTPRINT_POINT_LATITUDE = (4.94386,4.94746,4.95095,4.95572, 4.95887,4.96189,4.85828,4.64212,4.31966 ,4.10444,3.88954,3.56741,3.35295, 3.13872,2.92478,2.60426,2.39088,2.17767 ,1.96485,1.75179,1.53967,1.32741, 1.11539,0.903612,0.692062,0.480653, 0.269493,0.0586786,-0.152422,-0.362888, -0.573109,-0.88738,-1.09699,-1.30642, -1.51556,-1.72443,-1.93287,-2.14121, -2.34927,-2.55707,-2.7645,-2.97175, -3.17876,-3.38549,-3.59759,-3.80383, -4.00989,-4.2213,-4.63215,-5.04156, -5.44983,-5.6071,-5.61189,-5.61701, -5.62392,-5.62871,-5.63413,-5.43108, -4.81674,-4.40735,-4.09305,-3.88637, -3.57624,-3.36351,-3.0527,-2.84568, -2.63806,-2.43021,-2.22202,-1.90897, -1.70031,-1.49122,-1.28186,-1.07241, -0.862599,-0.652567,-0.442301,-0.23174, -0.0209226,0.190155,0.401474,0.612992, 0.82475,1.03659,1.24883,1.46122,1.67388 ,1.88682,2.20674,2.42008,2.63372, 2.84753,3.06153,3.27594,3.49048,3.70524 ,3.92025,4.24318,4.56656,4.94386)
FOOTPRINT_POINT_LONGITUDE = (49.2982,49.0675,48.8378,48.5092, 48.2819,48.0554,47.8108,47.805,47.7974, 47.7918,47.7862,47.7776,47.7718,47.766, 47.7602,47.7514,47.7454,47.7394,47.7335 ,47.7271,47.7213,47.7151,47.7089, 47.7026,47.6963,47.6898,47.6833,47.6768 ,47.6698,47.6631,47.6564,47.6468, 47.6399,47.633,47.626,47.619,47.6121, 47.605,47.5979,47.5907,47.5836,47.5764, 47.5692,47.5618,47.5544,47.5469,47.5393 ,47.5315,47.516,47.5007,47.4853,47.6206 ,47.9268,48.269,48.6849,48.9757,49.322, 49.4176,49.409,49.4075,49.4041,49.4004, 49.3958,49.3929,49.3893,49.3883,49.3865 ,49.3847,49.3828,49.3791,49.3777, 49.3759,49.374,49.3725,49.3708,49.3692, 49.3677,49.366,49.3643,49.3626,49.361, 49.3594,49.3579,49.3568,49.3553,49.3541 ,49.3527,49.3513,49.3489,49.3479, 49.3468,49.3459,49.345,49.3436,49.3425, 49.3414,49.3402,49.3384,49.3368, 49.2982)
ORBIT_NUMBER = 7325
ORBITAL_ECCENTRICITY = 0.573
ORBITAL_INCLINATION = 86.81
ORBITAL_SEMIMAJOR_AXIS = 8759.68
PERIAPSIS_ALTITUDE = 345.55
PERIAPSIS_ARGUMENT_ANGLE = 153.34
PERIAPSIS_TIME = 2009-09-18T08:19:20.000Z
SPACECRAFT_ORIENTATION = (0.0,-1.0,0.0)
^MEX_ORIENTATION_DESC = "MEX_ORIENTATION_DESC.TXT"
SPACECRAFT_POINTING_MODE = ACROSSTRACK
^MEX_POINTING_DESC = "MEX_POINTING_DESC.TXT"
RIGHT_ASCENSION = -1e+32
DECLINATION = -1e+32
OFFSET_ANGLE = 0.4
SPACECRAFT_SOLAR_DISTANCE = 2.25671e+08
TARGET_NAME = MARS
/* CAMERA DATA ELEMENTS */
DETECTOR_TEMPERATURE = 18.5744
FOCAL_PLANE_TEMPERATURE = 9.195
INST_CMPRS_NAME = "DISCRETE COSINE TRANSFORMATION (DCT)"
INST_CMPRS_RATIO = 18.2705
INST_CMPRS_QUALITY = 0
INST_CMPRS_QUANTZ_TBL_ID = 0
INSTRUMENT_TEMPERATURE = 11.6418
LENS_TEMPERATURE = 9.6028
MACROPIXEL_SIZE = 4
MISSING_FRAMES = 2
PIXEL_SUBSAMPLING_FLAG = N
SIGNAL_CHAIN_ID = 2
/* RADIOMETRIC DATA ELEMENTS */
BANDWIDTH = 88.0
CENTER_FILTER_WAVELENGTH = 538.0
RADIANCE_OFFSET = 1.49756
RADIANCE_SCALING_FACTOR = 0.00442718
REFLECTANCE_SCALING_FACTOR = 0.000194121
MEX:REFLECTANCE_OFFSET = 0.0656643
/* IMAGE OBJECT DEFINITIONS */
OBJECT = IMAGE
  INTERCHANGE_FORMAT = BINARY
  LINES = 12578
  LINE_SAMPLES = 2444
  SAMPLE_TYPE = UNSIGNED_INTEGER
  SAMPLE_BITS = 8
  BANDS = 1
  BAND_STORAGE_TYPE = BAND_SEQUENTIAL
  MAXIMUM = 255
  MEAN = 148.896
  MINIMUM = 1
  STANDARD_DEVIATION = 18.9741
END_OBJECT = IMAGE
/* MAP OBJECT DEFINITIONS */
OBJECT = IMAGE_MAP_PROJECTION
  ^DATA_SET_MAP_PROJECTION_CATALOG= "DSMAP.CAT"
  A_AXIS_RADIUS = 3396.0
  B_AXIS_RADIUS = 3396.0
  C_AXIS_RADIUS = 3396.0
  CENTER_LATITUDE = 0.0
  CENTER_LONGITUDE = 49.0
  COORDINATE_SYSTEM_NAME = PLANETOGRAPHIC
  COORDINATE_SYSTEM_TYPE = "BODY-FIXED ROTATING"
  EASTERNMOST_LONGITUDE = 49.4176
  FIRST_STANDARD_PARALLEL = "N/A"
  LINE_FIRST_PIXEL = 1
  LINE_LAST_PIXEL = 12578
  LINE_PROJECTION_OFFSET = 5895.125
  MAP_PROJECTION_ROTATION = 0.0
  MAP_PROJECTION_TYPE = SINUSOIDAL
  MAP_RESOLUTION = 1185.42760773333
  MAP_SCALE = 0.05
  MAXIMUM_LATITUDE = 4.96189
  MINIMUM_LATITUDE = -5.63413
  POSITIVE_LONGITUDE_DIRECTION = EAST
  REFERENCE_LATITUDE = "N/A"
  REFERENCE_LONGITUDE = "N/A"
  SAMPLE_FIRST_PIXEL = 1
  SAMPLE_LAST_PIXEL = 2444
  SAMPLE_PROJECTION_OFFSET = 1852.125
  SECOND_STANDARD_PARALLEL = "N/A"
  WESTERNMOST_LONGITUDE = 47.4853
END_OBJECT = IMAGE_MAP_PROJECTION
/* The JPEG2000 image data file associated with this label. */
OBJECT = COMPRESSED_FILE
  FILE_NAME = "H7325_0000_GR3.JP2"
  RECORD_TYPE = UNDEFINED
  FILE_RECORDS = UNK
  ENCODING_TYPE = "JP2"
  INTERCHANGE_FORMAT = BINARY
  UNCOMPRESSED_FILE_NAME = "H7325_0000_GR3.IMG"
  REQUIRED_STORAGE_BYTES = "30760184"
  ^DESCRIPTION = "JP2INFO.TXT"
END_OBJECT = COMPRESSED_FILE
END
