PDS_VERSION_ID = PDS3
/* FILE DATA ELEMENTS */
RECORD_TYPE = STREAM
/* POINTERS TO DATA OBJECTS */
^COMPRESSED_FILE = "H7325_0000_IR3.JP2"
/* IDENTIFICATION DATA ELEMENTS */
DATA_SET_ID = "MEX-M-HRSC-5-REFDR-MAPPROJECTED-V3.0"
DATA_SET_NAME = "MARS EXPRESS HRSC MAP PROJECTED REFDR V3.0"
DETECTOR_ID = MEX_HRSC_IR
EVENT_TYPE = "MARS-REGIONAL-MAPPING-Im-Fl"
INSTRUMENT_HOST_ID = MEX
INSTRUMENT_HOST_NAME = "MARS EXPRESS"
INSTRUMENT_ID = HRSC
INSTRUMENT_NAME = "HIGH RESOLUTION STEREO CAMERA"
MISSION_NAME = "MARS EXPRESS"
MISSION_PHASE_NAME = ME_Phase_18
PROCESSING_LEVEL_ID = 3
PRODUCT_CREATION_TIME = 2016-06-30T16:05:12.000Z
PRODUCT_ID = "H7325_0000_IR3.JP2"
RELEASE_ID = 0081
REVISION_ID = 0000
/* QUALITY DATA ELEMENTS */
DATA_QUALITY_ID = 1
DATA_QUALITY_DESC = "Data calculated based on original SPICE kernels"
/* TIME DATA ELEMENTS */
SPACECRAFT_CLOCK_START_COUNT = "1/0201342258.09064"
SPACECRAFT_CLOCK_STOP_COUNT = "1/0201342540.24797"
START_TIME = 2009-09-18T08:24:26.985Z
STOP_TIME = 2009-09-18T08:27:13.282Z
/* ORBITAL DATA ELEMENTS */
ASCENDING_NODE_LONGITUDE = 77.69
MAXIMUM_RESOLUTION = 70.4
FOOTPRINT_POINT_LATITUDE = (4.9505,4.9575,4.96421,4.97056,4.97653, 4.98216,4.89157,4.5661,4.24745,3.92558, 3.71065,3.49614,3.28154,3.06758,2.85314 ,2.64016,2.42664,2.21306,2.0003,1.78677 ,1.46817,1.25532,1.0428,0.830551, 0.617713,0.405366,0.0870627,-0.233283, -0.445414,-0.654913,-0.971984,-1.28935, -1.50095,-1.71209,-1.92226,-2.13295, -2.34348,-2.55364,-2.86794,-3.07783, -3.28722,-3.60086,-3.81025,-4.12429, -4.33317,-4.5431,-4.75171,-5.16574, -5.37392,-5.5859,-5.61085,-5.61227, -5.62333,-5.6337,-5.54215,-5.3331, -5.12491,-4.91586,-4.70731,-4.40026, -4.19146,-3.98177,-3.76731,-3.55808, -3.34771,-3.03125,-2.71832,-2.50843, -2.2982,-2.087,-1.87512,-1.6649, -1.45373,-1.24218,-0.925551,-0.714117, -0.502275,-0.290654,-0.0782892,0.240649 ,0.453259,0.665928,0.878946,1.09106, 1.30422,1.51717,1.83737,2.05114,2.26528 ,2.47872,2.79898,3.0127,3.22712,3.44126 ,3.65551,3.87051,4.19273,4.40824, 4.62328,4.9505)
FOOTPRINT_POINT_LONGITUDE = (49.2528,49.0284,48.8049,48.5822, 48.3607,48.14,47.8335,47.8254,47.8183, 47.8104,47.805,47.7997,47.7942,47.7888, 47.7832,47.7778,47.7722,47.7666,47.761, 47.7552,47.7466,47.7408,47.7349,47.729, 47.7229,47.7168,47.7076,47.6978,47.6914 ,47.6855,47.676,47.6661,47.6595,47.6529 ,47.6463,47.6396,47.6329,47.6261,47.616 ,47.6091,47.6022,47.5918,47.5847, 47.5738,47.5666,47.5591,47.5518,47.5376 ,47.5301,47.5217,47.9157,48.1745, 48.5897,48.9378,49.3797,49.3771,49.3751 ,49.3728,49.3709,49.3713,49.3696, 49.3675,49.3631,49.3615,49.3595,49.3561 ,49.3549,49.3536,49.3522,49.3504, 49.3484,49.3474,49.346,49.3445,49.3428, 49.3416,49.3403,49.3393,49.338,49.3359, 49.3347,49.3336,49.3324,49.3318,49.3307 ,49.3298,49.3283,49.3272,49.326,49.3253 ,49.3244,49.3237,49.3228,49.3222, 49.3215,49.3206,49.3194,49.3184,49.3177 ,49.2528)
ORBIT_NUMBER = 7325
ORBITAL_ECCENTRICITY = 0.573
ORBITAL_INCLINATION = 86.81
ORBITAL_SEMIMAJOR_AXIS = 8759.68
PERIAPSIS_ALTITUDE = 345.55
PERIAPSIS_ARGUMENT_ANGLE = 153.34
PERIAPSIS_TIME = 2009-09-18T08:19:20.000Z
SPACECRAFT_ORIENTATION = (0.0,-1.0,0.0)
^MEX_ORIENTATION_DESC = "MEX_ORIENTATION_DESC.TXT"
SPACECRAFT_POINTING_MODE = ACROSSTRACK
^MEX_POINTING_DESC = "MEX_POINTING_DESC.TXT"
RIGHT_ASCENSION = -1e+32
DECLINATION = -1e+32
OFFSET_ANGLE = 0.4
SPACECRAFT_SOLAR_DISTANCE = 2.25671e+08
TARGET_NAME = MARS
/* CAMERA DATA ELEMENTS */
DETECTOR_TEMPERATURE = 17.7588
FOCAL_PLANE_TEMPERATURE = 9.195
INST_CMPRS_NAME = "DISCRETE COSINE TRANSFORMATION (DCT)"
INST_CMPRS_RATIO = 11.417
INST_CMPRS_QUALITY = 0
INST_CMPRS_QUANTZ_TBL_ID = 0
INSTRUMENT_TEMPERATURE = 11.6418
LENS_TEMPERATURE = 9.6028
MACROPIXEL_SIZE = 4
MISSING_FRAMES = 0
PIXEL_SUBSAMPLING_FLAG = N
SIGNAL_CHAIN_ID = 2
/* RADIOMETRIC DATA ELEMENTS */
BANDWIDTH = 81.0
CENTER_FILTER_WAVELENGTH = 955.5
RADIANCE_OFFSET = 1.19779
RADIANCE_SCALING_FACTOR = 0.00539025
REFLECTANCE_SCALING_FACTOR = 0.000592233
MEX:REFLECTANCE_OFFSET = 0.131603
/* IMAGE OBJECT DEFINITIONS */
OBJECT = IMAGE
  INTERCHANGE_FORMAT = BINARY
  LINES = 12578
  LINE_SAMPLES = 2444
  SAMPLE_TYPE = UNSIGNED_INTEGER
  SAMPLE_BITS = 8
  BANDS = 1
  BAND_STORAGE_TYPE = BAND_SEQUENTIAL
  MAXIMUM = 255
  MEAN = 137.75
  MINIMUM = 1
  STANDARD_DEVIATION = 23.4816
END_OBJECT = IMAGE
/* MAP OBJECT DEFINITIONS */
OBJECT = IMAGE_MAP_PROJECTION
  ^DATA_SET_MAP_PROJECTION_CATALOG= "DSMAP.CAT"
  A_AXIS_RADIUS = 3396.0
  B_AXIS_RADIUS = 3396.0
  C_AXIS_RADIUS = 3396.0
  CENTER_LATITUDE = 0.0
  CENTER_LONGITUDE = 49.0
  COORDINATE_SYSTEM_NAME = PLANETOGRAPHIC
  COORDINATE_SYSTEM_TYPE = "BODY-FIXED ROTATING"
  EASTERNMOST_LONGITUDE = 49.3797
  FIRST_STANDARD_PARALLEL = "N/A"
  LINE_FIRST_PIXEL = 1
  LINE_LAST_PIXEL = 12578
  LINE_PROJECTION_OFFSET = 5895.125
  MAP_PROJECTION_ROTATION = 0.0
  MAP_PROJECTION_TYPE = SINUSOIDAL
  MAP_RESOLUTION = 1185.42760773333
  MAP_SCALE = 0.05
  MAXIMUM_LATITUDE = 4.98216
  MINIMUM_LATITUDE = -5.6337
  POSITIVE_LONGITUDE_DIRECTION = EAST
  REFERENCE_LATITUDE = "N/A"
  REFERENCE_LONGITUDE = "N/A"
  SAMPLE_FIRST_PIXEL = 1
  SAMPLE_LAST_PIXEL = 2444
  SAMPLE_PROJECTION_OFFSET = 1852.125
  SECOND_STANDARD_PARALLEL = "N/A"
  WESTERNMOST_LONGITUDE = 47.5217
END_OBJECT = IMAGE_MAP_PROJECTION
/* The JPEG2000 image data file associated with this label. */
OBJECT = COMPRESSED_FILE
  FILE_NAME = "H7325_0000_IR3.JP2"
  RECORD_TYPE = UNDEFINED
  FILE_RECORDS = UNK
  ENCODING_TYPE = "JP2"
  INTERCHANGE_FORMAT = BINARY
  UNCOMPRESSED_FILE_NAME = "H7325_0000_IR3.IMG"
  REQUIRED_STORAGE_BYTES = "30760184"
  ^DESCRIPTION = "JP2INFO.TXT"
END_OBJECT = COMPRESSED_FILE
END
