PDS_VERSION_ID = PDS3
/* FILE DATA ELEMENTS */
RECORD_TYPE = STREAM
/* POINTERS TO DATA OBJECTS */
^COMPRESSED_FILE = "H7325_0000_RE3.JP2"
/* IDENTIFICATION DATA ELEMENTS */
DATA_SET_ID = "MEX-M-HRSC-5-REFDR-MAPPROJECTED-V3.0"
DATA_SET_NAME = "MARS EXPRESS HRSC MAP PROJECTED REFDR V3.0"
DETECTOR_ID = MEX_HRSC_RED
EVENT_TYPE = "MARS-REGIONAL-MAPPING-Im-Fl"
INSTRUMENT_HOST_ID = MEX
INSTRUMENT_HOST_NAME = "MARS EXPRESS"
INSTRUMENT_ID = HRSC
INSTRUMENT_NAME = "HIGH RESOLUTION STEREO CAMERA"
MISSION_NAME = "MARS EXPRESS"
MISSION_PHASE_NAME = ME_Phase_18
PROCESSING_LEVEL_ID = 3
PRODUCT_CREATION_TIME = 2016-06-30T16:05:12.000Z
PRODUCT_ID = "H7325_0000_RE3.JP2"
RELEASE_ID = 0081
REVISION_ID = 0000
/* QUALITY DATA ELEMENTS */
DATA_QUALITY_ID = 1
DATA_QUALITY_DESC = "Data calculated based on original SPICE kernels"
/* TIME DATA ELEMENTS */
SPACECRAFT_CLOCK_START_COUNT = "1/0201342258.09064"
SPACECRAFT_CLOCK_STOP_COUNT = "1/0201342540.24797"
START_TIME = 2009-09-18T08:25:36.949Z
STOP_TIME = 2009-09-18T08:28:48.862Z
/* ORBITAL DATA ELEMENTS */
ASCENDING_NODE_LONGITUDE = 77.69
MAXIMUM_RESOLUTION = 77.3
FOOTPRINT_POINT_LATITUDE = (4.95241,4.95043,4.94871,4.9473,4.94617 ,4.94536,4.82235,4.60396,4.38079, 4.05118,3.83211,3.6137,3.28675,3.06881, 2.85087,2.63377,2.3084,2.09249,1.87619, 1.65997,1.44533,1.23088,1.01673, 0.696528,0.48337,0.270649,0.0594229, -0.149973,-0.361212,-0.572142,-0.784621 ,-0.994797,-1.20371,-1.41238,-1.62035, -1.82837,-2.14005,-2.34662,-2.55345, -2.7599,-2.96577,-3.17069,-3.37592, -3.58082,-3.78458,-3.9876,-4.19035, -4.39278,-4.79502,-5.19868,-5.59531, -5.63225,-5.63884,-5.64123,-5.64062, -5.63932,-5.33426,-4.93577,-4.42623, -4.22289,-3.82281,-3.51718,-3.31334, -3.10928,-2.90252,-2.69511,-2.48812, -2.17795,-1.97081,-1.76235,-1.55447, -1.34576,-1.13531,-0.925357,-0.714939, -0.398354,-0.18748,0.024036,0.236154, 0.448528,0.661435,0.874641,1.08957, 1.41119,1.62616,1.84143,2.05723,2.38123 ,2.59838,2.81624,3.03444,3.25235, 3.47072,3.68932,3.90845,4.12813,4.45829 ,4.67859,4.90089,4.95241)
FOOTPRINT_POINT_LONGITUDE = (49.1312,48.8859,48.6413,48.398,48.1557 ,47.9441,47.7578,47.7511,47.7452, 47.7355,47.729,47.7223,47.7122,47.7055, 47.6988,47.6919,47.6816,47.6746,47.6677 ,47.6608,47.6536,47.6464,47.6391, 47.6281,47.6208,47.6134,47.6057,47.5977 ,47.5901,47.5824,47.5751,47.5673, 47.5594,47.5514,47.5433,47.5353,47.5233 ,47.515,47.5069,47.4987,47.4904,47.482, 47.4737,47.4653,47.4568,47.4482,47.4395 ,47.4308,47.413,47.3957,47.3771,47.7115 ,48.0501,48.5287,48.8293,49.1707, 49.5164,49.5076,49.5014,49.4983,49.4882 ,49.483,49.4794,49.4757,49.4731,49.4708 ,49.468,49.4633,49.4601,49.4575,49.4543 ,49.4514,49.4492,49.4465,49.4439, 49.4402,49.4373,49.4347,49.4321,49.4295 ,49.427,49.4245,49.4226,49.4192,49.4169 ,49.4146,49.4124,49.4089,49.407,49.4053 ,49.4035,49.4015,49.3994,49.3974, 49.3954,49.3935,49.3907,49.3887,49.3876 ,49.1312)
ORBIT_NUMBER = 7325
ORBITAL_ECCENTRICITY = 0.573
ORBITAL_INCLINATION = 86.81
ORBITAL_SEMIMAJOR_AXIS = 8759.68
PERIAPSIS_ALTITUDE = 345.55
PERIAPSIS_ARGUMENT_ANGLE = 153.34
PERIAPSIS_TIME = 2009-09-18T08:19:20.000Z
SPACECRAFT_ORIENTATION = (0.0,-1.0,0.0)
^MEX_ORIENTATION_DESC = "MEX_ORIENTATION_DESC.TXT"
SPACECRAFT_POINTING_MODE = ACROSSTRACK
^MEX_POINTING_DESC = "MEX_POINTING_DESC.TXT"
RIGHT_ASCENSION = -1e+32
DECLINATION = -1e+32
OFFSET_ANGLE = 0.4
SPACECRAFT_SOLAR_DISTANCE = 2.25671e+08
TARGET_NAME = MARS
/* CAMERA DATA ELEMENTS */
DETECTOR_TEMPERATURE = 18.7783
FOCAL_PLANE_TEMPERATURE = 9.195
INST_CMPRS_NAME = "DISCRETE COSINE TRANSFORMATION (DCT)"
INST_CMPRS_RATIO = 23.8514
INST_CMPRS_QUALITY = 0
INST_CMPRS_QUANTZ_TBL_ID = 0
INSTRUMENT_TEMPERATURE = 11.6418
LENS_TEMPERATURE = 9.6028
MACROPIXEL_SIZE = 4
MISSING_FRAMES = 0
PIXEL_SUBSAMPLING_FLAG = N
SIGNAL_CHAIN_ID = 2
/* RADIOMETRIC DATA ELEMENTS */
BANDWIDTH = 48.0
CENTER_FILTER_WAVELENGTH = 748.0
RADIANCE_OFFSET = 1.3496
RADIANCE_SCALING_FACTOR = 0.00520856
REFLECTANCE_SCALING_FACTOR = 0.000605339
MEX:REFLECTANCE_OFFSET = 0.156851
/* IMAGE OBJECT DEFINITIONS */
OBJECT = IMAGE
  INTERCHANGE_FORMAT = BINARY
  LINES = 12578
  LINE_SAMPLES = 2444
  SAMPLE_TYPE = UNSIGNED_INTEGER
  SAMPLE_BITS = 8
  BANDS = 1
  BAND_STORAGE_TYPE = BAND_SEQUENTIAL
  MAXIMUM = 255
  MEAN = 142.714
  MINIMUM = 1
  STANDARD_DEVIATION = 22.4051
END_OBJECT = IMAGE
/* MAP OBJECT DEFINITIONS */
OBJECT = IMAGE_MAP_PROJECTION
  ^DATA_SET_MAP_PROJECTION_CATALOG= "DSMAP.CAT"
  A_AXIS_RADIUS = 3396.0
  B_AXIS_RADIUS = 3396.0
  C_AXIS_RADIUS = 3396.0
  CENTER_LATITUDE = 0.0
  CENTER_LONGITUDE = 49.0
  COORDINATE_SYSTEM_NAME = PLANETOGRAPHIC
  COORDINATE_SYSTEM_TYPE = "BODY-FIXED ROTATING"
  EASTERNMOST_LONGITUDE = 49.5164
  FIRST_STANDARD_PARALLEL = "N/A"
  LINE_FIRST_PIXEL = 1
  LINE_LAST_PIXEL = 12578
  LINE_PROJECTION_OFFSET = 5895.125
  MAP_PROJECTION_ROTATION = 0.0
  MAP_PROJECTION_TYPE = SINUSOIDAL
  MAP_RESOLUTION = 1185.42760773333
  MAP_SCALE = 0.05
  MAXIMUM_LATITUDE = 4.95241
  MINIMUM_LATITUDE = -5.64123
  POSITIVE_LONGITUDE_DIRECTION = EAST
  REFERENCE_LATITUDE = "N/A"
  REFERENCE_LONGITUDE = "N/A"
  SAMPLE_FIRST_PIXEL = 1
  SAMPLE_LAST_PIXEL = 2444
  SAMPLE_PROJECTION_OFFSET = 1852.125
  SECOND_STANDARD_PARALLEL = "N/A"
  WESTERNMOST_LONGITUDE = 47.3771
END_OBJECT = IMAGE_MAP_PROJECTION
/* The JPEG2000 image data file associated with this label. */
OBJECT = COMPRESSED_FILE
  FILE_NAME = "H7325_0000_RE3.JP2"
  RECORD_TYPE = UNDEFINED
  FILE_RECORDS = UNK
  ENCODING_TYPE = "JP2"
  INTERCHANGE_FORMAT = BINARY
  UNCOMPRESSED_FILE_NAME = "H7325_0000_RE3.IMG"
  REQUIRED_STORAGE_BYTES = "30760184"
  ^DESCRIPTION = "JP2INFO.TXT"
END_OBJECT = COMPRESSED_FILE
END
