PDS_VERSION_ID = PDS3
/* FILE DATA ELEMENTS */
RECORD_TYPE = STREAM
/* POINTERS TO DATA OBJECTS */
^COMPRESSED_FILE = "H7326_0000_S23.JP2"
/* IDENTIFICATION DATA ELEMENTS */
DATA_SET_ID = "MEX-M-HRSC-5-REFDR-MAPPROJECTED-V3.0"
DATA_SET_NAME = "MARS EXPRESS HRSC MAP PROJECTED REFDR V3.0"
DETECTOR_ID = MEX_HRSC_S2
EVENT_TYPE = "MARS-REGIONAL-MAPPING-Fl"
INSTRUMENT_HOST_ID = MEX
INSTRUMENT_HOST_NAME = "MARS EXPRESS"
INSTRUMENT_ID = HRSC
INSTRUMENT_NAME = "HIGH RESOLUTION STEREO CAMERA"
MISSION_NAME = "MARS EXPRESS"
MISSION_PHASE_NAME = ME_Phase_18
PROCESSING_LEVEL_ID = 3
PRODUCT_CREATION_TIME = 2016-06-30T16:05:12.000Z
PRODUCT_ID = "H7326_0000_S23.JP2"
RELEASE_ID = 0081
REVISION_ID = 0000
/* QUALITY DATA ELEMENTS */
DATA_QUALITY_ID = 1
DATA_QUALITY_DESC = "Data calculated based on original SPICE kernels"
/* TIME DATA ELEMENTS */
SPACECRAFT_CLOCK_START_COUNT = "1/0201366718.09083"
SPACECRAFT_CLOCK_STOP_COUNT = "1/0201367026.30561"
START_TIME = 2009-09-18T15:13:04.141Z
STOP_TIME = 2009-09-18T15:17:06.967Z
/* ORBITAL DATA ELEMENTS */
ASCENDING_NODE_LONGITUDE = 77.67
MAXIMUM_RESOLUTION = 29.8
FOOTPRINT_POINT_LATITUDE = (28.8445,28.8564,28.8623,28.8682, 28.8741,28.7772,28.4828,28.1849,27.7374 ,27.4377,26.9928,26.5469,26.2497, 25.9543,25.5047,25.2059,24.9099,24.4693 ,24.1745,23.876,23.4345,23.1403,22.8469 ,22.5538,22.261,21.9686,21.6765,21.3851 ,20.9481,20.6573,20.3668,20.0768, 19.7871,19.498,19.2095,18.9209,18.6327, 18.34,17.8335,17.3245,16.9819,16.4705, 16.1311,15.7897,15.2918,14.7745,14.273, 13.9389,13.6046,13.5724,13.5603,13.545, 13.5352,13.5251,14.0283,14.3637,14.8691 ,15.3726,15.716,16.0597,16.3995,16.7401 ,17.2523,17.5938,17.9363,18.2734, 18.5622,18.85,19.139,19.4286,19.8629, 20.1527,20.4438,20.735,21.0266,21.3183, 21.6105,21.9028,22.1956,22.6357,22.9292 ,23.3705,23.6651,23.9615,24.2582, 24.5531,24.8527,25.1457,25.4421,25.7398 ,26.0365,26.3373,26.6343,26.9325, 27.3792,27.6778,27.976,28.2716,28.5703, 28.8445)
FOOTPRINT_POINT_LONGITUDE = (307.134,306.708,306.492,306.274, 306.054,305.865,305.869,305.876,305.886 ,305.894,305.902,305.911,305.916, 305.921,305.932,305.938,305.943,305.948 ,305.951,305.958,305.963,305.966, 305.969,305.972,305.974,305.976,305.978 ,305.98,305.982,305.984,305.985,305.986 ,305.987,305.987,305.987,305.988, 305.988,305.991,305.992,305.989,305.989 ,305.987,305.985,305.985,305.976,305.98 ,305.974,305.97,305.967,306.209,306.521 ,306.899,307.135,307.415,307.411, 307.409,307.405,307.402,307.399,307.397 ,307.395,307.392,307.388,307.386, 307.384,307.381,307.379,307.377,307.375 ,307.373,307.369,307.367,307.365, 307.363,307.361,307.358,307.356,307.354 ,307.352,307.348,307.346,307.342,307.34 ,307.337,307.335,307.332,307.329, 307.327,307.324,307.321,307.319,307.316 ,307.313,307.31,307.306,307.303,307.3, 307.297,307.294,307.134)
ORBIT_NUMBER = 7326
ORBITAL_ECCENTRICITY = 0.573
ORBITAL_INCLINATION = 86.81
ORBITAL_SEMIMAJOR_AXIS = 8753.1
PERIAPSIS_ALTITUDE = 345.92
PERIAPSIS_ARGUMENT_ANGLE = 153.16
PERIAPSIS_TIME = 2009-09-18T15:13:05.000Z
SPACECRAFT_ORIENTATION = (0.0,-1.0,0.0)
^MEX_ORIENTATION_DESC = "MEX_ORIENTATION_DESC.TXT"
SPACECRAFT_POINTING_MODE = ACROSSTRACK
^MEX_POINTING_DESC = "MEX_POINTING_DESC.TXT"
RIGHT_ASCENSION = -1e+32
DECLINATION = -1e+32
OFFSET_ANGLE = -0.65
SPACECRAFT_SOLAR_DISTANCE = 2.25727e+08
TARGET_NAME = MARS
/* CAMERA DATA ELEMENTS */
DETECTOR_TEMPERATURE = 18.7783
FOCAL_PLANE_TEMPERATURE = 8.7872
INST_CMPRS_NAME = "DISCRETE COSINE TRANSFORMATION (DCT)"
INST_CMPRS_RATIO = 11.4928
INST_CMPRS_QUALITY = 0
INST_CMPRS_QUANTZ_TBL_ID = 0
INSTRUMENT_TEMPERATURE = 11.4379
LENS_TEMPERATURE = 8.9911
MACROPIXEL_SIZE = 2
MISSING_FRAMES = 0
PIXEL_SUBSAMPLING_FLAG = N
SIGNAL_CHAIN_ID = 1
/* RADIOMETRIC DATA ELEMENTS */
BANDWIDTH = 178.0
CENTER_FILTER_WAVELENGTH = 679.0
RADIANCE_OFFSET = 3.86474
RADIANCE_SCALING_FACTOR = 0.0201014
REFLECTANCE_SCALING_FACTOR = 0.000542408
MEX:REFLECTANCE_OFFSET = 0.104284
/* IMAGE OBJECT DEFINITIONS */
OBJECT = IMAGE
  INTERCHANGE_FORMAT = BINARY
  LINES = 36438
  LINE_SAMPLES = 3372
  SAMPLE_TYPE = UNSIGNED_INTEGER
  SAMPLE_BITS = 8
  BANDS = 1
  BAND_STORAGE_TYPE = BAND_SEQUENTIAL
  MAXIMUM = 255
  MEAN = 104.179
  MINIMUM = 1
  STANDARD_DEVIATION = 43.2622
END_OBJECT = IMAGE
/* MAP OBJECT DEFINITIONS */
OBJECT = IMAGE_MAP_PROJECTION
  ^DATA_SET_MAP_PROJECTION_CATALOG= "DSMAP.CAT"
  A_AXIS_RADIUS = 3396.0
  B_AXIS_RADIUS = 3396.0
  C_AXIS_RADIUS = 3396.0
  CENTER_LATITUDE = 0.0
  CENTER_LONGITUDE = 307.0
  COORDINATE_SYSTEM_NAME = PLANETOGRAPHIC
  COORDINATE_SYSTEM_TYPE = "BODY-FIXED ROTATING"
  EASTERNMOST_LONGITUDE = 307.415
  FIRST_STANDARD_PARALLEL = "N/A"
  LINE_FIRST_PIXEL = 1
  LINE_LAST_PIXEL = 36438
  LINE_PROJECTION_OFFSET = 68543.75
  MAP_PROJECTION_ROTATION = 0.0
  MAP_PROJECTION_TYPE = SINUSOIDAL
  MAP_RESOLUTION = 2370.85521546667
  MAP_SCALE = 0.025
  MAXIMUM_LATITUDE = 28.8741
  MINIMUM_LATITUDE = 13.5251
  POSITIVE_LONGITUDE_DIRECTION = EAST
  REFERENCE_LATITUDE = "N/A"
  REFERENCE_LONGITUDE = "N/A"
  SAMPLE_FIRST_PIXEL = 1
  SAMPLE_LAST_PIXEL = 3372
  SAMPLE_PROJECTION_OFFSET = 2476.25
  SECOND_STANDARD_PARALLEL = "N/A"
  WESTERNMOST_LONGITUDE = 305.865
END_OBJECT = IMAGE_MAP_PROJECTION
/* The JPEG2000 image data file associated with this label. */
OBJECT = COMPRESSED_FILE
  FILE_NAME = "H7326_0000_S23.JP2"
  RECORD_TYPE = UNDEFINED
  FILE_RECORDS = UNK
  ENCODING_TYPE = "JP2"
  INTERCHANGE_FORMAT = BINARY
  UNCOMPRESSED_FILE_NAME = "H7326_0000_S23.IMG"
  REQUIRED_STORAGE_BYTES = "122892540"
  ^DESCRIPTION = "JP2INFO.TXT"
END_OBJECT = COMPRESSED_FILE
END
