PDS_VERSION_ID = PDS3
/* FILE DATA ELEMENTS */
RECORD_TYPE = STREAM
/* POINTERS TO DATA OBJECTS */
^COMPRESSED_FILE = "H7327_0000_IR3.JP2"
/* IDENTIFICATION DATA ELEMENTS */
DATA_SET_ID = "MEX-M-HRSC-5-REFDR-MAPPROJECTED-V3.0"
DATA_SET_NAME = "MARS EXPRESS HRSC MAP PROJECTED REFDR V3.0"
DETECTOR_ID = MEX_HRSC_IR
EVENT_TYPE = "MARS-REGIONAL-MAPPING-Vo-Im-Fl"
INSTRUMENT_HOST_ID = MEX
INSTRUMENT_HOST_NAME = "MARS EXPRESS"
INSTRUMENT_ID = HRSC
INSTRUMENT_NAME = "HIGH RESOLUTION STEREO CAMERA"
MISSION_NAME = "MARS EXPRESS"
MISSION_PHASE_NAME = ME_Phase_18
PROCESSING_LEVEL_ID = 3
PRODUCT_CREATION_TIME = 2016-06-30T16:05:12.000Z
PRODUCT_ID = "H7327_0000_IR3.JP2"
RELEASE_ID = 0081
REVISION_ID = 0000
/* QUALITY DATA ELEMENTS */
DATA_QUALITY_ID = 1
DATA_QUALITY_DESC = "Data calculated based on original SPICE kernels"
/* TIME DATA ELEMENTS */
SPACECRAFT_CLOCK_START_COUNT = "1/0201392002.09052"
SPACECRAFT_CLOCK_STOP_COUNT = "1/0201392264.15102"
START_TIME = 2009-09-18T22:13:32.222Z
STOP_TIME = 2009-09-18T22:15:40.540Z
/* ORBITAL DATA ELEMENTS */
ASCENDING_NODE_LONGITUDE = 77.66
MAXIMUM_RESOLUTION = 81.7
FOOTPRINT_POINT_LATITUDE = (-1.30378,-1.29523,-1.28749,-1.28007, -1.27302,-1.26632,-1.26153,-1.34735, -1.7121,-2.08456,-2.38117,-2.53279, -2.75941,-2.91141,-3.1387,-3.44061, -3.74648,-3.90131,-4.05484,-4.20948, -4.36573,-4.52291,-4.67979,-4.83663, -4.99497,-5.1527,-5.39111,-5.55002, -5.71265,-5.87275,-6.03241,-6.19483, -6.43911,-6.6034,-6.76824,-6.93134, -7.09633,-7.34407,-7.51243,-7.68045, -7.84816,-8.01562,-8.18648,-8.35799, -8.52829,-8.69953,-8.87237,-9.04522, -9.21774,-9.29052,-9.29333,-9.29786, -9.30162,-9.30677,-9.31381,-9.31715, -9.32448,-9.32966,-9.33421,-9.25072, -9.07751,-8.90485,-8.73171,-8.56154, -8.39086,-8.22011,-8.04973,-7.88199, -7.71436,-7.54619,-7.37835,-7.21349, -6.9655,-6.79985,-6.63452,-6.47229, -6.22879,-6.06607,-5.90402,-5.74426, -5.50481,-5.34516,-5.18524,-5.02707, -4.86982,-4.63388,-4.47592,-4.31879, -4.16387,-4.00942,-3.70407,-3.5479, -3.24302,-2.93978,-2.78693,-2.63529, -2.3376,-1.89205,-1.59433,-1.30378)
FOOTPRINT_POINT_LONGITUDE = (207.691,207.418,207.163,206.908, 206.654,206.402,206.213,205.983,205.972 ,205.96,205.95,205.945,205.937,205.932, 205.925,205.915,205.905,205.899,205.894 ,205.889,205.883,205.878,205.872, 205.866,205.861,205.855,205.847,205.841 ,205.834,205.829,205.823,205.817, 205.808,205.801,205.795,205.789,205.783 ,205.773,205.767,205.76,205.753,205.747 ,205.74,205.733,205.726,205.719,205.712 ,205.705,205.697,205.924,206.098, 206.271,206.426,206.6,206.872,207.027, 207.3,207.475,207.632,207.775,207.772, 207.77,207.768,207.766,207.763,207.761, 207.759,207.757,207.755,207.753,207.751 ,207.749,207.747,207.745,207.743, 207.741,207.739,207.737,207.736,207.734 ,207.732,207.731,207.729,207.728, 207.726,207.724,207.723,207.721,207.72, 207.718,207.718,207.716,207.713,207.711 ,207.709,207.708,207.706,207.704, 207.701,207.691)
ORBIT_NUMBER = 7327
ORBITAL_ECCENTRICITY = 0.573
ORBITAL_INCLINATION = 86.81
ORBITAL_SEMIMAJOR_AXIS = 8753.04
PERIAPSIS_ALTITUDE = 345.89
PERIAPSIS_ARGUMENT_ANGLE = 152.96
PERIAPSIS_TIME = 2009-09-18T22:06:42.000Z
SPACECRAFT_ORIENTATION = (0.0,-1.0,0.0)
^MEX_ORIENTATION_DESC = "MEX_ORIENTATION_DESC.TXT"
SPACECRAFT_POINTING_MODE = ACROSSTRACK
^MEX_POINTING_DESC = "MEX_POINTING_DESC.TXT"
RIGHT_ASCENSION = -1e+32
DECLINATION = -1e+32
OFFSET_ANGLE = 0.4
SPACECRAFT_SOLAR_DISTANCE = 2.25784e+08
TARGET_NAME = MARS
/* CAMERA DATA ELEMENTS */
DETECTOR_TEMPERATURE = 17.5549
FOCAL_PLANE_TEMPERATURE = 8.7872
INST_CMPRS_NAME = "DISCRETE COSINE TRANSFORMATION (DCT)"
INST_CMPRS_RATIO = 12.2496
INST_CMPRS_QUALITY = 0
INST_CMPRS_QUANTZ_TBL_ID = 0
INSTRUMENT_TEMPERATURE = 11.234
LENS_TEMPERATURE = 9.195
MACROPIXEL_SIZE = 4
MISSING_FRAMES = 0
PIXEL_SUBSAMPLING_FLAG = N
SIGNAL_CHAIN_ID = 2
/* RADIOMETRIC DATA ELEMENTS */
BANDWIDTH = 81.0
CENTER_FILTER_WAVELENGTH = 955.5
RADIANCE_OFFSET = 1.80195
RADIANCE_SCALING_FACTOR = 0.00324363
REFLECTANCE_SCALING_FACTOR = 0.000356738
MEX:REFLECTANCE_OFFSET = 0.19818
/* IMAGE OBJECT DEFINITIONS */
OBJECT = IMAGE
  INTERCHANGE_FORMAT = BINARY
  LINES = 4772
  LINE_SAMPLES = 1346
  SAMPLE_TYPE = UNSIGNED_INTEGER
  SAMPLE_BITS = 8
  BANDS = 1
  BAND_STORAGE_TYPE = BAND_SEQUENTIAL
  MAXIMUM = 255
  MEAN = 131.317
  MINIMUM = 1
  STANDARD_DEVIATION = 29.9295
END_OBJECT = IMAGE
/* MAP OBJECT DEFINITIONS */
OBJECT = IMAGE_MAP_PROJECTION
  ^DATA_SET_MAP_PROJECTION_CATALOG= "DSMAP.CAT"
  A_AXIS_RADIUS = 3396.0
  B_AXIS_RADIUS = 3396.0
  C_AXIS_RADIUS = 3396.0
  CENTER_LATITUDE = 0.0
  CENTER_LONGITUDE = 207.0
  COORDINATE_SYSTEM_NAME = PLANETOGRAPHIC
  COORDINATE_SYSTEM_TYPE = "BODY-FIXED ROTATING"
  EASTERNMOST_LONGITUDE = 207.775
  FIRST_STANDARD_PARALLEL = "N/A"
  LINE_FIRST_PIXEL = 1
  LINE_LAST_PIXEL = 4772
  LINE_PROJECTION_OFFSET = -743.875
  MAP_PROJECTION_ROTATION = 0.0
  MAP_PROJECTION_TYPE = SINUSOIDAL
  MAP_RESOLUTION = 592.713803866667
  MAP_SCALE = 0.1
  MAXIMUM_LATITUDE = -1.26153
  MINIMUM_LATITUDE = -9.334210000000001
  POSITIVE_LONGITUDE_DIRECTION = EAST
  REFERENCE_LATITUDE = "N/A"
  REFERENCE_LONGITUDE = "N/A"
  SAMPLE_FIRST_PIXEL = 1
  SAMPLE_LAST_PIXEL = 1346
  SAMPLE_PROJECTION_OFFSET = 821.125
  SECOND_STANDARD_PARALLEL = "N/A"
  WESTERNMOST_LONGITUDE = 205.697
END_OBJECT = IMAGE_MAP_PROJECTION
/* The JPEG2000 image data file associated with this label. */
OBJECT = COMPRESSED_FILE
  FILE_NAME = "H7327_0000_IR3.JP2"
  RECORD_TYPE = UNDEFINED
  FILE_RECORDS = UNK
  ENCODING_TYPE = "JP2"
  INTERCHANGE_FORMAT = BINARY
  UNCOMPRESSED_FILE_NAME = "H7327_0000_IR3.IMG"
  REQUIRED_STORAGE_BYTES = "6443302"
  ^DESCRIPTION = "JP2INFO.TXT"
END_OBJECT = COMPRESSED_FILE
END
