PDS_VERSION_ID = PDS3
/* FILE DATA ELEMENTS */
RECORD_TYPE = STREAM
/* POINTERS TO DATA OBJECTS */
^COMPRESSED_FILE = "H7330_0000_BL3.JP2"
/* IDENTIFICATION DATA ELEMENTS */
DATA_SET_ID = "MEX-M-HRSC-5-REFDR-MAPPROJECTED-V3.0"
DATA_SET_NAME = "MARS EXPRESS HRSC MAP PROJECTED REFDR V3.0"
DETECTOR_ID = MEX_HRSC_BLUE
EVENT_TYPE = "MARS-REGIONAL-MAPPING-Vo"
INSTRUMENT_HOST_ID = MEX
INSTRUMENT_HOST_NAME = "MARS EXPRESS"
INSTRUMENT_ID = HRSC
INSTRUMENT_NAME = "HIGH RESOLUTION STEREO CAMERA"
MISSION_NAME = "MARS EXPRESS"
MISSION_PHASE_NAME = ME_Phase_18
PROCESSING_LEVEL_ID = 3
PRODUCT_CREATION_TIME = 2016-06-30T16:05:12.000Z
PRODUCT_ID = "H7330_0000_BL3.JP2"
RELEASE_ID = 0081
REVISION_ID = 0000
/* QUALITY DATA ELEMENTS */
DATA_QUALITY_ID = 1
DATA_QUALITY_DESC = "Data calculated based on original SPICE kernels"
/* TIME DATA ELEMENTS */
SPACECRAFT_CLOCK_START_COUNT = "1/0201466086.09117"
SPACECRAFT_CLOCK_STOP_COUNT = "1/0201466373.25256"
START_TIME = 2009-09-19T18:48:45.091Z
STOP_TIME = 2009-09-19T18:52:21.030Z
/* ORBITAL DATA ELEMENTS */
ASCENDING_NODE_LONGITUDE = 77.6
MAXIMUM_RESOLUTION = 109.6
FOOTPRINT_POINT_LATITUDE = (24.8343,24.8328,24.8307,24.567,24.304, 24.0419,23.7814,23.5227,23.2647,23.0054 ,22.7456,22.4858,22.226,21.9665,21.707, 21.4477,21.1884,20.9293,20.6703,20.4115 ,20.1528,19.8942,19.6358,19.3775, 19.1193,18.8614,18.6036,18.3459,17.8311 ,17.317,16.8037,16.5053,16.1996,15.8942 ,15.5892,15.2844,14.9798,14.6756, 14.3717,14.0682,13.7649,13.462,13.1594, 12.8571,12.5552,12.2537,11.9525,11.6517 ,11.3513,11.0385,11.0369,11.0341, 11.0337,11.334,11.6348,11.9359,12.2373, 12.5392,12.8414,13.1439,13.4468,13.75, 14.0535,14.3574,14.6616,14.9661,15.2708 ,15.5759,15.8813,16.187,16.4929,16.7932 ,17.307,17.8215,18.3367,18.5946,18.8526 ,19.1108,19.3692,19.6277,19.8864, 20.1452,20.4042,20.6633,21.0522,21.3116 ,21.5712,21.8308,22.0906,22.3505, 22.6105,22.8707,23.1309,23.3913,23.6517 ,23.9122,24.1728,24.4336,24.6944, 24.8343)
FOOTPRINT_POINT_LONGITUDE = (264.474,264.081,263.726,263.526, 263.531,263.535,263.536,263.535,263.534 ,263.534,263.534,263.535,263.536, 263.536,263.536,263.536,263.536,263.536 ,263.536,263.536,263.535,263.535, 263.534,263.533,263.532,263.531,263.53, 263.529,263.526,263.523,263.519,263.517 ,263.514,263.512,263.509,263.506, 263.502,263.499,263.496,263.492,263.488 ,263.484,263.48,263.476,263.472,263.468 ,263.463,263.458,263.453,263.656, 264.009,264.496,264.848,264.847,264.847 ,264.846,264.845,264.845,264.844, 264.843,264.843,264.842,264.842,264.841 ,264.841,264.84,264.84,264.839,264.839, 264.838,264.838,264.838,264.837,264.836 ,264.836,264.836,264.835,264.835, 264.835,264.835,264.835,264.835,264.834 ,264.834,264.834,264.834,264.834, 264.834,264.833,264.833,264.833,264.833 ,264.833,264.833,264.833,264.833, 264.833,264.833,264.833,264.474)
ORBIT_NUMBER = 7330
ORBITAL_ECCENTRICITY = 0.573
ORBITAL_INCLINATION = 86.8
ORBITAL_SEMIMAJOR_AXIS = 8763.91
PERIAPSIS_ALTITUDE = 345.98
PERIAPSIS_ARGUMENT_ANGLE = 152.44
PERIAPSIS_TIME = 2009-09-19T18:47:58.000Z
SPACECRAFT_ORIENTATION = (0.0,-1.0,0.0)
^MEX_ORIENTATION_DESC = "MEX_ORIENTATION_DESC.TXT"
SPACECRAFT_POINTING_MODE = ACROSSTRACK
^MEX_POINTING_DESC = "MEX_POINTING_DESC.TXT"
RIGHT_ASCENSION = -1e+32
DECLINATION = -1e+32
OFFSET_ANGLE = 0.15
SPACECRAFT_SOLAR_DISTANCE = 2.25952e+08
TARGET_NAME = MARS
/* CAMERA DATA ELEMENTS */
DETECTOR_TEMPERATURE = 18.1666
FOCAL_PLANE_TEMPERATURE = 8.5833
INST_CMPRS_NAME = "DISCRETE COSINE TRANSFORMATION (DCT)"
INST_CMPRS_RATIO = 30.651
INST_CMPRS_QUALITY = 0
INST_CMPRS_QUANTZ_TBL_ID = 0
INSTRUMENT_TEMPERATURE = 11.234
LENS_TEMPERATURE = 8.9911
MACROPIXEL_SIZE = 8
MISSING_FRAMES = 0
PIXEL_SUBSAMPLING_FLAG = N
SIGNAL_CHAIN_ID = 2
/* RADIOMETRIC DATA ELEMENTS */
BANDWIDTH = 76.0
CENTER_FILTER_WAVELENGTH = 444.0
RADIANCE_OFFSET = 0.543111
RADIANCE_SCALING_FACTOR = 0.00187928
REFLECTANCE_SCALING_FACTOR = 9.85779e-05
MEX:REFLECTANCE_OFFSET = 0.028489
/* IMAGE OBJECT DEFINITIONS */
OBJECT = IMAGE
  INTERCHANGE_FORMAT = BINARY
  LINES = 8183
  LINE_SAMPLES = 870
  SAMPLE_TYPE = UNSIGNED_INTEGER
  SAMPLE_BITS = 8
  BANDS = 1
  BAND_STORAGE_TYPE = BAND_SEQUENTIAL
  MAXIMUM = 255
  MEAN = 146.836
  MINIMUM = 1
  STANDARD_DEVIATION = 29.8591
END_OBJECT = IMAGE
/* MAP OBJECT DEFINITIONS */
OBJECT = IMAGE_MAP_PROJECTION
  ^DATA_SET_MAP_PROJECTION_CATALOG= "DSMAP.CAT"
  A_AXIS_RADIUS = 3396.0
  B_AXIS_RADIUS = 3396.0
  C_AXIS_RADIUS = 3396.0
  CENTER_LATITUDE = 0.0
  CENTER_LONGITUDE = 264.0
  COORDINATE_SYSTEM_NAME = PLANETOGRAPHIC
  COORDINATE_SYSTEM_TYPE = "BODY-FIXED ROTATING"
  EASTERNMOST_LONGITUDE = 264.848
  FIRST_STANDARD_PARALLEL = "N/A"
  LINE_FIRST_PIXEL = 1
  LINE_LAST_PIXEL = 8183
  LINE_PROJECTION_OFFSET = 14719.1875
  MAP_PROJECTION_ROTATION = 0.0
  MAP_PROJECTION_TYPE = SINUSOIDAL
  MAP_RESOLUTION = 592.713803866667
  MAP_SCALE = 0.1
  MAXIMUM_LATITUDE = 24.8343
  MINIMUM_LATITUDE = 11.0337
  POSITIVE_LONGITUDE_DIRECTION = EAST
  REFERENCE_LATITUDE = "N/A"
  REFERENCE_LONGITUDE = "N/A"
  SAMPLE_FIRST_PIXEL = 1
  SAMPLE_LAST_PIXEL = 870
  SAMPLE_PROJECTION_OFFSET = 345.0625
  SECOND_STANDARD_PARALLEL = "N/A"
  WESTERNMOST_LONGITUDE = 263.453
END_OBJECT = IMAGE_MAP_PROJECTION
/* The JPEG2000 image data file associated with this label. */
OBJECT = COMPRESSED_FILE
  FILE_NAME = "H7330_0000_BL3.JP2"
  RECORD_TYPE = UNDEFINED
  FILE_RECORDS = UNK
  ENCODING_TYPE = "JP2"
  INTERCHANGE_FORMAT = BINARY
  UNCOMPRESSED_FILE_NAME = "H7330_0000_BL3.IMG"
  REQUIRED_STORAGE_BYTES = "7137480"
  ^DESCRIPTION = "JP2INFO.TXT"
END_OBJECT = COMPRESSED_FILE
END
