PDS_VERSION_ID = PDS3
/* FILE DATA ELEMENTS */
RECORD_TYPE = STREAM
/* POINTERS TO DATA OBJECTS */
^COMPRESSED_FILE = "H7336_0000_GR3.JP2"
/* IDENTIFICATION DATA ELEMENTS */
DATA_SET_ID = "MEX-M-HRSC-5-REFDR-MAPPROJECTED-V3.0"
DATA_SET_NAME = "MARS EXPRESS HRSC MAP PROJECTED REFDR V3.0"
DETECTOR_ID = MEX_HRSC_GREEN
EVENT_TYPE = "MARS-REGIONAL-MAPPING-Te-Im-La"
INSTRUMENT_HOST_ID = MEX
INSTRUMENT_HOST_NAME = "MARS EXPRESS"
INSTRUMENT_ID = HRSC
INSTRUMENT_NAME = "HIGH RESOLUTION STEREO CAMERA"
MISSION_NAME = "MARS EXPRESS"
MISSION_PHASE_NAME = ME_Phase_18
PROCESSING_LEVEL_ID = 3
PRODUCT_CREATION_TIME = 2016-06-30T16:05:12.000Z
PRODUCT_ID = "H7336_0000_GR3.JP2"
RELEASE_ID = 0081
REVISION_ID = 0000
/* QUALITY DATA ELEMENTS */
DATA_QUALITY_ID = 1
DATA_QUALITY_DESC = "Data calculated based on original SPICE kernels"
/* TIME DATA ELEMENTS */
SPACECRAFT_CLOCK_START_COUNT = "1/0201614990.09058"
SPACECRAFT_CLOCK_STOP_COUNT = "1/0201615306.42377"
START_TIME = 2009-09-21T12:10:18.547Z
STOP_TIME = 2009-09-21T12:14:21.805Z
/* ORBITAL DATA ELEMENTS */
ASCENDING_NODE_LONGITUDE = 77.48
MAXIMUM_RESOLUTION = 55.7
FOOTPRINT_POINT_LATITUDE = (27.6544,27.6512,27.637,27.1923,26.8954 ,26.5985,26.3016,26.0044,25.5588, 25.2619,24.9651,24.6683,24.3713,24.0745 ,23.7778,23.4812,23.1844,22.8878, 22.5913,22.1466,21.8503,21.554,21.2579, 20.962,20.6661,20.3706,20.075,19.7792, 19.4836,19.1881,18.8929,18.5978,18.3028 ,17.8606,17.5661,17.2717,16.9234, 16.5726,16.222,15.8717,15.5217,15.1719, 14.8227,14.4733,14.1248,13.7764,13.4283 ,13.0725,12.7251,12.3783,12.0319, 11.9646,11.9627,11.9611,11.9583,12.3058 ,12.6534,13.0008,13.3571,13.7054, 14.0542,14.4033,14.7526,15.1024,15.4524 ,15.8027,16.1534,16.5043,16.8555, 17.2069,17.5097,17.8045,18.2467,18.542, 18.8375,19.133,19.5768,19.8727,20.1686, 20.4645,20.909,21.2053,21.5018,21.7984, 22.0952,22.3918,22.6886,22.9855,23.4311 ,23.8768,24.3224,24.6196,25.0653, 25.5113,25.8086,26.1061,26.4035,26.8496 ,27.2956,27.6544)
FOOTPRINT_POINT_LONGITUDE = (19.3773,18.8388,18.154,18.1625,18.1668 ,18.1711,18.1749,18.178,18.1827,18.1858 ,18.1889,18.1918,18.1942,18.1966, 18.1988,18.2011,18.2026,18.2042,18.2057 ,18.2074,18.2086,18.2093,18.21,18.2107, 18.2113,18.2122,18.2124,18.2119,18.2113 ,18.2104,18.2096,18.2087,18.2075, 18.2054,18.204,18.2024,18.2002,18.198, 18.1955,18.1927,18.1898,18.1866,18.1836 ,18.1795,18.1763,18.1725,18.1684,18.164 ,18.1595,18.1552,18.1511,18.4809, 18.8785,19.1567,19.5722,19.5702,19.5686 ,19.5681,19.5666,19.5657,19.5647, 19.5636,19.5628,19.5616,19.5607,19.5597 ,19.5587,19.5577,19.5566,19.5558, 19.5544,19.5536,19.5531,19.5522,19.5512 ,19.5504,19.5488,19.5478,19.5473, 19.5468,19.5454,19.5448,19.544,19.5431, 19.5421,19.5415,19.5408,19.54,19.5385, 19.5371,19.5358,19.5351,19.5339,19.5324 ,19.5314,19.5303,19.5291,19.5273, 19.5258,19.3773)
ORBIT_NUMBER = 7336
ORBITAL_ECCENTRICITY = 0.573
ORBITAL_INCLINATION = 86.8
ORBITAL_SEMIMAJOR_AXIS = 8754.22
PERIAPSIS_ALTITUDE = 347.19
PERIAPSIS_ARGUMENT_ANGLE = 151.39
PERIAPSIS_TIME = 2009-09-21T12:10:09.000Z
SPACECRAFT_ORIENTATION = (0.0,-1.0,0.0)
^MEX_ORIENTATION_DESC = "MEX_ORIENTATION_DESC.TXT"
SPACECRAFT_POINTING_MODE = ACROSSTRACK
^MEX_POINTING_DESC = "MEX_POINTING_DESC.TXT"
RIGHT_ASCENSION = -1e+32
DECLINATION = -1e+32
OFFSET_ANGLE = -0.1
SPACECRAFT_SOLAR_DISTANCE = 2.26289e+08
TARGET_NAME = MARS
/* CAMERA DATA ELEMENTS */
DETECTOR_TEMPERATURE = 18.1666
FOCAL_PLANE_TEMPERATURE = 8.3794
INST_CMPRS_NAME = "DISCRETE COSINE TRANSFORMATION (DCT)"
INST_CMPRS_RATIO = 16.1301
INST_CMPRS_QUALITY = 0
INST_CMPRS_QUANTZ_TBL_ID = 0
INSTRUMENT_TEMPERATURE = 11.234
LENS_TEMPERATURE = 8.7872
MACROPIXEL_SIZE = 4
MISSING_FRAMES = 1
PIXEL_SUBSAMPLING_FLAG = N
SIGNAL_CHAIN_ID = 2
/* RADIOMETRIC DATA ELEMENTS */
BANDWIDTH = 88.0
CENTER_FILTER_WAVELENGTH = 538.0
RADIANCE_OFFSET = 1.74358
RADIANCE_SCALING_FACTOR = 0.00362391
REFLECTANCE_SCALING_FACTOR = 0.00015977
MEX:REFLECTANCE_OFFSET = 0.0768704
/* IMAGE OBJECT DEFINITIONS */
OBJECT = IMAGE
  INTERCHANGE_FORMAT = BINARY
  LINES = 18583
  LINE_SAMPLES = 1760
  SAMPLE_TYPE = UNSIGNED_INTEGER
  SAMPLE_BITS = 8
  BANDS = 1
  BAND_STORAGE_TYPE = BAND_SEQUENTIAL
  MAXIMUM = 255
  MEAN = 142.981
  MINIMUM = 1
  STANDARD_DEVIATION = 24.8114
END_OBJECT = IMAGE
/* MAP OBJECT DEFINITIONS */
OBJECT = IMAGE_MAP_PROJECTION
  ^DATA_SET_MAP_PROJECTION_CATALOG= "DSMAP.CAT"
  A_AXIS_RADIUS = 3396.0
  B_AXIS_RADIUS = 3396.0
  C_AXIS_RADIUS = 3396.0
  CENTER_LATITUDE = 0.0
  CENTER_LONGITUDE = 19.0
  COORDINATE_SYSTEM_NAME = PLANETOGRAPHIC
  COORDINATE_SYSTEM_TYPE = "BODY-FIXED ROTATING"
  EASTERNMOST_LONGITUDE = 19.5722
  FIRST_STANDARD_PARALLEL = "N/A"
  LINE_FIRST_PIXEL = 1
  LINE_LAST_PIXEL = 18583
  LINE_PROJECTION_OFFSET = 32765.125
  MAP_PROJECTION_ROTATION = 0.0
  MAP_PROJECTION_TYPE = SINUSOIDAL
  MAP_RESOLUTION = 1185.42760773333
  MAP_SCALE = 0.05
  MAXIMUM_LATITUDE = 27.6544
  MINIMUM_LATITUDE = 11.9583
  POSITIVE_LONGITUDE_DIRECTION = EAST
  REFERENCE_LATITUDE = "N/A"
  REFERENCE_LONGITUDE = "N/A"
  SAMPLE_FIRST_PIXEL = 1
  SAMPLE_LAST_PIXEL = 1760
  SAMPLE_PROJECTION_OFFSET = 1052.375
  SECOND_STANDARD_PARALLEL = "N/A"
  WESTERNMOST_LONGITUDE = 18.1511
END_OBJECT = IMAGE_MAP_PROJECTION
/* The JPEG2000 image data file associated with this label. */
OBJECT = COMPRESSED_FILE
  FILE_NAME = "H7336_0000_GR3.JP2"
  RECORD_TYPE = UNDEFINED
  FILE_RECORDS = UNK
  ENCODING_TYPE = "JP2"
  INTERCHANGE_FORMAT = BINARY
  UNCOMPRESSED_FILE_NAME = "H7336_0000_GR3.IMG"
  REQUIRED_STORAGE_BYTES = "32725440"
  ^DESCRIPTION = "JP2INFO.TXT"
END_OBJECT = COMPRESSED_FILE
END
