PDS_VERSION_ID = PDS3
/* FILE DATA ELEMENTS */
RECORD_TYPE = STREAM
/* POINTERS TO DATA OBJECTS */
^COMPRESSED_FILE = "H7337_0000_S23.JP2"
/* IDENTIFICATION DATA ELEMENTS */
DATA_SET_ID = "MEX-M-HRSC-5-REFDR-MAPPROJECTED-V3.0"
DATA_SET_NAME = "MARS EXPRESS HRSC MAP PROJECTED REFDR V3.0"
DETECTOR_ID = MEX_HRSC_S2
EVENT_TYPE = "MARS-REGIONAL-MAPPING-Vo-Te"
INSTRUMENT_HOST_ID = MEX
INSTRUMENT_HOST_NAME = "MARS EXPRESS"
INSTRUMENT_ID = HRSC
INSTRUMENT_NAME = "HIGH RESOLUTION STEREO CAMERA"
MISSION_NAME = "MARS EXPRESS"
MISSION_PHASE_NAME = ME_Phase_18
PROCESSING_LEVEL_ID = 3
PRODUCT_CREATION_TIME = 2016-06-30T16:05:12.000Z
PRODUCT_ID = "H7337_0000_S23.JP2"
RELEASE_ID = 0081
REVISION_ID = 0000
/* QUALITY DATA ELEMENTS */
DATA_QUALITY_ID = 1
DATA_QUALITY_DESC = "Data calculated based on original SPICE kernels"
/* TIME DATA ELEMENTS */
SPACECRAFT_CLOCK_START_COUNT = "1/0201639821.07294"
SPACECRAFT_CLOCK_STOP_COUNT = "1/0201640097.53811"
START_TIME = 2009-09-21T19:04:46.449Z
STOP_TIME = 2009-09-21T19:08:18.320Z
/* ORBITAL DATA ELEMENTS */
ASCENDING_NODE_LONGITUDE = 77.46
MAXIMUM_RESOLUTION = 29.6
FOOTPRINT_POINT_LATITUDE = (27.6239,27.6263,27.5218,27.2681, 27.0146,26.6348,26.2558,26.0032,25.7511 ,25.4988,25.247,24.9953,24.7441,24.3673 ,24.1166,23.8662,23.616,23.3662,23.1166 ,22.8672,22.618,22.3692,22.121,21.8726, 21.6246,21.377,21.1297,20.8828,20.6361, 20.1437,19.8907,19.5978,19.3052,19.0131 ,18.7215,18.2841,17.9935,17.7032, 17.4134,17.124,16.8353,16.5474,16.26, 15.9731,15.6864,15.3997,15.1139,14.8289 ,14.3901,14.385,14.3794,14.3724,14.5113 ,14.796,15.0815,15.3675,15.6541,15.9411 ,16.2286,16.5165,16.9497,17.2386, 17.5285,17.8186,18.1092,18.4006,18.6922 ,18.9846,19.2773,19.5704,19.9954, 20.4885,20.8589,21.106,21.3535,21.6014, 21.8497,22.0982,22.3471,22.5962,22.8458 ,23.0955,23.3453,23.7208,23.9713, 24.2221,24.4732,24.7246,24.9763,25.2281 ,25.4802,25.7325,25.9849,26.237,26.4895 ,26.7424,26.9955,27.3756,27.6293, 27.6239)
FOOTPRINT_POINT_LONGITUDE = (278.132,277.708,277.163,277.166,277.17 ,277.175,277.179,277.182,277.185, 277.187,277.19,277.192,277.194,277.197, 277.199,277.2,277.201,277.203,277.204, 277.205,277.206,277.206,277.207,277.207 ,277.207,277.207,277.207,277.207, 277.207,277.206,277.205,277.204,277.203 ,277.202,277.201,277.198,277.197, 277.195,277.193,277.191,277.188,277.185 ,277.183,277.18,277.177,277.174,277.17, 277.167,277.275,277.574,277.913,278.365 ,278.623,278.621,278.619,278.617, 278.616,278.614,278.612,278.61,278.608, 278.606,278.605,278.603,278.601,278.6, 278.598,278.596,278.595,278.593,278.591 ,278.588,278.586,278.584,278.583, 278.581,278.58,278.579,278.577,278.576, 278.574,278.573,278.571,278.569,278.568 ,278.566,278.565,278.563,278.562,278.56 ,278.558,278.557,278.555,278.554, 278.552,278.55,278.548,278.546,278.544, 278.132)
ORBIT_NUMBER = 7337
ORBITAL_ECCENTRICITY = 0.573
ORBITAL_INCLINATION = 86.8
ORBITAL_SEMIMAJOR_AXIS = 8758.64
PERIAPSIS_ALTITUDE = 346.87
PERIAPSIS_ARGUMENT_ANGLE = 151.23
PERIAPSIS_TIME = 2009-09-21T19:03:58.000Z
SPACECRAFT_ORIENTATION = (0.0,-1.0,0.0)
^MEX_ORIENTATION_DESC = "MEX_ORIENTATION_DESC.TXT"
SPACECRAFT_POINTING_MODE = ACROSSTRACK
^MEX_POINTING_DESC = "MEX_POINTING_DESC.TXT"
RIGHT_ASCENSION = -1e+32
DECLINATION = -1e+32
OFFSET_ANGLE = -0.2
SPACECRAFT_SOLAR_DISTANCE = 2.26345e+08
TARGET_NAME = MARS
/* CAMERA DATA ELEMENTS */
DETECTOR_TEMPERATURE = 18.5744
FOCAL_PLANE_TEMPERATURE = 8.5833
INST_CMPRS_NAME = "DISCRETE COSINE TRANSFORMATION (DCT)"
INST_CMPRS_RATIO = 10.1778
INST_CMPRS_QUALITY = 0
INST_CMPRS_QUANTZ_TBL_ID = 0
INSTRUMENT_TEMPERATURE = 11.0301
LENS_TEMPERATURE = 10.2145
MACROPIXEL_SIZE = 2
MISSING_FRAMES = 0
PIXEL_SUBSAMPLING_FLAG = N
SIGNAL_CHAIN_ID = 1
/* RADIOMETRIC DATA ELEMENTS */
BANDWIDTH = 178.0
CENTER_FILTER_WAVELENGTH = 679.0
RADIANCE_OFFSET = 5.29845
RADIANCE_SCALING_FACTOR = 0.0171646
REFLECTANCE_SCALING_FACTOR = 0.000465701
MEX:REFLECTANCE_OFFSET = 0.143755
/* IMAGE OBJECT DEFINITIONS */
OBJECT = IMAGE
  INTERCHANGE_FORMAT = BINARY
  LINES = 31466
  LINE_SAMPLES = 3392
  SAMPLE_TYPE = UNSIGNED_INTEGER
  SAMPLE_BITS = 8
  BANDS = 1
  BAND_STORAGE_TYPE = BAND_SEQUENTIAL
  MAXIMUM = 255
  MEAN = 146.699
  MINIMUM = 1
  STANDARD_DEVIATION = 22.396
END_OBJECT = IMAGE
/* MAP OBJECT DEFINITIONS */
OBJECT = IMAGE_MAP_PROJECTION
  ^DATA_SET_MAP_PROJECTION_CATALOG= "DSMAP.CAT"
  A_AXIS_RADIUS = 3396.0
  B_AXIS_RADIUS = 3396.0
  C_AXIS_RADIUS = 3396.0
  CENTER_LATITUDE = 0.0
  CENTER_LONGITUDE = 278.0
  COORDINATE_SYSTEM_NAME = PLANETOGRAPHIC
  COORDINATE_SYSTEM_TYPE = "BODY-FIXED ROTATING"
  EASTERNMOST_LONGITUDE = 278.623
  FIRST_STANDARD_PARALLEL = "N/A"
  LINE_FIRST_PIXEL = 1
  LINE_LAST_PIXEL = 31466
  LINE_PROJECTION_OFFSET = 65583.75
  MAP_PROJECTION_ROTATION = 0.0
  MAP_PROJECTION_TYPE = SINUSOIDAL
  MAP_RESOLUTION = 2370.85521546667
  MAP_SCALE = 0.025
  MAXIMUM_LATITUDE = 27.6293
  MINIMUM_LATITUDE = 14.3724
  POSITIVE_LONGITUDE_DIRECTION = EAST
  REFERENCE_LATITUDE = "N/A"
  REFERENCE_LONGITUDE = "N/A"
  SAMPLE_FIRST_PIXEL = 1
  SAMPLE_LAST_PIXEL = 3392
  SAMPLE_PROJECTION_OFFSET = 1969.75
  SECOND_STANDARD_PARALLEL = "N/A"
  WESTERNMOST_LONGITUDE = 277.163
END_OBJECT = IMAGE_MAP_PROJECTION
/* The JPEG2000 image data file associated with this label. */
OBJECT = COMPRESSED_FILE
  FILE_NAME = "H7337_0000_S23.JP2"
  RECORD_TYPE = UNDEFINED
  FILE_RECORDS = UNK
  ENCODING_TYPE = "JP2"
  INTERCHANGE_FORMAT = BINARY
  UNCOMPRESSED_FILE_NAME = "H7337_0000_S23.IMG"
  REQUIRED_STORAGE_BYTES = "106756416"
  ^DESCRIPTION = "JP2INFO.TXT"
END_OBJECT = COMPRESSED_FILE
END
