PDS_VERSION_ID = PDS3
/* FILE DATA ELEMENTS */
RECORD_TYPE = STREAM
/* POINTERS TO DATA OBJECTS */
^COMPRESSED_FILE = "H7338_0000_RE3.JP2"
/* IDENTIFICATION DATA ELEMENTS */
DATA_SET_ID = "MEX-M-HRSC-5-REFDR-MAPPROJECTED-V3.0"
DATA_SET_NAME = "MARS EXPRESS HRSC MAP PROJECTED REFDR V3.0"
DETECTOR_ID = MEX_HRSC_RED
EVENT_TYPE = "MARS-REGIONAL-MAPPING-Vo-Te-Pf"
INSTRUMENT_HOST_ID = MEX
INSTRUMENT_HOST_NAME = "MARS EXPRESS"
INSTRUMENT_ID = HRSC
INSTRUMENT_NAME = "HIGH RESOLUTION STEREO CAMERA"
MISSION_NAME = "MARS EXPRESS"
MISSION_PHASE_NAME = ME_Phase_18
PROCESSING_LEVEL_ID = 3
PRODUCT_CREATION_TIME = 2016-06-30T16:05:12.000Z
PRODUCT_ID = "H7338_0000_RE3.JP2"
RELEASE_ID = 0081
REVISION_ID = 0000
/* QUALITY DATA ELEMENTS */
DATA_QUALITY_ID = 1
DATA_QUALITY_DESC = "Data calculated based on original SPICE kernels"
/* TIME DATA ELEMENTS */
SPACECRAFT_CLOCK_START_COUNT = "1/0201664521.07291"
SPACECRAFT_CLOCK_STOP_COUNT = "1/0201664803.40248"
START_TIME = 2009-09-22T01:56:23.839Z
STOP_TIME = 2009-09-22T01:59:58.414Z
/* ORBITAL DATA ELEMENTS */
ASCENDING_NODE_LONGITUDE = 77.43
MAXIMUM_RESOLUTION = 117.9
FOOTPRINT_POINT_LATITUDE = (35.4842,35.4811,35.4778,35.4742,35.47, 35.5195,35.3788,35.0993,34.6791,34.399, 34.1192,33.6992,33.1393,32.8597,32.4404 ,32.1614,31.8822,31.6032,31.3244, 31.0454,30.7667,30.3492,30.0708,29.6534 ,29.2368,28.9593,28.543,28.266,27.8504, 27.5736,27.2977,27.0213,26.7458,26.4702 ,26.1949,25.9196,25.6448,25.2326, 24.9584,24.682,24.4108,24.1351,23.7233, 23.3163,23.0439,22.7717,22.5004,22.229, 21.9577,21.6701,21.671,21.6717,21.6724, 21.6732,21.6748,21.6777,21.9538,22.228, 22.4936,22.9016,23.1743,23.5838,23.857, 24.1305,24.4043,24.8149,25.2276,25.5026 ,25.7777,26.1909,26.4665,26.7431, 27.0187,27.2949,27.5716,27.8488,28.1255 ,28.542,28.8195,29.2366,29.5146,29.793, 30.0716,30.3503,30.7683,31.1869,31.6059 ,31.8853,32.3047,32.5846,32.8649, 33.2847,33.5649,33.8452,34.1257,34.5463 ,34.8268,35.2479,35.5287,35.4842)
FOOTPRINT_POINT_LONGITUDE = (177.807,177.583,177.36,177.137,176.887 ,176.51,176.514,176.523,176.537,176.545 ,176.554,176.566,176.581,176.588, 176.599,176.605,176.612,176.618,176.624 ,176.63,176.635,176.643,176.648,176.655 ,176.662,176.666,176.672,176.676, 176.681,176.685,176.688,176.691,176.693 ,176.696,176.698,176.7,176.702,176.705, 176.706,176.708,176.709,176.711,176.712 ,176.713,176.713,176.713,176.713, 176.713,176.713,176.814,177.007,177.161 ,177.354,177.638,177.884,178.087, 178.088,178.089,178.085,178.084,178.083 ,178.082,178.082,178.081,178.08,178.079 ,178.078,178.078,178.077,178.076, 178.075,178.075,178.074,178.073,178.072 ,178.072,178.071,178.07,178.069,178.068 ,178.068,178.067,178.066,178.065, 178.064,178.063,178.062,178.061,178.059 ,178.058,178.058,178.056,178.055, 178.054,178.053,178.051,178.05,178.048, 178.047,177.807)
ORBIT_NUMBER = 7338
ORBITAL_ECCENTRICITY = 0.573
ORBITAL_INCLINATION = 86.81
ORBITAL_SEMIMAJOR_AXIS = 8746.71
PERIAPSIS_ALTITUDE = 347.54
PERIAPSIS_ARGUMENT_ANGLE = 151.05
PERIAPSIS_TIME = 2009-09-22T01:57:39.000Z
SPACECRAFT_ORIENTATION = (0.0,-1.0,0.0)
^MEX_ORIENTATION_DESC = "MEX_ORIENTATION_DESC.TXT"
SPACECRAFT_POINTING_MODE = ACROSSTRACK
^MEX_POINTING_DESC = "MEX_POINTING_DESC.TXT"
RIGHT_ASCENSION = -1e+32
DECLINATION = -1e+32
OFFSET_ANGLE = 0.1
SPACECRAFT_SOLAR_DISTANCE = 2.26401e+08
TARGET_NAME = MARS
/* CAMERA DATA ELEMENTS */
DETECTOR_TEMPERATURE = 18.5744
FOCAL_PLANE_TEMPERATURE = 8.1755
INST_CMPRS_NAME = "DISCRETE COSINE TRANSFORMATION (DCT)"
INST_CMPRS_RATIO = 23.1015
INST_CMPRS_QUALITY = 0
INST_CMPRS_QUANTZ_TBL_ID = 0
INSTRUMENT_TEMPERATURE = 11.0301
LENS_TEMPERATURE = 8.5833
MACROPIXEL_SIZE = 8
MISSING_FRAMES = 0
PIXEL_SUBSAMPLING_FLAG = N
SIGNAL_CHAIN_ID = 2
/* RADIOMETRIC DATA ELEMENTS */
BANDWIDTH = 48.0
CENTER_FILTER_WAVELENGTH = 748.0
RADIANCE_OFFSET = 1.26354
RADIANCE_SCALING_FACTOR = 0.0050313
REFLECTANCE_SCALING_FACTOR = 0.000588521
MEX:REFLECTANCE_OFFSET = 0.147799
/* IMAGE OBJECT DEFINITIONS */
OBJECT = IMAGE
  INTERCHANGE_FORMAT = BINARY
  LINES = 8226
  LINE_SAMPLES = 866
  SAMPLE_TYPE = UNSIGNED_INTEGER
  SAMPLE_BITS = 8
  BANDS = 1
  BAND_STORAGE_TYPE = BAND_SEQUENTIAL
  MAXIMUM = 255
  MEAN = 111.349
  MINIMUM = 1
  STANDARD_DEVIATION = 36.7039
END_OBJECT = IMAGE
/* MAP OBJECT DEFINITIONS */
OBJECT = IMAGE_MAP_PROJECTION
  ^DATA_SET_MAP_PROJECTION_CATALOG= "DSMAP.CAT"
  A_AXIS_RADIUS = 3396.0
  B_AXIS_RADIUS = 3396.0
  C_AXIS_RADIUS = 3396.0
  CENTER_LATITUDE = 0.0
  CENTER_LONGITUDE = 177.0
  COORDINATE_SYSTEM_NAME = PLANETOGRAPHIC
  COORDINATE_SYSTEM_TYPE = "BODY-FIXED ROTATING"
  EASTERNMOST_LONGITUDE = 178.089
  FIRST_STANDARD_PARALLEL = "N/A"
  LINE_FIRST_PIXEL = 1
  LINE_LAST_PIXEL = 8226
  LINE_PROJECTION_OFFSET = 21066.1875
  MAP_PROJECTION_ROTATION = 0.0
  MAP_PROJECTION_TYPE = SINUSOIDAL
  MAP_RESOLUTION = 592.713803866667
  MAP_SCALE = 0.1
  MAXIMUM_LATITUDE = 35.5287
  MINIMUM_LATITUDE = 21.6701
  POSITIVE_LONGITUDE_DIRECTION = EAST
  REFERENCE_LATITUDE = "N/A"
  REFERENCE_LONGITUDE = "N/A"
  SAMPLE_FIRST_PIXEL = 1
  SAMPLE_LAST_PIXEL = 866
  SAMPLE_PROJECTION_OFFSET = 256.4375
  SECOND_STANDARD_PARALLEL = "N/A"
  WESTERNMOST_LONGITUDE = 176.51
END_OBJECT = IMAGE_MAP_PROJECTION
/* The JPEG2000 image data file associated with this label. */
OBJECT = COMPRESSED_FILE
  FILE_NAME = "H7338_0000_RE3.JP2"
  RECORD_TYPE = UNDEFINED
  FILE_RECORDS = UNK
  ENCODING_TYPE = "JP2"
  INTERCHANGE_FORMAT = BINARY
  UNCOMPRESSED_FILE_NAME = "H7338_0000_RE3.IMG"
  REQUIRED_STORAGE_BYTES = "7141902"
  ^DESCRIPTION = "JP2INFO.TXT"
END_OBJECT = COMPRESSED_FILE
END
