PDS_VERSION_ID = PDS3
/* FILE DATA ELEMENTS */
RECORD_TYPE = STREAM
/* POINTERS TO DATA OBJECTS */
^COMPRESSED_FILE = "H7340_0000_P23.JP2"
/* IDENTIFICATION DATA ELEMENTS */
DATA_SET_ID = "MEX-M-HRSC-5-REFDR-MAPPROJECTED-V3.0"
DATA_SET_NAME = "MARS EXPRESS HRSC MAP PROJECTED REFDR V3.0"
DETECTOR_ID = MEX_HRSC_P2
EVENT_TYPE = "MARS-REGIONAL-MAPPING-Vo-Lc-Pf"
INSTRUMENT_HOST_ID = MEX
INSTRUMENT_HOST_NAME = "MARS EXPRESS"
INSTRUMENT_ID = HRSC
INSTRUMENT_NAME = "HIGH RESOLUTION STEREO CAMERA"
MISSION_NAME = "MARS EXPRESS"
MISSION_PHASE_NAME = ME_Phase_18
PROCESSING_LEVEL_ID = 3
PRODUCT_CREATION_TIME = 2016-06-30T16:05:12.000Z
PRODUCT_ID = "H7340_0000_P23.JP2"
RELEASE_ID = 0081
REVISION_ID = 0000
/* QUALITY DATA ELEMENTS */
DATA_QUALITY_ID = 1
DATA_QUALITY_DESC = "Data calculated based on original SPICE kernels"
/* TIME DATA ELEMENTS */
SPACECRAFT_CLOCK_START_COUNT = "1/0201714096.08274"
SPACECRAFT_CLOCK_STOP_COUNT = "1/0201714366.40349"
START_TIME = 2009-09-22T15:42:36.645Z
STOP_TIME = 2009-09-22T15:45:56.091Z
/* ORBITAL DATA ELEMENTS */
ASCENDING_NODE_LONGITUDE = 77.4
MAXIMUM_RESOLUTION = 58.1
FOOTPRINT_POINT_LATITUDE = (39.9605,39.9535,39.9441,39.989,39.5808 ,39.1922,38.9331,38.6744,38.4153, 38.1563,37.8972,37.6383,37.3793,37.1204 ,36.8613,36.6023,36.2137,35.9547, 35.5662,35.1779,34.9191,34.6603,34.4014 ,34.0131,33.7544,33.4959,33.2373, 32.9786,32.7201,32.3324,32.0743,31.816, 31.558,31.3,31.0421,30.7842,30.5265, 30.269,30.0113,29.7541,29.3684,29.1113, 28.8542,28.5975,28.3409,28.0844,27.828, 27.5718,27.3157,27.0598,27.0154,27.0173 ,27.0193,27.0212,27.2773,27.5338, 27.7903,28.0473,28.3042,28.5614,28.8185 ,29.0755,29.3329,29.5904,29.8483,30.106 ,30.3638,30.6218,30.8798,31.1381, 31.3965,31.7842,32.0428,32.3015,32.5602 ,32.8189,33.0778,33.4661,33.7255, 33.9845,34.2437,34.503,34.8918,35.1512, 35.5401,35.7996,36.059,36.4483,36.708, 36.9675,37.2273,37.4869,37.7464,38.006, 38.3954,38.655,39.0444,39.4335,39.6931, 39.9605)
FOOTPRINT_POINT_LONGITUDE = (335.827,335.382,334.876,334.517, 334.538,334.558,334.571,334.583,334.596 ,334.608,334.619,334.631,334.642, 334.653,334.663,334.674,334.689,334.699 ,334.713,334.726,334.735,334.744, 334.752,334.764,334.772,334.78,334.787, 334.794,334.802,334.812,334.818,334.824 ,334.83,334.836,334.842,334.848,334.853 ,334.858,334.863,334.868,334.874, 334.879,334.883,334.887,334.891,334.894 ,334.898,334.901,334.904,334.907, 335.153,335.529,335.957,336.298,336.298 ,336.297,336.296,336.295,336.294, 336.293,336.292,336.291,336.29,336.289, 336.288,336.287,336.286,336.285,336.283 ,336.282,336.281,336.279,336.278, 336.277,336.276,336.274,336.273,336.271 ,336.27,336.268,336.267,336.265,336.263 ,336.262,336.259,336.258,336.256, 336.253,336.252,336.25,336.248,336.246, 336.244,336.242,336.239,336.237,336.234 ,336.231,336.228,335.827)
ORBIT_NUMBER = 7340
ORBITAL_ECCENTRICITY = 0.573
ORBITAL_INCLINATION = 86.82
ORBITAL_SEMIMAJOR_AXIS = 8747.4
PERIAPSIS_ALTITUDE = 347.61
PERIAPSIS_ARGUMENT_ANGLE = 150.68
PERIAPSIS_TIME = 2009-09-22T15:45:00.000Z
SPACECRAFT_ORIENTATION = (0.0,-1.0,0.0)
^MEX_ORIENTATION_DESC = "MEX_ORIENTATION_DESC.TXT"
SPACECRAFT_POINTING_MODE = NADIR
^MEX_POINTING_DESC = "MEX_POINTING_DESC.TXT"
RIGHT_ASCENSION = -1e+32
DECLINATION = -1e+32
OFFSET_ANGLE = -1e+32
SPACECRAFT_SOLAR_DISTANCE = 2.26514e+08
TARGET_NAME = MARS
/* CAMERA DATA ELEMENTS */
DETECTOR_TEMPERATURE = 18.9822
FOCAL_PLANE_TEMPERATURE = 8.9911
INST_CMPRS_NAME = "DISCRETE COSINE TRANSFORMATION (DCT)"
INST_CMPRS_RATIO = 18.7175
INST_CMPRS_QUALITY = 0
INST_CMPRS_QUANTZ_TBL_ID = 0
INSTRUMENT_TEMPERATURE = 11.4379
LENS_TEMPERATURE = 9.8067
MACROPIXEL_SIZE = 4
MISSING_FRAMES = 0
PIXEL_SUBSAMPLING_FLAG = N
SIGNAL_CHAIN_ID = 3
/* RADIOMETRIC DATA ELEMENTS */
BANDWIDTH = 177.0
CENTER_FILTER_WAVELENGTH = 676.5
RADIANCE_OFFSET = 2.73406
RADIANCE_SCALING_FACTOR = 0.0124147
REFLECTANCE_SCALING_FACTOR = 0.000337739
MEX:REFLECTANCE_OFFSET = 0.0743793
/* IMAGE OBJECT DEFINITIONS */
OBJECT = IMAGE
  INTERCHANGE_FORMAT = BINARY
  LINES = 15428
  LINE_SAMPLES = 1717
  SAMPLE_TYPE = UNSIGNED_INTEGER
  SAMPLE_BITS = 8
  BANDS = 1
  BAND_STORAGE_TYPE = BAND_SEQUENTIAL
  MAXIMUM = 255
  MEAN = 104.392
  MINIMUM = 1
  STANDARD_DEVIATION = 49.5898
END_OBJECT = IMAGE
/* MAP OBJECT DEFINITIONS */
OBJECT = IMAGE_MAP_PROJECTION
  ^DATA_SET_MAP_PROJECTION_CATALOG= "DSMAP.CAT"
  A_AXIS_RADIUS = 3396.0
  B_AXIS_RADIUS = 3396.0
  C_AXIS_RADIUS = 3396.0
  CENTER_LATITUDE = 0.0
  CENTER_LONGITUDE = 336.0
  COORDINATE_SYSTEM_NAME = PLANETOGRAPHIC
  COORDINATE_SYSTEM_TYPE = "BODY-FIXED ROTATING"
  EASTERNMOST_LONGITUDE = 336.298
  FIRST_STANDARD_PARALLEL = "N/A"
  LINE_FIRST_PIXEL = 1
  LINE_LAST_PIXEL = 15428
  LINE_PROJECTION_OFFSET = 47443.125
  MAP_PROJECTION_ROTATION = 0.0
  MAP_PROJECTION_TYPE = SINUSOIDAL
  MAP_RESOLUTION = 1185.42760773333
  MAP_SCALE = 0.05
  MAXIMUM_LATITUDE = 39.989
  MINIMUM_LATITUDE = 27.0154
  POSITIVE_LONGITUDE_DIRECTION = EAST
  REFERENCE_LATITUDE = "N/A"
  REFERENCE_LONGITUDE = "N/A"
  SAMPLE_FIRST_PIXEL = 1
  SAMPLE_LAST_PIXEL = 1717
  SAMPLE_PROJECTION_OFFSET = 1378.375
  SECOND_STANDARD_PARALLEL = "N/A"
  WESTERNMOST_LONGITUDE = 334.517
END_OBJECT = IMAGE_MAP_PROJECTION
/* The JPEG2000 image data file associated with this label. */
OBJECT = COMPRESSED_FILE
  FILE_NAME = "H7340_0000_P23.JP2"
  RECORD_TYPE = UNDEFINED
  FILE_RECORDS = UNK
  ENCODING_TYPE = "JP2"
  INTERCHANGE_FORMAT = BINARY
  UNCOMPRESSED_FILE_NAME = "H7340_0000_P23.IMG"
  REQUIRED_STORAGE_BYTES = "26510480"
  ^DESCRIPTION = "JP2INFO.TXT"
END_OBJECT = COMPRESSED_FILE
END
