PDS_VERSION_ID = PDS3
/* FILE DATA ELEMENTS */
RECORD_TYPE = STREAM
/* POINTERS TO DATA OBJECTS */
^COMPRESSED_FILE = "H7340_0000_S23.JP2"
/* IDENTIFICATION DATA ELEMENTS */
DATA_SET_ID = "MEX-M-HRSC-5-REFDR-MAPPROJECTED-V3.0"
DATA_SET_NAME = "MARS EXPRESS HRSC MAP PROJECTED REFDR V3.0"
DETECTOR_ID = MEX_HRSC_S2
EVENT_TYPE = "MARS-REGIONAL-MAPPING-Vo-Lc-Pf"
INSTRUMENT_HOST_ID = MEX
INSTRUMENT_HOST_NAME = "MARS EXPRESS"
INSTRUMENT_ID = HRSC
INSTRUMENT_NAME = "HIGH RESOLUTION STEREO CAMERA"
MISSION_NAME = "MARS EXPRESS"
MISSION_PHASE_NAME = ME_Phase_18
PROCESSING_LEVEL_ID = 3
PRODUCT_CREATION_TIME = 2016-06-30T16:05:12.000Z
PRODUCT_ID = "H7340_0000_S23.JP2"
RELEASE_ID = 0081
REVISION_ID = 0000
/* QUALITY DATA ELEMENTS */
DATA_QUALITY_ID = 1
DATA_QUALITY_DESC = "Data calculated based on original SPICE kernels"
/* TIME DATA ELEMENTS */
SPACECRAFT_CLOCK_START_COUNT = "1/0201714096.08274"
SPACECRAFT_CLOCK_STOP_COUNT = "1/0201714366.40349"
START_TIME = 2009-09-22T15:42:47.961Z
STOP_TIME = 2009-09-22T15:46:07.106Z
/* ORBITAL DATA ELEMENTS */
ASCENDING_NODE_LONGITUDE = 77.4
MAXIMUM_RESOLUTION = 30
FOOTPRINT_POINT_LATITUDE = (39.9435,39.936,39.9288,39.9195,39.4745 ,39.2128,38.9507,38.6893,38.4275, 38.1659,37.9044,37.6429,37.3817,37.1204 ,36.7285,36.4673,36.0758,35.6843, 35.2931,34.9023,34.6419,34.3814,33.9907 ,33.7306,33.4707,33.2107,32.9509, 32.5613,32.3018,32.0427,31.7835,31.5246 ,31.2659,31.0073,30.7488,30.3614, 30.1033,29.8456,29.5882,29.3308,29.0735 ,28.8163,28.5596,28.3031,28.0467, 27.7904,27.5345,27.2788,27.0232,27.0203 ,27.0211,27.0225,27.0232,27.0245, 27.2803,27.5364,27.7929,28.0499,28.3064 ,28.5637,28.8209,29.0779,29.3355, 29.5932,29.8515,30.2388,30.4972,30.7556 ,31.0145,31.2736,31.5328,31.7921, 32.0515,32.3112,32.571,32.8308,33.2211, 33.4814,33.7419,34.0024,34.2631,34.5239 ,34.9153,35.3069,35.568,35.8294,36.0908 ,36.4829,36.8757,37.2689,37.6617, 37.9237,38.1861,38.4481,38.7104,38.9726 ,39.2347,39.4971,39.7594,39.9435)
FOOTPRINT_POINT_LONGITUDE = (336.099,335.574,335.129,334.62,334.543 ,334.556,334.569,334.581,334.594, 334.605,334.617,334.628,334.639,334.65, 334.666,334.676,334.691,334.705,334.719 ,334.732,334.74,334.749,334.761,334.769 ,334.776,334.783,334.79,334.801,334.807 ,334.813,334.82,334.826,334.831,334.837 ,334.842,334.85,334.855,334.859,334.864 ,334.868,334.872,334.876,334.88,334.884 ,334.887,334.89,334.893,334.896,334.899 ,335.171,335.402,335.783,336.014, 336.305,336.304,336.303,336.302,336.301 ,336.299,336.298,336.297,336.296, 336.295,336.294,336.293,336.291,336.289 ,336.288,336.287,336.286,336.284, 336.283,336.282,336.28,336.279,336.277, 336.275,336.274,336.272,336.271,336.269 ,336.268,336.265,336.262,336.261, 336.259,336.257,336.254,336.251,336.249 ,336.245,336.243,336.241,336.239, 336.237,336.234,336.232,336.23,336.227, 336.099)
ORBIT_NUMBER = 7340
ORBITAL_ECCENTRICITY = 0.573
ORBITAL_INCLINATION = 86.82
ORBITAL_SEMIMAJOR_AXIS = 8747.4
PERIAPSIS_ALTITUDE = 347.61
PERIAPSIS_ARGUMENT_ANGLE = 150.68
PERIAPSIS_TIME = 2009-09-22T15:45:00.000Z
SPACECRAFT_ORIENTATION = (0.0,-1.0,0.0)
^MEX_ORIENTATION_DESC = "MEX_ORIENTATION_DESC.TXT"
SPACECRAFT_POINTING_MODE = NADIR
^MEX_POINTING_DESC = "MEX_POINTING_DESC.TXT"
RIGHT_ASCENSION = -1e+32
DECLINATION = -1e+32
OFFSET_ANGLE = -1e+32
SPACECRAFT_SOLAR_DISTANCE = 2.26514e+08
TARGET_NAME = MARS
/* CAMERA DATA ELEMENTS */
DETECTOR_TEMPERATURE = 18.9822
FOCAL_PLANE_TEMPERATURE = 8.9911
INST_CMPRS_NAME = "DISCRETE COSINE TRANSFORMATION (DCT)"
INST_CMPRS_RATIO = 13.4557
INST_CMPRS_QUALITY = 0
INST_CMPRS_QUANTZ_TBL_ID = 0
INSTRUMENT_TEMPERATURE = 11.4379
LENS_TEMPERATURE = 9.8067
MACROPIXEL_SIZE = 2
MISSING_FRAMES = 0
PIXEL_SUBSAMPLING_FLAG = N
SIGNAL_CHAIN_ID = 1
/* RADIOMETRIC DATA ELEMENTS */
BANDWIDTH = 178.0
CENTER_FILTER_WAVELENGTH = 679.0
RADIANCE_OFFSET = 2.74949
RADIANCE_SCALING_FACTOR = 0.0134779
REFLECTANCE_SCALING_FACTOR = 0.000366218
MEX:REFLECTANCE_OFFSET = 0.0747084
/* IMAGE OBJECT DEFINITIONS */
OBJECT = IMAGE
  INTERCHANGE_FORMAT = BINARY
  LINES = 30855
  LINE_SAMPLES = 3434
  SAMPLE_TYPE = UNSIGNED_INTEGER
  SAMPLE_BITS = 8
  BANDS = 1
  BAND_STORAGE_TYPE = BAND_SEQUENTIAL
  MAXIMUM = 255
  MEAN = 109.025
  MINIMUM = 1
  STANDARD_DEVIATION = 48.6639
END_OBJECT = IMAGE
/* MAP OBJECT DEFINITIONS */
OBJECT = IMAGE_MAP_PROJECTION
  ^DATA_SET_MAP_PROJECTION_CATALOG= "DSMAP.CAT"
  A_AXIS_RADIUS = 3396.0
  B_AXIS_RADIUS = 3396.0
  C_AXIS_RADIUS = 3396.0
  CENTER_LATITUDE = 0.0
  CENTER_LONGITUDE = 336.0
  COORDINATE_SYSTEM_NAME = PLANETOGRAPHIC
  COORDINATE_SYSTEM_TYPE = "BODY-FIXED ROTATING"
  EASTERNMOST_LONGITUDE = 336.305
  FIRST_STANDARD_PARALLEL = "N/A"
  LINE_FIRST_PIXEL = 1
  LINE_LAST_PIXEL = 30855
  LINE_PROJECTION_OFFSET = 94886.75
  MAP_PROJECTION_ROTATION = 0.0
  MAP_PROJECTION_TYPE = SINUSOIDAL
  MAP_RESOLUTION = 2370.85521546667
  MAP_SCALE = 0.025
  MAXIMUM_LATITUDE = 39.9435
  MINIMUM_LATITUDE = 27.0203
  POSITIVE_LONGITUDE_DIRECTION = EAST
  REFERENCE_LATITUDE = "N/A"
  REFERENCE_LONGITUDE = "N/A"
  SAMPLE_FIRST_PIXEL = 1
  SAMPLE_LAST_PIXEL = 3434
  SAMPLE_PROJECTION_OFFSET = 2757.25
  SECOND_STANDARD_PARALLEL = "N/A"
  WESTERNMOST_LONGITUDE = 334.543
END_OBJECT = IMAGE_MAP_PROJECTION
/* The JPEG2000 image data file associated with this label. */
OBJECT = COMPRESSED_FILE
  FILE_NAME = "H7340_0000_S23.JP2"
  RECORD_TYPE = UNDEFINED
  FILE_RECORDS = UNK
  ENCODING_TYPE = "JP2"
  INTERCHANGE_FORMAT = BINARY
  UNCOMPRESSED_FILE_NAME = "H7340_0000_S23.IMG"
  REQUIRED_STORAGE_BYTES = "105980108"
  ^DESCRIPTION = "JP2INFO.TXT"
END_OBJECT = COMPRESSED_FILE
END
