PDS_VERSION_ID = PDS3
/* FILE DATA ELEMENTS */
RECORD_TYPE = STREAM
/* POINTERS TO DATA OBJECTS */
^COMPRESSED_FILE = "H7343_0000_P13.JP2"
/* IDENTIFICATION DATA ELEMENTS */
DATA_SET_ID = "MEX-M-HRSC-5-REFDR-MAPPROJECTED-V3.0"
DATA_SET_NAME = "MARS EXPRESS HRSC MAP PROJECTED REFDR V3.0"
DETECTOR_ID = MEX_HRSC_P1
EVENT_TYPE = "MARS-REGIONAL-MAPPING-Im-Fl-La"
INSTRUMENT_HOST_ID = MEX
INSTRUMENT_HOST_NAME = "MARS EXPRESS"
INSTRUMENT_ID = HRSC
INSTRUMENT_NAME = "HIGH RESOLUTION STEREO CAMERA"
MISSION_NAME = "MARS EXPRESS"
MISSION_PHASE_NAME = ME_Phase_18
PROCESSING_LEVEL_ID = 3
PRODUCT_CREATION_TIME = 2016-06-30T16:05:12.000Z
PRODUCT_ID = "H7343_0000_P13.JP2"
RELEASE_ID = 0081
REVISION_ID = 0000
/* QUALITY DATA ELEMENTS */
DATA_QUALITY_ID = 1
DATA_QUALITY_DESC = "Data calculated based on original SPICE kernels"
/* TIME DATA ELEMENTS */
SPACECRAFT_CLOCK_START_COUNT = "1/0201788689.07308"
SPACECRAFT_CLOCK_STOP_COUNT = "1/0201789005.31304"
START_TIME = 2009-09-23T12:25:02.598Z
STOP_TIME = 2009-09-23T12:29:07.311Z
/* ORBITAL DATA ELEMENTS */
ASCENDING_NODE_LONGITUDE = 77.34
MAXIMUM_RESOLUTION = 28.5
FOOTPRINT_POINT_LATITUDE = (32.9368,32.9368,32.9362,32.9344, 32.9324,32.5921,32.2803,31.813,31.501, 31.0315,30.7185,30.4051,29.9345,29.6205 ,29.1504,28.8362,28.5231,28.209,27.8951 ,27.5805,27.2661,26.9482,26.4725, 26.1545,25.8384,25.5226,25.0491,24.7331 ,24.2593,23.9432,23.6272,23.3108, 22.9962,22.6789,22.204,21.7297,21.2551, 20.9409,20.624,20.1486,19.8378,19.5191, 19.2018,18.8814,18.4083,18.0911,17.775, 17.4281,17.2393,17.0121,17.0097,17.0074 ,17.0027,16.9989,17.3766,17.7291, 18.0457,18.362,18.8382,19.1559,19.4746, 19.9525,20.2707,20.5832,20.8996,21.216, 21.6903,22.007,22.3223,22.6387,23.1127, 23.4294,23.7464,24.0629,24.3795,24.6957 ,25.012,25.3284,25.6464,25.9625,26.2796 ,26.5972,27.0737,27.5458,27.861,28.1764 ,28.4904,28.8055,29.2773,29.5929, 29.9069,30.2207,30.5348,30.848,31.3158, 31.63,32.0993,32.4121,32.8812,32.9368)
FOOTPRINT_POINT_LONGITUDE = (33.7125,33.4871,33.2202,32.8984,32.661 ,32.5023,32.5101,32.5217,32.529,32.5391 ,32.5455,32.5517,32.5604,32.5659,32.574 ,32.579,32.5841,32.5887,32.5932,32.5973 ,32.6012,32.6039,32.6078,32.61,32.6125, 32.615,32.6185,32.6204,32.6231,32.6246, 32.6259,32.6269,32.6283,32.6286,32.6291 ,32.6294,32.6292,32.6296,32.6288, 32.6274,32.6282,32.6262,32.6245,32.6216 ,32.6193,32.617,32.6148,32.6119,32.6104 ,32.792,33.0817,33.3194,33.6774,33.975, 33.9747,33.9745,33.9743,33.9743,33.9734 ,33.9726,33.9713,33.9694,33.9684, 33.9712,33.9715,33.9717,33.9723,33.9724 ,33.9734,33.9738,33.9745,33.9746, 33.9744,33.9744,33.9744,33.9746,33.9747 ,33.9747,33.9735,33.9736,33.9728, 33.9717,33.9697,33.9706,33.9707,33.9706 ,33.9713,33.9711,33.9713,33.9705, 33.9707,33.9708,33.9706,33.9709,33.9725 ,33.9716,33.9714,33.9711,33.9704, 33.7125)
ORBIT_NUMBER = 7343
ORBITAL_ECCENTRICITY = 0.573
ORBITAL_INCLINATION = 86.8
ORBITAL_SEMIMAJOR_AXIS = 8754.08
PERIAPSIS_ALTITUDE = 347.85
PERIAPSIS_ARGUMENT_ANGLE = 150.18
PERIAPSIS_TIME = 2009-09-23T12:26:11.000Z
SPACECRAFT_ORIENTATION = (0.0,-1.0,0.0)
^MEX_ORIENTATION_DESC = "MEX_ORIENTATION_DESC.TXT"
SPACECRAFT_POINTING_MODE = ACROSSTRACK
^MEX_POINTING_DESC = "MEX_POINTING_DESC.TXT"
RIGHT_ASCENSION = -1e+32
DECLINATION = -1e+32
OFFSET_ANGLE = 0.2
SPACECRAFT_SOLAR_DISTANCE = 2.26682e+08
TARGET_NAME = MARS
/* CAMERA DATA ELEMENTS */
DETECTOR_TEMPERATURE = 17.351
FOCAL_PLANE_TEMPERATURE = 8.1755
INST_CMPRS_NAME = "DISCRETE COSINE TRANSFORMATION (DCT)"
INST_CMPRS_RATIO = 9.23303
INST_CMPRS_QUALITY = 0
INST_CMPRS_QUANTZ_TBL_ID = 0
INSTRUMENT_TEMPERATURE = 11.234
LENS_TEMPERATURE = 8.5833
MACROPIXEL_SIZE = 2
MISSING_FRAMES = 0
PIXEL_SUBSAMPLING_FLAG = N
SIGNAL_CHAIN_ID = 3
/* RADIOMETRIC DATA ELEMENTS */
BANDWIDTH = 174.0
CENTER_FILTER_WAVELENGTH = 675.0
RADIANCE_OFFSET = 4.85526
RADIANCE_SCALING_FACTOR = 0.0172971
REFLECTANCE_SCALING_FACTOR = 0.000478073
MEX:REFLECTANCE_OFFSET = 0.134194
/* IMAGE OBJECT DEFINITIONS */
OBJECT = IMAGE
  INTERCHANGE_FORMAT = BINARY
  LINES = 37695
  LINE_SAMPLES = 3366
  SAMPLE_TYPE = UNSIGNED_INTEGER
  SAMPLE_BITS = 8
  BANDS = 1
  BAND_STORAGE_TYPE = BAND_SEQUENTIAL
  MAXIMUM = 255
  MEAN = 134.26
  MINIMUM = 1
  STANDARD_DEVIATION = 22.8226
END_OBJECT = IMAGE
/* MAP OBJECT DEFINITIONS */
OBJECT = IMAGE_MAP_PROJECTION
  ^DATA_SET_MAP_PROJECTION_CATALOG= "DSMAP.CAT"
  A_AXIS_RADIUS = 3396.0
  B_AXIS_RADIUS = 3396.0
  C_AXIS_RADIUS = 3396.0
  CENTER_LATITUDE = 0.0
  CENTER_LONGITUDE = 33.0
  COORDINATE_SYSTEM_NAME = PLANETOGRAPHIC
  COORDINATE_SYSTEM_TYPE = "BODY-FIXED ROTATING"
  EASTERNMOST_LONGITUDE = 33.975
  FIRST_STANDARD_PARALLEL = "N/A"
  LINE_FIRST_PIXEL = 1
  LINE_LAST_PIXEL = 37695
  LINE_PROJECTION_OFFSET = 78005.25
  MAP_PROJECTION_ROTATION = 0.0
  MAP_PROJECTION_TYPE = SINUSOIDAL
  MAP_RESOLUTION = 2370.85521546667
  MAP_SCALE = 0.025
  MAXIMUM_LATITUDE = 32.9368
  MINIMUM_LATITUDE = 16.9989
  POSITIVE_LONGITUDE_DIRECTION = EAST
  REFERENCE_LATITUDE = "N/A"
  REFERENCE_LONGITUDE = "N/A"
  SAMPLE_FIRST_PIXEL = 1
  SAMPLE_LAST_PIXEL = 3366
  SAMPLE_PROJECTION_OFFSET = 1026.75
  SECOND_STANDARD_PARALLEL = "N/A"
  WESTERNMOST_LONGITUDE = 32.5023
END_OBJECT = IMAGE_MAP_PROJECTION
/* The JPEG2000 image data file associated with this label. */
OBJECT = COMPRESSED_FILE
  FILE_NAME = "H7343_0000_P13.JP2"
  RECORD_TYPE = UNDEFINED
  FILE_RECORDS = UNK
  ENCODING_TYPE = "JP2"
  INTERCHANGE_FORMAT = BINARY
  UNCOMPRESSED_FILE_NAME = "H7343_0000_P13.IMG"
  REQUIRED_STORAGE_BYTES = "126904932"
  ^DESCRIPTION = "JP2INFO.TXT"
END_OBJECT = COMPRESSED_FILE
END
