PDS_VERSION_ID = PDS3
/* FILE DATA ELEMENTS */
RECORD_TYPE = STREAM
/* POINTERS TO DATA OBJECTS */
^COMPRESSED_FILE = "H7343_0000_RE3.JP2"
/* IDENTIFICATION DATA ELEMENTS */
DATA_SET_ID = "MEX-M-HRSC-5-REFDR-MAPPROJECTED-V3.0"
DATA_SET_NAME = "MARS EXPRESS HRSC MAP PROJECTED REFDR V3.0"
DETECTOR_ID = MEX_HRSC_RED
EVENT_TYPE = "MARS-REGIONAL-MAPPING-Im-Fl-La"
INSTRUMENT_HOST_ID = MEX
INSTRUMENT_HOST_NAME = "MARS EXPRESS"
INSTRUMENT_ID = HRSC
INSTRUMENT_NAME = "HIGH RESOLUTION STEREO CAMERA"
MISSION_NAME = "MARS EXPRESS"
MISSION_PHASE_NAME = ME_Phase_18
PROCESSING_LEVEL_ID = 3
PRODUCT_CREATION_TIME = 2016-06-30T16:05:12.000Z
PRODUCT_ID = "H7343_0000_RE3.JP2"
RELEASE_ID = 0081
REVISION_ID = 0000
/* QUALITY DATA ELEMENTS */
DATA_QUALITY_ID = 1
DATA_QUALITY_DESC = "Data calculated based on original SPICE kernels"
/* TIME DATA ELEMENTS */
SPACECRAFT_CLOCK_START_COUNT = "1/0201788689.07308"
SPACECRAFT_CLOCK_STOP_COUNT = "1/0201789005.31304"
START_TIME = 2009-09-23T12:25:49.738Z
STOP_TIME = 2009-09-23T12:29:59.334Z
/* ORBITAL DATA ELEMENTS */
ASCENDING_NODE_LONGITUDE = 77.34
MAXIMUM_RESOLUTION = 58.3
FOOTPRINT_POINT_LATITUDE = (32.8762,32.869,32.8613,32.7309,32.2642 ,31.9506,31.4842,31.1732,30.8626, 30.5522,30.0864,29.777,29.4663,29.0015, 28.691,28.3807,28.0719,27.7619,27.4534, 27.1456,26.8411,26.5357,26.0795,25.7737 ,25.4674,25.161,24.8552,24.5501,24.0925 ,23.6355,23.1798,22.875,22.573,22.2707, 21.8174,21.3648,20.9102,20.572,20.2155, 19.8502,19.4966,19.1419,18.7919,18.4348 ,18.0827,17.7294,17.378,17.0262,17.0092 ,17.0117,17.0128,17.0146,17.0173, 17.3693,17.7222,18.0758,18.4301,18.9609 ,19.3147,19.6686,20.0234,20.3818, 20.5643,20.908,21.3603,21.6626,21.9639, 22.2689,22.7245,23.0289,23.3325,23.6363 ,23.941,24.2459,24.5512,25.0098,25.3157 ,25.7737,26.08,26.3853,26.8437,27.149, 27.4591,27.7677,28.2308,28.6964,29.0053 ,29.3158,29.6245,29.9352,30.246,30.5567 ,30.8684,31.1792,31.6485,31.9603, 32.2721,32.5833,32.8952,32.8762)
FOOTPRINT_POINT_LONGITUDE = (33.7029,33.2742,32.848,32.5061,32.5163 ,32.5236,32.5329,32.5389,32.5445, 32.5499,32.5576,32.5623,32.5671,32.5736 ,32.5779,32.5819,32.5854,32.5891, 32.5922,32.595,32.5967,32.5986,32.6005, 32.6022,32.6038,32.6054,32.6066,32.6076 ,32.6089,32.6098,32.6101,32.6105,32.61, 32.6095,32.6086,32.6074,32.6066,32.6048 ,32.6026,32.6026,32.5995,32.5966, 32.5924,32.59,32.5862,32.5828,32.5788, 32.5748,32.7733,33.1593,33.373,33.6813, 34.0087,34.0073,34.0061,34.0049,34.0037 ,34.0011,33.9989,33.9965,33.9943, 33.9935,33.9947,33.9946,33.9937,33.9933 ,33.9921,33.9926,33.9922,33.9919, 33.9911,33.9902,33.9895,33.9888,33.9881 ,33.9871,33.9863,33.9843,33.9833, 33.9816,33.9789,33.9767,33.9769,33.9762 ,33.975,33.9747,33.9735,33.9731,33.9715 ,33.9708,33.9702,33.9692,33.9687, 33.9676,33.9674,33.9664,33.9654,33.9639 ,33.9627,33.7029)
ORBIT_NUMBER = 7343
ORBITAL_ECCENTRICITY = 0.573
ORBITAL_INCLINATION = 86.8
ORBITAL_SEMIMAJOR_AXIS = 8754.08
PERIAPSIS_ALTITUDE = 347.85
PERIAPSIS_ARGUMENT_ANGLE = 150.18
PERIAPSIS_TIME = 2009-09-23T12:26:11.000Z
SPACECRAFT_ORIENTATION = (0.0,-1.0,0.0)
^MEX_ORIENTATION_DESC = "MEX_ORIENTATION_DESC.TXT"
SPACECRAFT_POINTING_MODE = ACROSSTRACK
^MEX_POINTING_DESC = "MEX_POINTING_DESC.TXT"
RIGHT_ASCENSION = -1e+32
DECLINATION = -1e+32
OFFSET_ANGLE = 0.2
SPACECRAFT_SOLAR_DISTANCE = 2.26682e+08
TARGET_NAME = MARS
/* CAMERA DATA ELEMENTS */
DETECTOR_TEMPERATURE = 18.3705
FOCAL_PLANE_TEMPERATURE = 8.1755
INST_CMPRS_NAME = "DISCRETE COSINE TRANSFORMATION (DCT)"
INST_CMPRS_RATIO = 14.1259
INST_CMPRS_QUALITY = 0
INST_CMPRS_QUANTZ_TBL_ID = 0
INSTRUMENT_TEMPERATURE = 11.234
LENS_TEMPERATURE = 8.5833
MACROPIXEL_SIZE = 4
MISSING_FRAMES = 0
PIXEL_SUBSAMPLING_FLAG = N
SIGNAL_CHAIN_ID = 2
/* RADIOMETRIC DATA ELEMENTS */
BANDWIDTH = 48.0
CENTER_FILTER_WAVELENGTH = 748.0
RADIANCE_OFFSET = 1.41012
RADIANCE_SCALING_FACTOR = 0.00481633
REFLECTANCE_SCALING_FACTOR = 0.000564781
MEX:REFLECTANCE_OFFSET = 0.165355
/* IMAGE OBJECT DEFINITIONS */
OBJECT = IMAGE
  INTERCHANGE_FORMAT = BINARY
  LINES = 18848
  LINE_SAMPLES = 1683
  SAMPLE_TYPE = UNSIGNED_INTEGER
  SAMPLE_BITS = 8
  BANDS = 1
  BAND_STORAGE_TYPE = BAND_SEQUENTIAL
  MAXIMUM = 255
  MEAN = 135.838
  MINIMUM = 1
  STANDARD_DEVIATION = 23.4384
END_OBJECT = IMAGE
/* MAP OBJECT DEFINITIONS */
OBJECT = IMAGE_MAP_PROJECTION
  ^DATA_SET_MAP_PROJECTION_CATALOG= "DSMAP.CAT"
  A_AXIS_RADIUS = 3396.0
  B_AXIS_RADIUS = 3396.0
  C_AXIS_RADIUS = 3396.0
  CENTER_LATITUDE = 0.0
  CENTER_LONGITUDE = 33.0
  COORDINATE_SYSTEM_NAME = PLANETOGRAPHIC
  COORDINATE_SYSTEM_TYPE = "BODY-FIXED ROTATING"
  EASTERNMOST_LONGITUDE = 34.0087
  FIRST_STANDARD_PARALLEL = "N/A"
  LINE_FIRST_PIXEL = 1
  LINE_LAST_PIXEL = 18848
  LINE_PROJECTION_OFFSET = 39002.375
  MAP_PROJECTION_ROTATION = 0.0
  MAP_PROJECTION_TYPE = SINUSOIDAL
  MAP_RESOLUTION = 1185.42760773333
  MAP_SCALE = 0.05
  MAXIMUM_LATITUDE = 32.8952
  MINIMUM_LATITUDE = 17.0092
  POSITIVE_LONGITUDE_DIRECTION = EAST
  REFERENCE_LATITUDE = "N/A"
  REFERENCE_LONGITUDE = "N/A"
  SAMPLE_FIRST_PIXEL = 1
  SAMPLE_LAST_PIXEL = 1683
  SAMPLE_PROJECTION_OFFSET = 513.125
  SECOND_STANDARD_PARALLEL = "N/A"
  WESTERNMOST_LONGITUDE = 32.5061
END_OBJECT = IMAGE_MAP_PROJECTION
/* The JPEG2000 image data file associated with this label. */
OBJECT = COMPRESSED_FILE
  FILE_NAME = "H7343_0000_RE3.JP2"
  RECORD_TYPE = UNDEFINED
  FILE_RECORDS = UNK
  ENCODING_TYPE = "JP2"
  INTERCHANGE_FORMAT = BINARY
  UNCOMPRESSED_FILE_NAME = "H7343_0000_RE3.IMG"
  REQUIRED_STORAGE_BYTES = "31741380"
  ^DESCRIPTION = "JP2INFO.TXT"
END_OBJECT = COMPRESSED_FILE
END
