PDS_VERSION_ID = PDS3
/* FILE DATA ELEMENTS */
RECORD_TYPE = STREAM
/* POINTERS TO DATA OBJECTS */
^COMPRESSED_FILE = "H7343_0000_S23.JP2"
/* IDENTIFICATION DATA ELEMENTS */
DATA_SET_ID = "MEX-M-HRSC-5-REFDR-MAPPROJECTED-V3.0"
DATA_SET_NAME = "MARS EXPRESS HRSC MAP PROJECTED REFDR V3.0"
DETECTOR_ID = MEX_HRSC_S2
EVENT_TYPE = "MARS-REGIONAL-MAPPING-Im-Fl-La"
INSTRUMENT_HOST_ID = MEX
INSTRUMENT_HOST_NAME = "MARS EXPRESS"
INSTRUMENT_ID = HRSC
INSTRUMENT_NAME = "HIGH RESOLUTION STEREO CAMERA"
MISSION_NAME = "MARS EXPRESS"
MISSION_PHASE_NAME = ME_Phase_18
PROCESSING_LEVEL_ID = 3
PRODUCT_CREATION_TIME = 2016-06-30T16:05:12.000Z
PRODUCT_ID = "H7343_0000_S23.JP2"
RELEASE_ID = 0081
REVISION_ID = 0000
/* QUALITY DATA ELEMENTS */
DATA_QUALITY_ID = 1
DATA_QUALITY_DESC = "Data calculated based on original SPICE kernels"
/* TIME DATA ELEMENTS */
SPACECRAFT_CLOCK_START_COUNT = "1/0201788689.07308"
SPACECRAFT_CLOCK_STOP_COUNT = "1/0201789005.31304"
START_TIME = 2009-09-23T12:25:55.349Z
STOP_TIME = 2009-09-23T12:30:05.977Z
/* ORBITAL DATA ELEMENTS */
ASCENDING_NODE_LONGITUDE = 77.34
MAXIMUM_RESOLUTION = 29.7
FOOTPRINT_POINT_LATITUDE = (32.8594,32.8554,32.8471,32.8383, 32.7171,32.4069,31.9366,31.471,31.1598, 30.8495,30.3841,30.0744,29.765,29.4558, 28.9908,28.6814,28.3713,28.0625,27.599, 27.2908,26.9866,26.6828,26.2299,25.9247 ,25.4676,25.1627,24.8578,24.5541, 24.2501,23.9465,23.6437,23.3414,23.0364 ,22.7359,22.4359,22.1345,21.8339, 21.5346,21.2331,20.7057,20.3519,19.9923 ,19.4605,18.938,18.5815,18.2328,17.8831 ,17.3597,17.0109,16.9978,16.9996, 17.0012,17.0029,17.0052,17.1816,17.5306 ,17.8811,18.2322,18.5835,18.9343, 19.4602,19.9873,20.5241,20.8825,21.2337 ,21.5348,21.8343,22.1369,22.59,23.0446, 23.3466,23.6489,23.952,24.2555,24.5597, 24.8642,25.1687,25.472,25.7766,26.0816, 26.3848,26.6892,27.1461,27.4559,27.7639 ,28.0718,28.3816,28.6906,28.9986, 29.3084,29.6168,30.0824,30.3927,30.7039 ,31.1706,31.4854,31.9508,32.2626, 32.5736,32.8594)
FOOTPRINT_POINT_LONGITUDE = (33.8505,33.6262,33.1795,32.7355, 32.5028,32.5094,32.5201,32.5292,32.5351 ,32.5407,32.5486,32.5535,32.5581, 32.5626,32.5691,32.5732,32.5772,32.5807 ,32.5859,32.5889,32.5909,32.5926, 32.5943,32.596,32.5982,32.5996,32.6008, 32.6017,32.6025,32.6031,32.6034,32.6036 ,32.6042,32.6037,32.6031,32.6026, 32.6019,32.6009,32.6003,32.5983,32.596, 32.5949,32.5913,32.5856,32.5834,32.5796 ,32.5758,32.5699,32.5658,32.8727, 33.0966,33.335,33.5461,33.8284,34.0167, 34.0151,34.0138,34.0125,34.011,34.0091, 34.0054,34.0017,34.0015,34.0012,34.0007 ,34.0004,33.9993,33.9993,33.9986, 33.9982,33.9973,33.9963,33.9955,33.9946 ,33.994,33.9932,33.9923,33.9908,33.9896 ,33.9884,33.9863,33.9845,33.9816, 33.9819,33.9812,33.9803,33.9801,33.9794 ,33.978,33.9774,33.9759,33.9749,33.9739 ,33.9733,33.972,33.9726,33.9702,33.9692 ,33.9676,33.8505)
ORBIT_NUMBER = 7343
ORBITAL_ECCENTRICITY = 0.573
ORBITAL_INCLINATION = 86.8
ORBITAL_SEMIMAJOR_AXIS = 8754.08
PERIAPSIS_ALTITUDE = 347.85
PERIAPSIS_ARGUMENT_ANGLE = 150.18
PERIAPSIS_TIME = 2009-09-23T12:26:11.000Z
SPACECRAFT_ORIENTATION = (0.0,-1.0,0.0)
^MEX_ORIENTATION_DESC = "MEX_ORIENTATION_DESC.TXT"
SPACECRAFT_POINTING_MODE = ACROSSTRACK
^MEX_POINTING_DESC = "MEX_POINTING_DESC.TXT"
RIGHT_ASCENSION = -1e+32
DECLINATION = -1e+32
OFFSET_ANGLE = 0.2
SPACECRAFT_SOLAR_DISTANCE = 2.26682e+08
TARGET_NAME = MARS
/* CAMERA DATA ELEMENTS */
DETECTOR_TEMPERATURE = 18.3705
FOCAL_PLANE_TEMPERATURE = 8.1755
INST_CMPRS_NAME = "DISCRETE COSINE TRANSFORMATION (DCT)"
INST_CMPRS_RATIO = 10.3454
INST_CMPRS_QUALITY = 0
INST_CMPRS_QUANTZ_TBL_ID = 0
INSTRUMENT_TEMPERATURE = 11.234
LENS_TEMPERATURE = 8.5833
MACROPIXEL_SIZE = 2
MISSING_FRAMES = 0
PIXEL_SUBSAMPLING_FLAG = N
SIGNAL_CHAIN_ID = 1
/* RADIOMETRIC DATA ELEMENTS */
BANDWIDTH = 178.0
CENTER_FILTER_WAVELENGTH = 679.0
RADIANCE_OFFSET = 5.20723
RADIANCE_SCALING_FACTOR = 0.0170703
REFLECTANCE_SCALING_FACTOR = 0.000464518
MEX:REFLECTANCE_OFFSET = 0.1417
/* IMAGE OBJECT DEFINITIONS */
OBJECT = IMAGE
  INTERCHANGE_FORMAT = BINARY
  LINES = 37695
  LINE_SAMPLES = 3366
  SAMPLE_TYPE = UNSIGNED_INTEGER
  SAMPLE_BITS = 8
  BANDS = 1
  BAND_STORAGE_TYPE = BAND_SEQUENTIAL
  MAXIMUM = 255
  MEAN = 138.709
  MINIMUM = 1
  STANDARD_DEVIATION = 24.1962
END_OBJECT = IMAGE
/* MAP OBJECT DEFINITIONS */
OBJECT = IMAGE_MAP_PROJECTION
  ^DATA_SET_MAP_PROJECTION_CATALOG= "DSMAP.CAT"
  A_AXIS_RADIUS = 3396.0
  B_AXIS_RADIUS = 3396.0
  C_AXIS_RADIUS = 3396.0
  CENTER_LATITUDE = 0.0
  CENTER_LONGITUDE = 33.0
  COORDINATE_SYSTEM_NAME = PLANETOGRAPHIC
  COORDINATE_SYSTEM_TYPE = "BODY-FIXED ROTATING"
  EASTERNMOST_LONGITUDE = 34.0167
  FIRST_STANDARD_PARALLEL = "N/A"
  LINE_FIRST_PIXEL = 1
  LINE_LAST_PIXEL = 37695
  LINE_PROJECTION_OFFSET = 78005.25
  MAP_PROJECTION_ROTATION = 0.0
  MAP_PROJECTION_TYPE = SINUSOIDAL
  MAP_RESOLUTION = 2370.85521546667
  MAP_SCALE = 0.025
  MAXIMUM_LATITUDE = 32.8594
  MINIMUM_LATITUDE = 16.9978
  POSITIVE_LONGITUDE_DIRECTION = EAST
  REFERENCE_LATITUDE = "N/A"
  REFERENCE_LONGITUDE = "N/A"
  SAMPLE_FIRST_PIXEL = 1
  SAMPLE_LAST_PIXEL = 3366
  SAMPLE_PROJECTION_OFFSET = 1026.75
  SECOND_STANDARD_PARALLEL = "N/A"
  WESTERNMOST_LONGITUDE = 32.5028
END_OBJECT = IMAGE_MAP_PROJECTION
/* The JPEG2000 image data file associated with this label. */
OBJECT = COMPRESSED_FILE
  FILE_NAME = "H7343_0000_S23.JP2"
  RECORD_TYPE = UNDEFINED
  FILE_RECORDS = UNK
  ENCODING_TYPE = "JP2"
  INTERCHANGE_FORMAT = BINARY
  UNCOMPRESSED_FILE_NAME = "H7343_0000_S23.IMG"
  REQUIRED_STORAGE_BYTES = "126904932"
  ^DESCRIPTION = "JP2INFO.TXT"
END_OBJECT = COMPRESSED_FILE
END
