PDS_VERSION_ID = PDS3
/* FILE DATA ELEMENTS */
RECORD_TYPE = STREAM
/* POINTERS TO DATA OBJECTS */
^COMPRESSED_FILE = "H7345_0000_GR3.JP2"
/* IDENTIFICATION DATA ELEMENTS */
DATA_SET_ID = "MEX-M-HRSC-5-REFDR-MAPPROJECTED-V3.0"
DATA_SET_NAME = "MARS EXPRESS HRSC MAP PROJECTED REFDR V3.0"
DETECTOR_ID = MEX_HRSC_GREEN
EVENT_TYPE = "MARS-REGIONAL-MAPPING-Vo-Te-Pf"
INSTRUMENT_HOST_ID = MEX
INSTRUMENT_HOST_NAME = "MARS EXPRESS"
INSTRUMENT_ID = HRSC
INSTRUMENT_NAME = "HIGH RESOLUTION STEREO CAMERA"
MISSION_NAME = "MARS EXPRESS"
MISSION_PHASE_NAME = ME_Phase_18
PROCESSING_LEVEL_ID = 3
PRODUCT_CREATION_TIME = 2016-06-30T16:05:12.000Z
PRODUCT_ID = "H7345_0000_GR3.JP2"
RELEASE_ID = 0081
REVISION_ID = 0000
/* QUALITY DATA ELEMENTS */
DATA_QUALITY_ID = 1
DATA_QUALITY_DESC = "Data calculated based on original SPICE kernels"
/* TIME DATA ELEMENTS */
SPACECRAFT_CLOCK_START_COUNT = "1/0201838521.07283"
SPACECRAFT_CLOCK_STOP_COUNT = "1/0201838910.55143"
START_TIME = 2009-09-24T02:15:50.617Z
STOP_TIME = 2009-09-24T02:20:48.709Z
/* ORBITAL DATA ELEMENTS */
ASCENDING_NODE_LONGITUDE = 77.3
MAXIMUM_RESOLUTION = 117
FOOTPRINT_POINT_LATITUDE = (21.2167,21.2201,21.2223,20.7535, 20.2927,19.9857,19.6789,19.3722,19.0274 ,18.6619,18.2966,17.9317,17.567,17.2027 ,16.8386,16.4749,16.1116,15.7487, 15.2048,14.8428,14.481,14.1196,13.7588, 13.218,12.858,12.4985,12.1395,11.5889, 11.2214,10.8543,10.2929,9.91765,9.54278 ,9.16002,8.77684,8.39425,8.00356, 7.41759,7.02193,6.62336,6.22521,5.81869 ,5.41297,4.79528,4.38246,3.96169, 3.54116,3.1143,2.47991,2.4727,2.4638, 2.45242,3.09702,3.52416,3.94519,4.36612 ,4.77961,5.39785,5.80402,6.21102, 6.60922,7.00826,7.40407,7.79507,8.38158 ,8.76458,9.14826,9.53115,9.9064,10.2822 ,10.844,11.2113,11.5792,12.1301,12.4895 ,12.8493,13.2096,13.5703,13.9314, 14.2929,14.6548,15.0172,15.3797,15.7428 ,16.1062,16.4699,16.8341,17.1985, 17.5631,17.9282,18.2936,18.6591,19.0249 ,19.3685,19.6755,19.9827,20.4436,20.751 ,21.0587,21.2167)
FOOTPRINT_POINT_LONGITUDE = (192.244,191.84,191.454,191.27,191.267, 191.265,191.263,191.26,191.257,191.254, 191.251,191.247,191.243,191.239,191.235 ,191.231,191.226,191.221,191.213, 191.208,191.203,191.197,191.191,191.182 ,191.176,191.169,191.162,191.152, 191.144,191.137,191.125,191.117,191.109 ,191.1,191.091,191.082,191.072,191.058, 191.048,191.037,191.026,191.015,191.004 ,190.986,190.974,190.962,190.949, 190.936,190.916,191.369,191.894,192.669 ,192.665,192.662,192.66,192.657,192.655 ,192.652,192.65,192.648,192.647,192.645 ,192.644,192.643,192.641,192.64,192.639 ,192.638,192.637,192.636,192.635, 192.635,192.634,192.633,192.633,192.633 ,192.632,192.632,192.632,192.632, 192.632,192.632,192.632,192.632,192.632 ,192.632,192.632,192.633,192.633, 192.633,192.633,192.634,192.635,192.635 ,192.636,192.636,192.637,192.638, 192.638,192.244)
ORBIT_NUMBER = 7345
ORBITAL_ECCENTRICITY = 0.572
ORBITAL_INCLINATION = 86.82
ORBITAL_SEMIMAJOR_AXIS = 8745.3
PERIAPSIS_ALTITUDE = 348.12
PERIAPSIS_ARGUMENT_ANGLE = 149.81
PERIAPSIS_TIME = 2009-09-24T02:13:38.000Z
SPACECRAFT_ORIENTATION = (0.0,-1.0,0.0)
^MEX_ORIENTATION_DESC = "MEX_ORIENTATION_DESC.TXT"
SPACECRAFT_POINTING_MODE = ACROSSTRACK
^MEX_POINTING_DESC = "MEX_POINTING_DESC.TXT"
RIGHT_ASCENSION = -1e+32
DECLINATION = -1e+32
OFFSET_ANGLE = 0.5
SPACECRAFT_SOLAR_DISTANCE = 2.26794e+08
TARGET_NAME = MARS
/* CAMERA DATA ELEMENTS */
DETECTOR_TEMPERATURE = 18.1666
FOCAL_PLANE_TEMPERATURE = 8.1755
INST_CMPRS_NAME = "DISCRETE COSINE TRANSFORMATION (DCT)"
INST_CMPRS_RATIO = 24.2216
INST_CMPRS_QUALITY = 0
INST_CMPRS_QUANTZ_TBL_ID = 0
INSTRUMENT_TEMPERATURE = 11.234
LENS_TEMPERATURE = 8.7872
MACROPIXEL_SIZE = 8
MISSING_FRAMES = 0
PIXEL_SUBSAMPLING_FLAG = N
SIGNAL_CHAIN_ID = 2
/* RADIOMETRIC DATA ELEMENTS */
BANDWIDTH = 88.0
CENTER_FILTER_WAVELENGTH = 538.0
RADIANCE_OFFSET = 1.90931
RADIANCE_SCALING_FACTOR = 0.00357201
REFLECTANCE_SCALING_FACTOR = 0.000158186
MEX:REFLECTANCE_OFFSET = 0.0845535
/* IMAGE OBJECT DEFINITIONS */
OBJECT = IMAGE
  INTERCHANGE_FORMAT = BINARY
  LINES = 11125
  LINE_SAMPLES = 1104
  SAMPLE_TYPE = UNSIGNED_INTEGER
  SAMPLE_BITS = 8
  BANDS = 1
  BAND_STORAGE_TYPE = BAND_SEQUENTIAL
  MAXIMUM = 255
  MEAN = 137.603
  MINIMUM = 1
  STANDARD_DEVIATION = 25.8316
END_OBJECT = IMAGE
/* MAP OBJECT DEFINITIONS */
OBJECT = IMAGE_MAP_PROJECTION
  ^DATA_SET_MAP_PROJECTION_CATALOG= "DSMAP.CAT"
  A_AXIS_RADIUS = 3396.0
  B_AXIS_RADIUS = 3396.0
  C_AXIS_RADIUS = 3396.0
  CENTER_LATITUDE = 0.0
  CENTER_LONGITUDE = 192.0
  COORDINATE_SYSTEM_NAME = PLANETOGRAPHIC
  COORDINATE_SYSTEM_TYPE = "BODY-FIXED ROTATING"
  EASTERNMOST_LONGITUDE = 192.669
  FIRST_STANDARD_PARALLEL = "N/A"
  LINE_FIRST_PIXEL = 1
  LINE_LAST_PIXEL = 11125
  LINE_PROJECTION_OFFSET = 12583.6875
  MAP_PROJECTION_ROTATION = 0.0
  MAP_PROJECTION_TYPE = SINUSOIDAL
  MAP_RESOLUTION = 592.713803866667
  MAP_SCALE = 0.1
  MAXIMUM_LATITUDE = 21.2223
  MINIMUM_LATITUDE = 2.45242
  POSITIVE_LONGITUDE_DIRECTION = EAST
  REFERENCE_LATITUDE = "N/A"
  REFERENCE_LONGITUDE = "N/A"
  SAMPLE_FIRST_PIXEL = 1
  SAMPLE_LAST_PIXEL = 1104
  SAMPLE_PROJECTION_OFFSET = 669.1875
  SECOND_STANDARD_PARALLEL = "N/A"
  WESTERNMOST_LONGITUDE = 190.916
END_OBJECT = IMAGE_MAP_PROJECTION
/* The JPEG2000 image data file associated with this label. */
OBJECT = COMPRESSED_FILE
  FILE_NAME = "H7345_0000_GR3.JP2"
  RECORD_TYPE = UNDEFINED
  FILE_RECORDS = UNK
  ENCODING_TYPE = "JP2"
  INTERCHANGE_FORMAT = BINARY
  UNCOMPRESSED_FILE_NAME = "H7345_0000_GR3.IMG"
  REQUIRED_STORAGE_BYTES = "12300768"
  ^DESCRIPTION = "JP2INFO.TXT"
END_OBJECT = COMPRESSED_FILE
END
