PDS_VERSION_ID = PDS3
/* FILE DATA ELEMENTS */
RECORD_TYPE = STREAM
/* POINTERS TO DATA OBJECTS */
^COMPRESSED_FILE = "H7347_0000_IR3.JP2"
/* IDENTIFICATION DATA ELEMENTS */
DATA_SET_ID = "MEX-M-HRSC-5-REFDR-MAPPROJECTED-V3.0"
DATA_SET_NAME = "MARS EXPRESS HRSC MAP PROJECTED REFDR V3.0"
DETECTOR_ID = MEX_HRSC_IR
EVENT_TYPE = "MARS-REGIONAL-MAPPING-Im-Fl-Lc"
INSTRUMENT_HOST_ID = MEX
INSTRUMENT_HOST_NAME = "MARS EXPRESS"
INSTRUMENT_ID = HRSC
INSTRUMENT_NAME = "HIGH RESOLUTION STEREO CAMERA"
MISSION_NAME = "MARS EXPRESS"
MISSION_PHASE_NAME = ME_Phase_18
PROCESSING_LEVEL_ID = 3
PRODUCT_CREATION_TIME = 2016-06-30T16:05:12.000Z
PRODUCT_ID = "H7347_0000_IR3.JP2"
RELEASE_ID = 0081
REVISION_ID = 0000
/* QUALITY DATA ELEMENTS */
DATA_QUALITY_ID = 1
DATA_QUALITY_DESC = "Data calculated based on original SPICE kernels"
/* TIME DATA ELEMENTS */
SPACECRAFT_CLOCK_START_COUNT = "1/0201888115.08393"
SPACECRAFT_CLOCK_STOP_COUNT = "1/0201888388.47216"
START_TIME = 2009-09-24T16:02:03.052Z
STOP_TIME = 2009-09-24T16:05:17.250Z
/* ORBITAL DATA ELEMENTS */
ASCENDING_NODE_LONGITUDE = 77.27
MAXIMUM_RESOLUTION = 58.9
FOOTPRINT_POINT_LATITUDE = (24.9091,24.9,24.889,24.8516,24.5036, 24.1528,23.9213,23.6877,23.4543,23.222, 22.9881,22.7551,22.5228,22.2893,21.9392 ,21.5893,21.3561,21.1237,20.8899, 20.6568,20.4195,20.1851,19.9517,19.7196 ,19.49,19.1348,18.8994,18.6668,18.4373, 18.2055,17.8065,17.5278,17.1093,16.831, 16.5536,16.2753,15.996,15.7192,15.4398, 15.1617,14.7445,14.4659,14.1878,13.7714 ,13.494,13.2161,12.9386,12.6628,12.385, 12.1825,12.1883,12.1916,12.1935,12.3358 ,12.614,12.8932,13.1625,13.4371,13.7144 ,14.1386,14.422,14.6989,14.9773,15.3947 ,15.6732,15.952,16.2319,16.5033,16.7826 ,17.2056,17.4845,17.7621,18.0424, 18.2884,18.5178,18.7487,18.9836,19.3397 ,19.5784,19.8129,20.1627,20.3959, 20.7457,20.9788,21.2125,21.4464,21.6793 ,21.9127,22.1464,22.3798,22.6134, 22.9639,23.3135,23.5463,23.7807,24.0129 ,24.2428,24.4784,24.8295,24.9091)
FOOTPRINT_POINT_LONGITUDE = (349.688,349.29,348.888,348.626,348.631 ,348.633,348.636,348.638,348.64,348.642 ,348.643,348.645,348.646,348.648, 348.649,348.651,348.651,348.653,348.653 ,348.654,348.652,348.651,348.651, 348.652,348.654,348.651,348.649,348.65, 348.651,348.651,348.65,348.649,348.646, 348.645,348.644,348.642,348.639,348.638 ,348.635,348.633,348.629,348.625, 348.622,348.618,348.615,348.611,348.608 ,348.605,348.601,348.869,349.222, 349.479,349.694,350.045,350.044,350.043 ,350.043,350.042,350.041,350.039, 350.037,350.036,350.035,350.033,350.032 ,350.031,350.029,350.03,350.028,350.026 ,350.025,350.024,350.022,350.022, 350.021,350.021,350.02,350.017,350.015, 350.014,350.013,350.012,350.01,350.01, 350.008,350.007,350.006,350.005,350.004 ,350.003,350.002,350.0,349.998,349.997, 349.996,349.995,349.994,349.993,349.99, 349.688)
ORBIT_NUMBER = 7347
ORBITAL_ECCENTRICITY = 0.572
ORBITAL_INCLINATION = 86.81
ORBITAL_SEMIMAJOR_AXIS = 8746.83
PERIAPSIS_ALTITUDE = 348.47
PERIAPSIS_ARGUMENT_ANGLE = 149.44
PERIAPSIS_TIME = 2009-09-24T16:01:02.000Z
SPACECRAFT_ORIENTATION = (0.0,-1.0,0.0)
^MEX_ORIENTATION_DESC = "MEX_ORIENTATION_DESC.TXT"
SPACECRAFT_POINTING_MODE = ACROSSTRACK
^MEX_POINTING_DESC = "MEX_POINTING_DESC.TXT"
RIGHT_ASCENSION = -1e+32
DECLINATION = -1e+32
OFFSET_ANGLE = -0.35
SPACECRAFT_SOLAR_DISTANCE = 2.26907e+08
TARGET_NAME = MARS
/* CAMERA DATA ELEMENTS */
DETECTOR_TEMPERATURE = 17.5549
FOCAL_PLANE_TEMPERATURE = 8.3794
INST_CMPRS_NAME = "DISCRETE COSINE TRANSFORMATION (DCT)"
INST_CMPRS_RATIO = 9.63061
INST_CMPRS_QUALITY = 0
INST_CMPRS_QUANTZ_TBL_ID = 0
INSTRUMENT_TEMPERATURE = 11.4379
LENS_TEMPERATURE = 8.7872
MACROPIXEL_SIZE = 4
MISSING_FRAMES = 0
PIXEL_SUBSAMPLING_FLAG = N
SIGNAL_CHAIN_ID = 2
/* RADIOMETRIC DATA ELEMENTS */
BANDWIDTH = 81.0
CENTER_FILTER_WAVELENGTH = 955.5
RADIANCE_OFFSET = 0.921326
RADIANCE_SCALING_FACTOR = 0.00576921
REFLECTANCE_SCALING_FACTOR = 0.000640825
MEX:REFLECTANCE_OFFSET = 0.102338
/* IMAGE OBJECT DEFINITIONS */
OBJECT = IMAGE
  INTERCHANGE_FORMAT = BINARY
  LINES = 15047
  LINE_SAMPLES = 1812
  SAMPLE_TYPE = UNSIGNED_INTEGER
  SAMPLE_BITS = 8
  BANDS = 1
  BAND_STORAGE_TYPE = BAND_SEQUENTIAL
  MAXIMUM = 255
  MEAN = 137.609
  MINIMUM = 1
  STANDARD_DEVIATION = 38.857
END_OBJECT = IMAGE
/* MAP OBJECT DEFINITIONS */
OBJECT = IMAGE_MAP_PROJECTION
  ^DATA_SET_MAP_PROJECTION_CATALOG= "DSMAP.CAT"
  A_AXIS_RADIUS = 3396.0
  B_AXIS_RADIUS = 3396.0
  C_AXIS_RADIUS = 3396.0
  CENTER_LATITUDE = 0.0
  CENTER_LONGITUDE = 349.0
  COORDINATE_SYSTEM_NAME = PLANETOGRAPHIC
  COORDINATE_SYSTEM_TYPE = "BODY-FIXED ROTATING"
  EASTERNMOST_LONGITUDE = 350.045
  FIRST_STANDARD_PARALLEL = "N/A"
  LINE_FIRST_PIXEL = 1
  LINE_LAST_PIXEL = 15047
  LINE_PROJECTION_OFFSET = 29501.125
  MAP_PROJECTION_ROTATION = 0.0
  MAP_PROJECTION_TYPE = SINUSOIDAL
  MAP_RESOLUTION = 1185.42760773333
  MAP_SCALE = 0.05
  MAXIMUM_LATITUDE = 24.9091
  MINIMUM_LATITUDE = 12.1825
  POSITIVE_LONGITUDE_DIRECTION = EAST
  REFERENCE_LATITUDE = "N/A"
  REFERENCE_LONGITUDE = "N/A"
  SAMPLE_FIRST_PIXEL = 1
  SAMPLE_LAST_PIXEL = 1812
  SAMPLE_PROJECTION_OFFSET = 553.875
  SECOND_STANDARD_PARALLEL = "N/A"
  WESTERNMOST_LONGITUDE = 348.601
END_OBJECT = IMAGE_MAP_PROJECTION
/* The JPEG2000 image data file associated with this label. */
OBJECT = COMPRESSED_FILE
  FILE_NAME = "H7347_0000_IR3.JP2"
  RECORD_TYPE = UNDEFINED
  FILE_RECORDS = UNK
  ENCODING_TYPE = "JP2"
  INTERCHANGE_FORMAT = BINARY
  UNCOMPRESSED_FILE_NAME = "H7347_0000_IR3.IMG"
  REQUIRED_STORAGE_BYTES = "27285096"
  ^DESCRIPTION = "JP2INFO.TXT"
END_OBJECT = COMPRESSED_FILE
END
