PDS_VERSION_ID = PDS3
/* FILE DATA ELEMENTS */
RECORD_TYPE = STREAM
/* POINTERS TO DATA OBJECTS */
^COMPRESSED_FILE = "H7347_0000_RE3.JP2"
/* IDENTIFICATION DATA ELEMENTS */
DATA_SET_ID = "MEX-M-HRSC-5-REFDR-MAPPROJECTED-V3.0"
DATA_SET_NAME = "MARS EXPRESS HRSC MAP PROJECTED REFDR V3.0"
DETECTOR_ID = MEX_HRSC_RED
EVENT_TYPE = "MARS-REGIONAL-MAPPING-Im-Fl-Lc"
INSTRUMENT_HOST_ID = MEX
INSTRUMENT_HOST_NAME = "MARS EXPRESS"
INSTRUMENT_ID = HRSC
INSTRUMENT_NAME = "HIGH RESOLUTION STEREO CAMERA"
MISSION_NAME = "MARS EXPRESS"
MISSION_PHASE_NAME = ME_Phase_18
PROCESSING_LEVEL_ID = 3
PRODUCT_CREATION_TIME = 2016-06-30T16:05:12.000Z
PRODUCT_ID = "H7347_0000_RE3.JP2"
RELEASE_ID = 0081
REVISION_ID = 0000
/* QUALITY DATA ELEMENTS */
DATA_QUALITY_ID = 1
DATA_QUALITY_DESC = "Data calculated based on original SPICE kernels"
/* TIME DATA ELEMENTS */
SPACECRAFT_CLOCK_START_COUNT = "1/0201888115.08393"
SPACECRAFT_CLOCK_STOP_COUNT = "1/0201888388.47216"
START_TIME = 2009-09-24T16:02:56.280Z
STOP_TIME = 2009-09-24T16:06:22.043Z
/* ORBITAL DATA ELEMENTS */
ASCENDING_NODE_LONGITUDE = 77.27
MAXIMUM_RESOLUTION = 60.3
FOOTPRINT_POINT_LATITUDE = (24.8492,24.8544,24.8594,24.7783, 24.5516,24.2115,23.9842,23.7586,23.4211 ,23.1944,22.9704,22.745,22.4073,22.183, 21.8469,21.6017,21.3344,21.0667,20.8013 ,20.406,20.0091,19.744,19.3435,19.0849, 18.8211,18.555,18.1581,17.7645,17.3735, 17.112,16.8512,16.5896,16.3299,15.9418, 15.6822,15.4243,15.0411,14.647,14.3837, 14.1213,13.8579,13.5955,13.3279,12.9254 ,12.6568,12.3903,12.2164,12.2126, 12.2046,12.1997,12.1943,12.1901,12.323, 12.59,12.856,13.1336,13.54,13.8032, 14.0624,14.3166,14.5826,14.8457,15.233, 15.4914,15.7505,16.0094,16.4,16.6671, 16.921,17.1827,17.4442,17.7065,18.0999, 18.3671,18.7673,19.0305,19.2908,19.5487 ,19.8128,20.0793,20.3449,20.6121, 20.8788,21.146,21.4128,21.681,21.9104, 22.1348,22.3596,22.5847,22.8096,23.1484 ,23.3741,23.6004,23.826,24.0528,24.2808 ,24.5061,24.7324,24.8492)
FOOTPRINT_POINT_LONGITUDE = (349.746,349.338,348.927,348.607, 348.609,348.612,348.614,348.615,348.616 ,348.618,348.618,348.619,348.621, 348.621,348.621,348.622,348.622,348.623 ,348.622,348.619,348.618,348.617, 348.618,348.614,348.612,348.613,348.612 ,348.609,348.605,348.603,348.601, 348.599,348.597,348.592,348.589,348.586 ,348.579,348.576,348.572,348.568, 348.564,348.56,348.556,348.549,348.545, 348.54,348.684,348.875,349.197,349.401, 349.648,349.851,350.101,350.098,350.096 ,350.096,350.093,350.091,350.088, 350.084,350.083,350.081,350.078,350.076 ,350.074,350.072,350.069,350.069, 350.065,350.063,350.062,350.06,350.057, 350.056,350.054,350.051,350.049,350.046 ,350.043,350.042,350.04,350.038,350.036 ,350.034,350.032,350.03,350.028,350.027 ,350.025,350.023,350.021,350.019, 350.017,350.015,350.013,350.012,350.01, 350.008,350.006,349.746)
ORBIT_NUMBER = 7347
ORBITAL_ECCENTRICITY = 0.572
ORBITAL_INCLINATION = 86.81
ORBITAL_SEMIMAJOR_AXIS = 8746.83
PERIAPSIS_ALTITUDE = 348.47
PERIAPSIS_ARGUMENT_ANGLE = 149.44
PERIAPSIS_TIME = 2009-09-24T16:01:02.000Z
SPACECRAFT_ORIENTATION = (0.0,-1.0,0.0)
^MEX_ORIENTATION_DESC = "MEX_ORIENTATION_DESC.TXT"
SPACECRAFT_POINTING_MODE = ACROSSTRACK
^MEX_POINTING_DESC = "MEX_POINTING_DESC.TXT"
RIGHT_ASCENSION = -1e+32
DECLINATION = -1e+32
OFFSET_ANGLE = -0.35
SPACECRAFT_SOLAR_DISTANCE = 2.26907e+08
TARGET_NAME = MARS
/* CAMERA DATA ELEMENTS */
DETECTOR_TEMPERATURE = 18.7783
FOCAL_PLANE_TEMPERATURE = 8.3794
INST_CMPRS_NAME = "DISCRETE COSINE TRANSFORMATION (DCT)"
INST_CMPRS_RATIO = 17.0404
INST_CMPRS_QUALITY = 0
INST_CMPRS_QUANTZ_TBL_ID = 0
INSTRUMENT_TEMPERATURE = 11.4379
LENS_TEMPERATURE = 8.7872
MACROPIXEL_SIZE = 4
MISSING_FRAMES = 0
PIXEL_SUBSAMPLING_FLAG = N
SIGNAL_CHAIN_ID = 2
/* RADIOMETRIC DATA ELEMENTS */
BANDWIDTH = 48.0
CENTER_FILTER_WAVELENGTH = 748.0
RADIANCE_OFFSET = 1.11863
RADIANCE_SCALING_FACTOR = 0.00527685
REFLECTANCE_SCALING_FACTOR = 0.000620007
MEX:REFLECTANCE_OFFSET = 0.131434
/* IMAGE OBJECT DEFINITIONS */
OBJECT = IMAGE
  INTERCHANGE_FORMAT = BINARY
  LINES = 15047
  LINE_SAMPLES = 1812
  SAMPLE_TYPE = UNSIGNED_INTEGER
  SAMPLE_BITS = 8
  BANDS = 1
  BAND_STORAGE_TYPE = BAND_SEQUENTIAL
  MAXIMUM = 255
  MEAN = 139.524
  MINIMUM = 1
  STANDARD_DEVIATION = 37.8999
END_OBJECT = IMAGE
/* MAP OBJECT DEFINITIONS */
OBJECT = IMAGE_MAP_PROJECTION
  ^DATA_SET_MAP_PROJECTION_CATALOG= "DSMAP.CAT"
  A_AXIS_RADIUS = 3396.0
  B_AXIS_RADIUS = 3396.0
  C_AXIS_RADIUS = 3396.0
  CENTER_LATITUDE = 0.0
  CENTER_LONGITUDE = 349.0
  COORDINATE_SYSTEM_NAME = PLANETOGRAPHIC
  COORDINATE_SYSTEM_TYPE = "BODY-FIXED ROTATING"
  EASTERNMOST_LONGITUDE = 350.101
  FIRST_STANDARD_PARALLEL = "N/A"
  LINE_FIRST_PIXEL = 1
  LINE_LAST_PIXEL = 15047
  LINE_PROJECTION_OFFSET = 29501.125
  MAP_PROJECTION_ROTATION = 0.0
  MAP_PROJECTION_TYPE = SINUSOIDAL
  MAP_RESOLUTION = 1185.42760773333
  MAP_SCALE = 0.05
  MAXIMUM_LATITUDE = 24.8594
  MINIMUM_LATITUDE = 12.1901
  POSITIVE_LONGITUDE_DIRECTION = EAST
  REFERENCE_LATITUDE = "N/A"
  REFERENCE_LONGITUDE = "N/A"
  SAMPLE_FIRST_PIXEL = 1
  SAMPLE_LAST_PIXEL = 1812
  SAMPLE_PROJECTION_OFFSET = 553.875
  SECOND_STANDARD_PARALLEL = "N/A"
  WESTERNMOST_LONGITUDE = 348.54
END_OBJECT = IMAGE_MAP_PROJECTION
/* The JPEG2000 image data file associated with this label. */
OBJECT = COMPRESSED_FILE
  FILE_NAME = "H7347_0000_RE3.JP2"
  RECORD_TYPE = UNDEFINED
  FILE_RECORDS = UNK
  ENCODING_TYPE = "JP2"
  INTERCHANGE_FORMAT = BINARY
  UNCOMPRESSED_FILE_NAME = "H7347_0000_RE3.IMG"
  REQUIRED_STORAGE_BYTES = "27285096"
  ^DESCRIPTION = "JP2INFO.TXT"
END_OBJECT = COMPRESSED_FILE
END
