PDS_VERSION_ID = PDS3
/* FILE DATA ELEMENTS */
RECORD_TYPE = STREAM
/* POINTERS TO DATA OBJECTS */
^COMPRESSED_FILE = "H7350_0000_RE3.JP2"
/* IDENTIFICATION DATA ELEMENTS */
DATA_SET_ID = "MEX-M-HRSC-5-REFDR-MAPPROJECTED-V3.0"
DATA_SET_NAME = "MARS EXPRESS HRSC MAP PROJECTED REFDR V3.0"
DETECTOR_ID = MEX_HRSC_RED
EVENT_TYPE = "MARS-REGIONAL-MAPPING-Im-Fl"
INSTRUMENT_HOST_ID = MEX
INSTRUMENT_HOST_NAME = "MARS EXPRESS"
INSTRUMENT_ID = HRSC
INSTRUMENT_NAME = "HIGH RESOLUTION STEREO CAMERA"
MISSION_NAME = "MARS EXPRESS"
MISSION_PHASE_NAME = ME_Phase_18
PROCESSING_LEVEL_ID = 3
PRODUCT_CREATION_TIME = 2016-06-30T16:05:12.000Z
PRODUCT_ID = "H7350_0000_RE3.JP2"
RELEASE_ID = 0081
REVISION_ID = 0000
/* QUALITY DATA ELEMENTS */
DATA_QUALITY_ID = 1
DATA_QUALITY_DESC = "Data calculated based on original SPICE kernels"
/* TIME DATA ELEMENTS */
SPACECRAFT_CLOCK_START_COUNT = "1/0201962582.09113"
SPACECRAFT_CLOCK_STOP_COUNT = "1/0201962848.09206"
START_TIME = 2009-09-25T12:44:03.006Z
STOP_TIME = 2009-09-25T12:47:21.303Z
/* ORBITAL DATA ELEMENTS */
ASCENDING_NODE_LONGITUDE = 77.2
MAXIMUM_RESOLUTION = 59.9
FOOTPRINT_POINT_LATITUDE = (25.6654,25.6689,25.6709,25.6868, 25.3529,25.1303,24.9078,24.6863,24.4658 ,24.2446,24.0232,23.6934,23.3629, 23.1428,22.9233,22.7039,22.2648,22.0181 ,21.7564,21.4961,21.235,20.9756,20.7163 ,20.4562,20.1971,19.9375,19.5486, 19.1625,18.9048,18.6486,18.3921,18.1362 ,17.8807,17.6246,17.3718,17.1171, 16.7354,16.4817,16.1011,15.8481,15.595, 15.3418,14.9655,14.7146,14.3375,14.0879 ,13.7134,13.4652,13.4259,13.4215, 13.4164,13.4136,13.409,13.5307,13.7804, 14.1551,14.4054,14.6566,14.9093,15.1613 ,15.4131,15.6654,15.9187,16.1724,16.552 ,16.9342,17.1888,17.4444,17.6999, 17.9568,18.2131,18.5984,18.8547,19.1106 ,19.368,19.6269,19.8861,20.1445,20.4057 ,20.6631,20.9235,21.1863,21.4452, 21.7074,21.969,22.2218,22.4409,22.6612, 22.8814,23.1007,23.4334,23.6607,23.8825 ,24.1027,24.4338,24.7679,24.9903, 25.2127,25.4348,25.6654)
FOOTPRINT_POINT_LONGITUDE = (47.5299,46.9423,46.5314,46.2353, 46.2383,46.2404,46.2423,46.2437,46.2444 ,46.2456,46.247,46.2477,46.2487,46.2493 ,46.2496,46.2498,46.2504,46.2504, 46.2507,46.2501,46.2501,46.2492,46.2483 ,46.2478,46.2469,46.2462,46.245,46.2425 ,46.241,46.2389,46.2369,46.2347,46.2324 ,46.2304,46.2268,46.2243,46.2204, 46.2175,46.2134,46.2103,46.2074,46.2046 ,46.1989,46.1952,46.1902,46.1861, 46.1802,46.1757,46.4041,46.662,46.9619, 47.2042,47.4316,47.7052,47.7035,47.7008 ,47.699,47.6973,47.6959,47.6943,47.6925 ,47.6907,47.6891,47.6875,47.6846, 47.6822,47.6804,47.6788,47.6771,47.6757 ,47.6739,47.6714,47.6695,47.6673, 47.6654,47.6639,47.6623,47.6604,47.6592 ,47.6569,47.6552,47.6541,47.6519, 47.6505,47.6488,47.6471,47.6455,47.6442 ,47.6427,47.641,47.6393,47.6396,47.6383 ,47.6365,47.6339,47.6321,47.6306, 47.6291,47.6275,47.5299)
ORBIT_NUMBER = 7350
ORBITAL_ECCENTRICITY = 0.573
ORBITAL_INCLINATION = 86.81
ORBITAL_SEMIMAJOR_AXIS = 8753.25
PERIAPSIS_ALTITUDE = 348.5
PERIAPSIS_ARGUMENT_ANGLE = 148.96
PERIAPSIS_TIME = 2009-09-25T12:42:14.000Z
SPACECRAFT_ORIENTATION = (0.0,-1.0,0.0)
^MEX_ORIENTATION_DESC = "MEX_ORIENTATION_DESC.TXT"
SPACECRAFT_POINTING_MODE = ACROSSTRACK
^MEX_POINTING_DESC = "MEX_POINTING_DESC.TXT"
RIGHT_ASCENSION = -1e+32
DECLINATION = -1e+32
OFFSET_ANGLE = -0.2
SPACECRAFT_SOLAR_DISTANCE = 2.27075e+08
TARGET_NAME = MARS
/* CAMERA DATA ELEMENTS */
DETECTOR_TEMPERATURE = 18.7783
FOCAL_PLANE_TEMPERATURE = 9.195
INST_CMPRS_NAME = "DISCRETE COSINE TRANSFORMATION (DCT)"
INST_CMPRS_RATIO = 17.7667
INST_CMPRS_QUALITY = 0
INST_CMPRS_QUANTZ_TBL_ID = 0
INSTRUMENT_TEMPERATURE = 11.4379
LENS_TEMPERATURE = 9.3989
MACROPIXEL_SIZE = 4
MISSING_FRAMES = 0
PIXEL_SUBSAMPLING_FLAG = N
SIGNAL_CHAIN_ID = 2
/* RADIOMETRIC DATA ELEMENTS */
BANDWIDTH = 48.0
CENTER_FILTER_WAVELENGTH = 748.0
RADIANCE_OFFSET = 1.58878
RADIANCE_SCALING_FACTOR = 0.00438678
REFLECTANCE_SCALING_FACTOR = 0.00051619
MEX:REFLECTANCE_OFFSET = 0.186951
/* IMAGE OBJECT DEFINITIONS */
OBJECT = IMAGE
  INTERCHANGE_FORMAT = BINARY
  LINES = 14544
  LINE_SAMPLES = 1791
  SAMPLE_TYPE = UNSIGNED_INTEGER
  SAMPLE_BITS = 8
  BANDS = 1
  BAND_STORAGE_TYPE = BAND_SEQUENTIAL
  MAXIMUM = 255
  MEAN = 144.877
  MINIMUM = 1
  STANDARD_DEVIATION = 26.3337
END_OBJECT = IMAGE
/* MAP OBJECT DEFINITIONS */
OBJECT = IMAGE_MAP_PROJECTION
  ^DATA_SET_MAP_PROJECTION_CATALOG= "DSMAP.CAT"
  A_AXIS_RADIUS = 3396.0
  B_AXIS_RADIUS = 3396.0
  C_AXIS_RADIUS = 3396.0
  CENTER_LATITUDE = 0.0
  CENTER_LONGITUDE = 47.0
  COORDINATE_SYSTEM_NAME = PLANETOGRAPHIC
  COORDINATE_SYSTEM_TYPE = "BODY-FIXED ROTATING"
  EASTERNMOST_LONGITUDE = 47.7052
  FIRST_STANDARD_PARALLEL = "N/A"
  LINE_FIRST_PIXEL = 1
  LINE_LAST_PIXEL = 14544
  LINE_PROJECTION_OFFSET = 30454.625
  MAP_PROJECTION_ROTATION = 0.0
  MAP_PROJECTION_TYPE = SINUSOIDAL
  MAP_RESOLUTION = 1185.42760773333
  MAP_SCALE = 0.05
  MAXIMUM_LATITUDE = 25.6868
  MINIMUM_LATITUDE = 13.409
  POSITIVE_LONGITUDE_DIRECTION = EAST
  REFERENCE_LATITUDE = "N/A"
  REFERENCE_LONGITUDE = "N/A"
  SAMPLE_FIRST_PIXEL = 1
  SAMPLE_LAST_PIXEL = 1791
  SAMPLE_PROJECTION_OFFSET = 977.375
  SECOND_STANDARD_PARALLEL = "N/A"
  WESTERNMOST_LONGITUDE = 46.1757
END_OBJECT = IMAGE_MAP_PROJECTION
/* The JPEG2000 image data file associated with this label. */
OBJECT = COMPRESSED_FILE
  FILE_NAME = "H7350_0000_RE3.JP2"
  RECORD_TYPE = UNDEFINED
  FILE_RECORDS = UNK
  ENCODING_TYPE = "JP2"
  INTERCHANGE_FORMAT = BINARY
  UNCOMPRESSED_FILE_NAME = "H7350_0000_RE3.IMG"
  REQUIRED_STORAGE_BYTES = "26068005"
  ^DESCRIPTION = "JP2INFO.TXT"
END_OBJECT = COMPRESSED_FILE
END
