PDS_VERSION_ID = PDS3
/* FILE DATA ELEMENTS */
RECORD_TYPE = STREAM
/* POINTERS TO DATA OBJECTS */
^COMPRESSED_FILE = "H7350_0000_S13.JP2"
/* IDENTIFICATION DATA ELEMENTS */
DATA_SET_ID = "MEX-M-HRSC-5-REFDR-MAPPROJECTED-V3.0"
DATA_SET_NAME = "MARS EXPRESS HRSC MAP PROJECTED REFDR V3.0"
DETECTOR_ID = MEX_HRSC_S1
EVENT_TYPE = "MARS-REGIONAL-MAPPING-Im-Fl"
INSTRUMENT_HOST_ID = MEX
INSTRUMENT_HOST_NAME = "MARS EXPRESS"
INSTRUMENT_ID = HRSC
INSTRUMENT_NAME = "HIGH RESOLUTION STEREO CAMERA"
MISSION_NAME = "MARS EXPRESS"
MISSION_PHASE_NAME = ME_Phase_18
PROCESSING_LEVEL_ID = 3
PRODUCT_CREATION_TIME = 2016-06-30T16:05:12.000Z
PRODUCT_ID = "H7350_0000_S13.JP2"
RELEASE_ID = 0081
REVISION_ID = 0000
/* QUALITY DATA ELEMENTS */
DATA_QUALITY_ID = 1
DATA_QUALITY_DESC = "Data calculated based on original SPICE kernels"
/* TIME DATA ELEMENTS */
SPACECRAFT_CLOCK_START_COUNT = "1/0201962582.09113"
SPACECRAFT_CLOCK_STOP_COUNT = "1/0201962848.09206"
START_TIME = 2009-09-25T12:43:04.597Z
STOP_TIME = 2009-09-25T12:46:11.851Z
/* ORBITAL DATA ELEMENTS */
ASCENDING_NODE_LONGITUDE = 77.2
MAXIMUM_RESOLUTION = 29.7
FOOTPRINT_POINT_LATITUDE = (25.7316,25.7264,25.7221,25.7172, 25.6917,25.3494,25.0079,24.7797,24.5502 ,24.3203,24.0924,23.8622,23.6326, 23.4028,23.1742,22.9443,22.7144,22.4856 ,22.2559,22.0261,21.797,21.567,21.3381, 21.1079,20.7624,20.418,20.1877,19.9586, 19.6156,19.3849,19.0405,18.81,18.5792, 18.3488,18.0941,17.8191,17.5449,17.2674 ,16.8559,16.5815,16.1704,15.8959, 15.6219,15.3492,15.0738,14.797,14.5229, 14.2523,13.9779,13.7044,13.4255,13.4319 ,13.4332,13.436,13.7115,14.1225,14.3971 ,14.6715,14.9444,15.2187,15.4939,15.769 ,16.0434,16.318,16.5934,17.0055,17.2805 ,17.5559,17.8298,18.1042,18.4752, 18.7052,18.9373,19.1695,19.4002,19.6297 ,19.8588,20.0912,20.3192,20.5515, 20.8963,21.2395,21.4708,21.8144,22.1594 ,22.3898,22.6189,22.8484,23.079,23.4211 ,23.6421,23.8715,24.1018,24.4469, 24.7887,25.0168,25.2457,25.4749,25.7045 ,25.7316)
FOOTPRINT_POINT_LONGITUDE = (47.2427,46.9433,46.7347,46.5254, 46.2506,46.2546,46.2587,46.2611,46.2629 ,46.2644,46.2667,46.2679,46.2693, 46.2705,46.2722,46.2731,46.2741,46.2754 ,46.2762,46.2768,46.2778,46.2782,46.279 ,46.2791,46.2791,46.2793,46.279,46.2792 ,46.2795,46.2788,46.2782,46.2772, 46.2761,46.2751,46.2739,46.2724,46.271, 46.2682,46.2656,46.2637,46.2608,46.2585 ,46.2562,46.2544,46.2513,46.2474, 46.2446,46.243,46.2397,46.2366,46.3702, 46.8798,47.2088,47.6507,47.6496,47.6485 ,47.6477,47.6469,47.6465,47.6457, 47.6448,47.6439,47.6432,47.6424,47.6414 ,47.6403,47.6394,47.6384,47.6378, 47.6371,47.6359,47.6352,47.6341,47.633, 47.6322,47.6316,47.6311,47.6299,47.6296 ,47.6284,47.6273,47.6266,47.6255, 47.6246,47.6234,47.6224,47.6218,47.621, 47.6199,47.6192,47.6202,47.6194,47.6183 ,47.6167,47.6158,47.6151,47.6142, 47.6132,47.612,47.2427)
ORBIT_NUMBER = 7350
ORBITAL_ECCENTRICITY = 0.573
ORBITAL_INCLINATION = 86.81
ORBITAL_SEMIMAJOR_AXIS = 8753.25
PERIAPSIS_ALTITUDE = 348.5
PERIAPSIS_ARGUMENT_ANGLE = 148.96
PERIAPSIS_TIME = 2009-09-25T12:42:14.000Z
SPACECRAFT_ORIENTATION = (0.0,-1.0,0.0)
^MEX_ORIENTATION_DESC = "MEX_ORIENTATION_DESC.TXT"
SPACECRAFT_POINTING_MODE = ACROSSTRACK
^MEX_POINTING_DESC = "MEX_POINTING_DESC.TXT"
RIGHT_ASCENSION = -1e+32
DECLINATION = -1e+32
OFFSET_ANGLE = -0.2
SPACECRAFT_SOLAR_DISTANCE = 2.27075e+08
TARGET_NAME = MARS
/* CAMERA DATA ELEMENTS */
DETECTOR_TEMPERATURE = 17.7588
FOCAL_PLANE_TEMPERATURE = 9.195
INST_CMPRS_NAME = "DISCRETE COSINE TRANSFORMATION (DCT)"
INST_CMPRS_RATIO = 8.9117
INST_CMPRS_QUALITY = 0
INST_CMPRS_QUANTZ_TBL_ID = 0
INSTRUMENT_TEMPERATURE = 11.4379
LENS_TEMPERATURE = 9.3989
MACROPIXEL_SIZE = 2
MISSING_FRAMES = 0
PIXEL_SUBSAMPLING_FLAG = N
SIGNAL_CHAIN_ID = 1
/* RADIOMETRIC DATA ELEMENTS */
BANDWIDTH = 180.0
CENTER_FILTER_WAVELENGTH = 677.0
RADIANCE_OFFSET = 6.03665
RADIANCE_SCALING_FACTOR = 0.0162205
REFLECTANCE_SCALING_FACTOR = 0.000436359
MEX:REFLECTANCE_OFFSET = 0.162396
/* IMAGE OBJECT DEFINITIONS */
OBJECT = IMAGE
  INTERCHANGE_FORMAT = BINARY
  LINES = 29087
  LINE_SAMPLES = 3582
  SAMPLE_TYPE = UNSIGNED_INTEGER
  SAMPLE_BITS = 8
  BANDS = 1
  BAND_STORAGE_TYPE = BAND_SEQUENTIAL
  MAXIMUM = 255
  MEAN = 144.226
  MINIMUM = 1
  STANDARD_DEVIATION = 25.048
END_OBJECT = IMAGE
/* MAP OBJECT DEFINITIONS */
OBJECT = IMAGE_MAP_PROJECTION
  ^DATA_SET_MAP_PROJECTION_CATALOG= "DSMAP.CAT"
  A_AXIS_RADIUS = 3396.0
  B_AXIS_RADIUS = 3396.0
  C_AXIS_RADIUS = 3396.0
  CENTER_LATITUDE = 0.0
  CENTER_LONGITUDE = 47.0
  COORDINATE_SYSTEM_NAME = PLANETOGRAPHIC
  COORDINATE_SYSTEM_TYPE = "BODY-FIXED ROTATING"
  EASTERNMOST_LONGITUDE = 47.6507
  FIRST_STANDARD_PARALLEL = "N/A"
  LINE_FIRST_PIXEL = 1
  LINE_LAST_PIXEL = 29087
  LINE_PROJECTION_OFFSET = 60909.75
  MAP_PROJECTION_ROTATION = 0.0
  MAP_PROJECTION_TYPE = SINUSOIDAL
  MAP_RESOLUTION = 2370.85521546667
  MAP_SCALE = 0.025
  MAXIMUM_LATITUDE = 25.7316
  MINIMUM_LATITUDE = 13.4255
  POSITIVE_LONGITUDE_DIRECTION = EAST
  REFERENCE_LATITUDE = "N/A"
  REFERENCE_LONGITUDE = "N/A"
  SAMPLE_FIRST_PIXEL = 1
  SAMPLE_LAST_PIXEL = 3582
  SAMPLE_PROJECTION_OFFSET = 1955.25
  SECOND_STANDARD_PARALLEL = "N/A"
  WESTERNMOST_LONGITUDE = 46.2366
END_OBJECT = IMAGE_MAP_PROJECTION
/* The JPEG2000 image data file associated with this label. */
OBJECT = COMPRESSED_FILE
  FILE_NAME = "H7350_0000_S13.JP2"
  RECORD_TYPE = UNDEFINED
  FILE_RECORDS = UNK
  ENCODING_TYPE = "JP2"
  INTERCHANGE_FORMAT = BINARY
  UNCOMPRESSED_FILE_NAME = "H7350_0000_S13.IMG"
  REQUIRED_STORAGE_BYTES = "104211126"
  ^DESCRIPTION = "JP2INFO.TXT"
END_OBJECT = COMPRESSED_FILE
END
