PDS_VERSION_ID = PDS3
/* FILE DATA ELEMENTS */
RECORD_TYPE = STREAM
/* POINTERS TO DATA OBJECTS */
^COMPRESSED_FILE = "H7355_0000_ND3.JP2"
/* IDENTIFICATION DATA ELEMENTS */
DATA_SET_ID = "MEX-M-HRSC-5-REFDR-MAPPROJECTED-V3.0"
DATA_SET_NAME = "MARS EXPRESS HRSC MAP PROJECTED REFDR V3.0"
DETECTOR_ID = MEX_HRSC_NADIR
EVENT_TYPE = "MARS-REGIONAL-MAPPING-Vo"
INSTRUMENT_HOST_ID = MEX
INSTRUMENT_HOST_NAME = "MARS EXPRESS"
INSTRUMENT_ID = HRSC
INSTRUMENT_NAME = "HIGH RESOLUTION STEREO CAMERA"
MISSION_NAME = "MARS EXPRESS"
MISSION_PHASE_NAME = ME_Phase_18
PROCESSING_LEVEL_ID = 3
PRODUCT_CREATION_TIME = 2016-06-30T16:05:12.000Z
PRODUCT_ID = "H7355_0000_ND3.JP2"
RELEASE_ID = 0081
REVISION_ID = 0000
/* QUALITY DATA ELEMENTS */
DATA_QUALITY_ID = 1
DATA_QUALITY_DESC = "Data calculated based on original SPICE kernels"
/* TIME DATA ELEMENTS */
SPACECRAFT_CLOCK_START_COUNT = "1/0202086718.09074"
SPACECRAFT_CLOCK_STOP_COUNT = "1/0202087122.08909"
START_TIME = 2009-09-26T23:12:32.348Z
STOP_TIME = 2009-09-26T23:17:50.354Z
/* ORBITAL DATA ELEMENTS */
ASCENDING_NODE_LONGITUDE = 77.11
MAXIMUM_RESOLUTION = 14
FOOTPRINT_POINT_LATITUDE = (25.4184,25.4141,25.0568,24.6997, 24.1642,23.8076,23.4513,23.0953,22.7395 ,22.0285,21.3186,20.6964,20.274,19.852, 19.4306,19.0096,18.5891,18.1691,17.7497 ,17.3308,16.9125,16.4948,16.0777, 15.6612,15.2453,14.83,14.4155,14.0016, 13.5884,13.1759,12.7641,12.353,11.9427, 11.5331,11.1243,10.7162,10.309,9.90255, 9.49692,9.09212,8.68817,8.28506,7.88281 ,7.48144,7.08095,6.68135,6.28266, 5.88488,5.48804,5.47165,5.46694,5.65775 ,6.05562,6.45441,6.8541,7.25469,7.65617 ,8.05853,8.46174,8.86581,9.27072, 9.67646,10.083,10.4904,10.8985,11.3075, 11.7172,12.1277,12.5389,12.9508,13.3635 ,13.7768,14.1909,14.6056,15.021,15.4371 ,15.8538,16.2711,16.689,17.1075,17.5265 ,17.9462,18.3664,18.7871,19.2083, 19.6301,20.0523,20.475,20.8981,21.3111, 22.0218,22.7336,23.0899,23.4464,23.803, 24.1601,24.5175,24.875,25.2327,25.4184)
FOOTPRINT_POINT_LONGITUDE = (262.818,262.247,262.249,262.252, 262.259,262.261,262.259,262.256,262.256 ,262.256,262.255,262.253,262.252,262.25 ,262.248,262.245,262.242,262.239, 262.235,262.231,262.227,262.223,262.218 ,262.213,262.208,262.202,262.196,262.19 ,262.183,262.176,262.169,262.162, 262.154,262.146,262.138,262.129,262.12, 262.111,262.102,262.092,262.083,262.073 ,262.062,262.052,262.041,262.03,262.019 ,262.008,261.996,262.618,263.039, 263.702,263.7,263.697,263.695,263.692, 263.69,263.687,263.685,263.683,263.681, 263.678,263.676,263.674,263.672,263.67, 263.668,263.666,263.664,263.662,263.661 ,263.659,263.657,263.655,263.653, 263.652,263.65,263.648,263.646,263.645, 263.643,263.642,263.64,263.638,263.637, 263.635,263.633,263.632,263.63,263.628, 263.625,263.622,263.621,263.616,263.611 ,263.611,263.614,263.613,263.612, 262.818)
ORBIT_NUMBER = 7355
ORBITAL_ECCENTRICITY = 0.573
ORBITAL_INCLINATION = 86.8
ORBITAL_SEMIMAJOR_AXIS = 8756.92
PERIAPSIS_ALTITUDE = 348.83
PERIAPSIS_ARGUMENT_ANGLE = 148.06
PERIAPSIS_TIME = 2009-09-26T23:10:52.000Z
SPACECRAFT_ORIENTATION = (0.0,-1.0,0.0)
^MEX_ORIENTATION_DESC = "MEX_ORIENTATION_DESC.TXT"
SPACECRAFT_POINTING_MODE = NADIR
^MEX_POINTING_DESC = "MEX_POINTING_DESC.TXT"
RIGHT_ASCENSION = -1e+32
DECLINATION = -1e+32
OFFSET_ANGLE = -1e+32
SPACECRAFT_SOLAR_DISTANCE = 2.27355e+08
TARGET_NAME = MARS
/* CAMERA DATA ELEMENTS */
DETECTOR_TEMPERATURE = 18.1666
FOCAL_PLANE_TEMPERATURE = 8.1755
INST_CMPRS_NAME = "DISCRETE COSINE TRANSFORMATION (DCT)"
INST_CMPRS_RATIO = 7.14838
INST_CMPRS_QUALITY = 0
INST_CMPRS_QUANTZ_TBL_ID = 0
INSTRUMENT_TEMPERATURE = 11.0301
LENS_TEMPERATURE = 8.5833
MACROPIXEL_SIZE = 1
MISSING_FRAMES = 0
PIXEL_SUBSAMPLING_FLAG = N
SIGNAL_CHAIN_ID = 0
/* RADIOMETRIC DATA ELEMENTS */
BANDWIDTH = 177.0
CENTER_FILTER_WAVELENGTH = 677.5
RADIANCE_OFFSET = 4.04805
RADIANCE_SCALING_FACTOR = 0.0266879
REFLECTANCE_SCALING_FACTOR = 0.000732842
MEX:REFLECTANCE_OFFSET = 0.111158
/* IMAGE OBJECT DEFINITIONS */
OBJECT = IMAGE
  INTERCHANGE_FORMAT = BINARY
  LINES = 94647
  LINE_SAMPLES = 8559
  SAMPLE_TYPE = UNSIGNED_INTEGER
  SAMPLE_BITS = 8
  BANDS = 1
  BAND_STORAGE_TYPE = BAND_SEQUENTIAL
  MAXIMUM = 255
  MEAN = 153.172
  MINIMUM = 1
  STANDARD_DEVIATION = 24.9981
END_OBJECT = IMAGE
/* MAP OBJECT DEFINITIONS */
OBJECT = IMAGE_MAP_PROJECTION
  ^DATA_SET_MAP_PROJECTION_CATALOG= "DSMAP.CAT"
  A_AXIS_RADIUS = 3396.0
  B_AXIS_RADIUS = 3396.0
  C_AXIS_RADIUS = 3396.0
  CENTER_LATITUDE = 0.0
  CENTER_LONGITUDE = 263.0
  COORDINATE_SYSTEM_NAME = PLANETOGRAPHIC
  COORDINATE_SYSTEM_TYPE = "BODY-FIXED ROTATING"
  EASTERNMOST_LONGITUDE = 263.702
  FIRST_STANDARD_PARALLEL = "N/A"
  LINE_FIRST_PIXEL = 1
  LINE_LAST_PIXEL = 94647
  LINE_PROJECTION_OFFSET = 120536.0
  MAP_PROJECTION_ROTATION = 0.0
  MAP_PROJECTION_TYPE = SINUSOIDAL
  MAP_RESOLUTION = 4741.71043093333
  MAP_SCALE = 0.0125
  MAXIMUM_LATITUDE = 25.4184
  MINIMUM_LATITUDE = 5.46694
  POSITIVE_LONGITUDE_DIRECTION = EAST
  REFERENCE_LATITUDE = "N/A"
  REFERENCE_LONGITUDE = "N/A"
  SAMPLE_FIRST_PIXEL = 1
  SAMPLE_LAST_PIXEL = 8559
  SAMPLE_PROJECTION_OFFSET = 4987.0
  SECOND_STANDARD_PARALLEL = "N/A"
  WESTERNMOST_LONGITUDE = 261.996
END_OBJECT = IMAGE_MAP_PROJECTION
/* The JPEG2000 image data file associated with this label. */
OBJECT = COMPRESSED_FILE
  FILE_NAME = "H7355_0000_ND3.JP2"
  RECORD_TYPE = UNDEFINED
  FILE_RECORDS = UNK
  ENCODING_TYPE = "JP2"
  INTERCHANGE_FORMAT = BINARY
  UNCOMPRESSED_FILE_NAME = "H7355_0000_ND3.IMG"
  REQUIRED_STORAGE_BYTES = "810117909"
  ^DESCRIPTION = "JP2INFO.TXT"
END_OBJECT = COMPRESSED_FILE
END
