PDS_VERSION_ID = PDS3
/* FILE DATA ELEMENTS */
RECORD_TYPE = STREAM
/* POINTERS TO DATA OBJECTS */
^COMPRESSED_FILE = "H7358_0000_IR3.JP2"
/* IDENTIFICATION DATA ELEMENTS */
DATA_SET_ID = "MEX-M-HRSC-5-REFDR-MAPPROJECTED-V3.0"
DATA_SET_NAME = "MARS EXPRESS HRSC MAP PROJECTED REFDR V3.0"
DETECTOR_ID = MEX_HRSC_IR
EVENT_TYPE = "MARS-REGIONAL-MAPPING-Vo-Im-Pf"
INSTRUMENT_HOST_ID = MEX
INSTRUMENT_HOST_NAME = "MARS EXPRESS"
INSTRUMENT_ID = HRSC
INSTRUMENT_NAME = "HIGH RESOLUTION STEREO CAMERA"
MISSION_NAME = "MARS EXPRESS"
MISSION_PHASE_NAME = ME_Phase_18
PROCESSING_LEVEL_ID = 3
PRODUCT_CREATION_TIME = 2016-06-30T16:05:12.000Z
PRODUCT_ID = "H7358_0000_IR3.JP2"
RELEASE_ID = 0081
REVISION_ID = 0000
/* QUALITY DATA ELEMENTS */
DATA_QUALITY_ID = 1
DATA_QUALITY_DESC = "Data calculated based on original SPICE kernels"
/* TIME DATA ELEMENTS */
SPACECRAFT_CLOCK_START_COUNT = "1/0202160840.08260"
SPACECRAFT_CLOCK_STOP_COUNT = "1/0202161103.00738"
START_TIME = 2009-09-27T19:47:29.486Z
STOP_TIME = 2009-09-27T19:50:45.133Z
/* ORBITAL DATA ELEMENTS */
ASCENDING_NODE_LONGITUDE = 77.05
MAXIMUM_RESOLUTION = 60
FOOTPRINT_POINT_LATITUDE = (47.5449,47.5345,47.5138,47.4126, 46.8258,46.4726,46.0005,45.7639,45.5271 ,45.2897,45.0523,44.814,44.4567,44.0928 ,43.853,43.614,43.374,43.1336,42.7724, 42.5314,42.2903,42.0488,41.8069,41.5645 ,41.3221,41.0795,40.8366,40.5934, 40.3498,40.106,39.862,39.6175,39.3728, 39.1276,38.8826,38.6373,38.3918,38.1459 ,37.8997,37.6532,37.4064,37.159,36.9127 ,36.6653,36.2943,35.924,35.5515,35.3015 ,35.2418,35.2474,35.2524,35.2558, 35.6292,35.8779,36.1264,36.3747,36.6229 ,36.9948,37.2424,37.4895,37.7367, 37.9835,38.23,38.5997,38.8456,39.0916, 39.3372,39.5826,39.8276,40.0726,40.3172 ,40.5615,40.8055,41.0493,41.293,41.5361 ,41.779,42.0216,42.264,42.5061,42.7477, 42.9891,43.2304,43.471,43.7118,43.9521, 44.1922,44.4388,44.678,44.9171,45.1559, 45.5131,45.7513,45.989,46.2263,46.463, 46.6995,46.9359,47.4077,47.5449)
FOOTPRINT_POINT_LONGITUDE = (320.625,320.156,319.434,318.788, 318.845,318.877,318.919,318.94,318.96, 318.98,319.0,319.019,319.047,319.076, 319.093,319.111,319.128,319.145,319.17, 319.186,319.202,319.218,319.233,319.248 ,319.263,319.278,319.292,319.306,319.32 ,319.333,319.346,319.359,319.372, 319.384,319.396,319.408,319.42,319.431, 319.442,319.453,319.464,319.474,319.485 ,319.495,319.509,319.524,319.538, 319.546,320.006,320.35,320.766,321.087, 321.084,321.083,321.081,321.08,321.078, 321.075,321.074,321.072,321.07,321.068, 321.067,321.064,321.062,321.06,321.058, 321.056,321.054,321.051,321.049,321.047 ,321.045,321.043,321.04,321.038,321.036 ,321.033,321.031,321.028,321.026, 321.023,321.02,321.018,321.015,321.012, 321.009,321.006,321.003,321.0,320.997, 320.993,320.989,320.986,320.983,320.98, 320.976,320.973,320.966,320.625)
ORBIT_NUMBER = 7358
ORBITAL_ECCENTRICITY = 0.572
ORBITAL_INCLINATION = 86.82
ORBITAL_SEMIMAJOR_AXIS = 8742.9
PERIAPSIS_ALTITUDE = 349.67
PERIAPSIS_ARGUMENT_ANGLE = 147.55
PERIAPSIS_TIME = 2009-09-27T19:51:55.000Z
SPACECRAFT_ORIENTATION = (0.0,-1.0,0.0)
^MEX_ORIENTATION_DESC = "MEX_ORIENTATION_DESC.TXT"
SPACECRAFT_POINTING_MODE = NADIR
^MEX_POINTING_DESC = "MEX_POINTING_DESC.TXT"
RIGHT_ASCENSION = -1e+32
DECLINATION = -1e+32
OFFSET_ANGLE = -1e+32
SPACECRAFT_SOLAR_DISTANCE = 2.27523e+08
TARGET_NAME = MARS
/* CAMERA DATA ELEMENTS */
DETECTOR_TEMPERATURE = 17.7588
FOCAL_PLANE_TEMPERATURE = 8.1755
INST_CMPRS_NAME = "DISCRETE COSINE TRANSFORMATION (DCT)"
INST_CMPRS_RATIO = 12.3936
INST_CMPRS_QUALITY = 0
INST_CMPRS_QUANTZ_TBL_ID = 0
INSTRUMENT_TEMPERATURE = 11.234
LENS_TEMPERATURE = 8.7872
MACROPIXEL_SIZE = 4
MISSING_FRAMES = 1
PIXEL_SUBSAMPLING_FLAG = N
SIGNAL_CHAIN_ID = 2
/* RADIOMETRIC DATA ELEMENTS */
BANDWIDTH = 81.0
CENTER_FILTER_WAVELENGTH = 955.5
RADIANCE_OFFSET = 0.673964
RADIANCE_SCALING_FACTOR = 0.00236479
REFLECTANCE_SCALING_FACTOR = 0.000264101
MEX:REFLECTANCE_OFFSET = 0.0752689
/* IMAGE OBJECT DEFINITIONS */
OBJECT = IMAGE
  INTERCHANGE_FORMAT = BINARY
  LINES = 14496
  LINE_SAMPLES = 2006
  SAMPLE_TYPE = UNSIGNED_INTEGER
  SAMPLE_BITS = 8
  BANDS = 1
  BAND_STORAGE_TYPE = BAND_SEQUENTIAL
  MAXIMUM = 255
  MEAN = 92.5837
  MINIMUM = 1
  STANDARD_DEVIATION = 24.3693
END_OBJECT = IMAGE
/* MAP OBJECT DEFINITIONS */
OBJECT = IMAGE_MAP_PROJECTION
  ^DATA_SET_MAP_PROJECTION_CATALOG= "DSMAP.CAT"
  A_AXIS_RADIUS = 3396.0
  B_AXIS_RADIUS = 3396.0
  C_AXIS_RADIUS = 3396.0
  CENTER_LATITUDE = 0.0
  CENTER_LONGITUDE = 320.0
  COORDINATE_SYSTEM_NAME = PLANETOGRAPHIC
  COORDINATE_SYSTEM_TYPE = "BODY-FIXED ROTATING"
  EASTERNMOST_LONGITUDE = 321.087
  FIRST_STANDARD_PARALLEL = "N/A"
  LINE_FIRST_PIXEL = 1
  LINE_LAST_PIXEL = 14496
  LINE_PROJECTION_OFFSET = 56279.875
  MAP_PROJECTION_ROTATION = 0.0
  MAP_PROJECTION_TYPE = SINUSOIDAL
  MAP_RESOLUTION = 1185.42760773333
  MAP_SCALE = 0.05
  MAXIMUM_LATITUDE = 47.5449
  MINIMUM_LATITUDE = 35.2418
  POSITIVE_LONGITUDE_DIRECTION = EAST
  REFERENCE_LATITUDE = "N/A"
  REFERENCE_LONGITUDE = "N/A"
  SAMPLE_FIRST_PIXEL = 1
  SAMPLE_LAST_PIXEL = 2006
  SAMPLE_PROJECTION_OFFSET = 943.375
  SECOND_STANDARD_PARALLEL = "N/A"
  WESTERNMOST_LONGITUDE = 318.788
END_OBJECT = IMAGE_MAP_PROJECTION
/* The JPEG2000 image data file associated with this label. */
OBJECT = COMPRESSED_FILE
  FILE_NAME = "H7358_0000_IR3.JP2"
  RECORD_TYPE = UNDEFINED
  FILE_RECORDS = UNK
  ENCODING_TYPE = "JP2"
  INTERCHANGE_FORMAT = BINARY
  UNCOMPRESSED_FILE_NAME = "H7358_0000_IR3.IMG"
  REQUIRED_STORAGE_BYTES = "29099036"
  ^DESCRIPTION = "JP2INFO.TXT"
END_OBJECT = COMPRESSED_FILE
END
