PDS_VERSION_ID = PDS3
/* FILE DATA ELEMENTS */
RECORD_TYPE = STREAM
/* POINTERS TO DATA OBJECTS */
^COMPRESSED_FILE = "H7360_0000_S13.JP2"
/* IDENTIFICATION DATA ELEMENTS */
DATA_SET_ID = "MEX-M-HRSC-5-REFDR-MAPPROJECTED-V3.0"
DATA_SET_NAME = "MARS EXPRESS HRSC MAP PROJECTED REFDR V3.0"
DETECTOR_ID = MEX_HRSC_S1
EVENT_TYPE = "MARS-REGIONAL-MAPPING-Im-Lc-Pf"
INSTRUMENT_HOST_ID = MEX
INSTRUMENT_HOST_NAME = "MARS EXPRESS"
INSTRUMENT_ID = HRSC
INSTRUMENT_NAME = "HIGH RESOLUTION STEREO CAMERA"
MISSION_NAME = "MARS EXPRESS"
MISSION_PHASE_NAME = ME_Phase_18
PROCESSING_LEVEL_ID = 3
PRODUCT_CREATION_TIME = 2016-06-30T16:05:12.000Z
PRODUCT_ID = "H7360_0000_S13.JP2"
RELEASE_ID = 0081
REVISION_ID = 0000
/* QUALITY DATA ELEMENTS */
DATA_QUALITY_ID = 1
DATA_QUALITY_DESC = "Data calculated based on original SPICE kernels"
/* TIME DATA ELEMENTS */
SPACECRAFT_CLOCK_START_COUNT = "1/0202210784.08249"
SPACECRAFT_CLOCK_STOP_COUNT = "1/0202211068.57512"
START_TIME = 2009-09-28T09:39:46.610Z
STOP_TIME = 2009-09-28T09:43:12.967Z
/* ORBITAL DATA ELEMENTS */
ASCENDING_NODE_LONGITUDE = 77.01
MAXIMUM_RESOLUTION = 30
FOOTPRINT_POINT_LATITUDE = (29.1021,29.1046,29.1066,29.1079, 29.1088,29.1091,28.9284,28.6759,28.423, 28.17,27.9169,27.6636,27.4098,27.1566, 26.9027,26.5224,26.1412,25.8873,25.5063 ,25.1249,24.7434,24.489,24.1039,23.849, 23.4667,23.0852,22.83,22.5753,22.3205, 22.0656,21.8108,21.5557,21.3006,20.918, 20.5355,20.2803,19.9913,19.6866,19.382, 18.9251,18.6207,18.1641,17.8598,17.4036 ,17.0994,16.7949,16.3386,15.883,15.5497 ,15.5467,15.5438,15.5398,15.5349, 15.5295,15.5241,15.8289,16.2856,16.59, 16.895,17.3519,17.6564,18.1132,18.4181, 18.7225,18.8751,19.1802,19.4852,19.7903 ,20.0954,20.3645,20.6198,20.875,21.1304 ,21.3858,21.6411,22.0239,22.4065, 22.6617,23.0442,23.4269,23.6819,23.9367 ,24.1915,24.5777,24.9594,25.2139, 25.4685,25.7229,25.9773,26.2315,26.4857 ,26.8669,27.1208,27.5016,27.8821, 28.1356,28.5157,28.7693,29.0222, 29.1021)
FOOTPRINT_POINT_LONGITUDE = (119.495,119.279,119.064,118.85,118.636 ,118.423,118.304,118.308,118.311, 118.314,118.316,118.319,118.321,118.324 ,118.326,118.329,118.331,118.333, 118.335,118.337,118.338,118.339,118.34, 118.34,118.341,118.341,118.341,118.341, 118.34,118.34,118.339,118.339,118.338, 118.336,118.335,118.333,118.332,118.33, 118.328,118.325,118.322,118.318,118.316 ,118.311,118.308,118.305,118.299, 118.294,118.4,118.58,118.789,119.012, 119.263,119.544,119.733,119.732,119.732 ,119.732,119.731,119.731,119.731, 119.731,119.73,119.73,119.73,119.73, 119.73,119.729,119.729,119.729,119.729, 119.729,119.729,119.729,119.729,119.728 ,119.728,119.728,119.728,119.728, 119.728,119.728,119.728,119.727,119.727 ,119.727,119.727,119.727,119.727, 119.727,119.727,119.726,119.726,119.726 ,119.726,119.726,119.725,119.725, 119.725,119.495)
ORBIT_NUMBER = 7360
ORBITAL_ECCENTRICITY = 0.573
ORBITAL_INCLINATION = 86.8
ORBITAL_SEMIMAJOR_AXIS = 8751.18
PERIAPSIS_ALTITUDE = 349.5
PERIAPSIS_ARGUMENT_ANGLE = 147.19
PERIAPSIS_TIME = 2009-09-28T09:39:21.000Z
SPACECRAFT_ORIENTATION = (0.0,-1.0,0.0)
^MEX_ORIENTATION_DESC = "MEX_ORIENTATION_DESC.TXT"
SPACECRAFT_POINTING_MODE = ACROSSTRACK
^MEX_POINTING_DESC = "MEX_POINTING_DESC.TXT"
RIGHT_ASCENSION = -1e+32
DECLINATION = -1e+32
OFFSET_ANGLE = 0.25
SPACECRAFT_SOLAR_DISTANCE = 2.27635e+08
TARGET_NAME = MARS
/* CAMERA DATA ELEMENTS */
DETECTOR_TEMPERATURE = 17.351
FOCAL_PLANE_TEMPERATURE = 7.9716
INST_CMPRS_NAME = "DISCRETE COSINE TRANSFORMATION (DCT)"
INST_CMPRS_RATIO = 9.37137
INST_CMPRS_QUALITY = 0
INST_CMPRS_QUANTZ_TBL_ID = 0
INSTRUMENT_TEMPERATURE = 11.0301
LENS_TEMPERATURE = 8.3794
MACROPIXEL_SIZE = 2
MISSING_FRAMES = 1
PIXEL_SUBSAMPLING_FLAG = N
SIGNAL_CHAIN_ID = 1
/* RADIOMETRIC DATA ELEMENTS */
BANDWIDTH = 180.0
CENTER_FILTER_WAVELENGTH = 677.0
RADIANCE_OFFSET = 6.09254
RADIANCE_SCALING_FACTOR = 0.0107406
REFLECTANCE_SCALING_FACTOR = 0.000290368
MEX:REFLECTANCE_OFFSET = 0.16471
/* IMAGE OBJECT DEFINITIONS */
OBJECT = IMAGE
  INTERCHANGE_FORMAT = BINARY
  LINES = 32033
  LINE_SAMPLES = 3546
  SAMPLE_TYPE = UNSIGNED_INTEGER
  SAMPLE_BITS = 8
  BANDS = 1
  BAND_STORAGE_TYPE = BAND_SEQUENTIAL
  MAXIMUM = 255
  MEAN = 145.46
  MINIMUM = 1
  STANDARD_DEVIATION = 33.2374
END_OBJECT = IMAGE
/* MAP OBJECT DEFINITIONS */
OBJECT = IMAGE_MAP_PROJECTION
  ^DATA_SET_MAP_PROJECTION_CATALOG= "DSMAP.CAT"
  A_AXIS_RADIUS = 3396.0
  B_AXIS_RADIUS = 3396.0
  C_AXIS_RADIUS = 3396.0
  CENTER_LATITUDE = 0.0
  CENTER_LONGITUDE = 119.0
  COORDINATE_SYSTEM_NAME = PLANETOGRAPHIC
  COORDINATE_SYSTEM_TYPE = "BODY-FIXED ROTATING"
  EASTERNMOST_LONGITUDE = 119.733
  FIRST_STANDARD_PARALLEL = "N/A"
  LINE_FIRST_PIXEL = 1
  LINE_LAST_PIXEL = 32033
  LINE_PROJECTION_OFFSET = 68905.25
  MAP_PROJECTION_ROTATION = 0.0
  MAP_PROJECTION_TYPE = SINUSOIDAL
  MAP_RESOLUTION = 2370.85521546667
  MAP_SCALE = 0.025
  MAXIMUM_LATITUDE = 29.1091
  MINIMUM_LATITUDE = 15.5241
  POSITIVE_LONGITUDE_DIRECTION = EAST
  REFERENCE_LATITUDE = "N/A"
  REFERENCE_LONGITUDE = "N/A"
  SAMPLE_FIRST_PIXEL = 1
  SAMPLE_LAST_PIXEL = 3546
  SAMPLE_PROJECTION_OFFSET = 1725.25
  SECOND_STANDARD_PARALLEL = "N/A"
  WESTERNMOST_LONGITUDE = 118.294
END_OBJECT = IMAGE_MAP_PROJECTION
/* The JPEG2000 image data file associated with this label. */
OBJECT = COMPRESSED_FILE
  FILE_NAME = "H7360_0000_S13.JP2"
  RECORD_TYPE = UNDEFINED
  FILE_RECORDS = UNK
  ENCODING_TYPE = "JP2"
  INTERCHANGE_FORMAT = BINARY
  UNCOMPRESSED_FILE_NAME = "H7360_0000_S13.IMG"
  REQUIRED_STORAGE_BYTES = "113610294"
  ^DESCRIPTION = "JP2INFO.TXT"
END_OBJECT = COMPRESSED_FILE
END
