PDS_VERSION_ID = PDS3
/* FILE DATA ELEMENTS */
RECORD_TYPE = STREAM
/* POINTERS TO DATA OBJECTS */
^COMPRESSED_FILE = "H7362_0000_RE3.JP2"
/* IDENTIFICATION DATA ELEMENTS */
DATA_SET_ID = "MEX-M-HRSC-5-REFDR-MAPPROJECTED-V3.0"
DATA_SET_NAME = "MARS EXPRESS HRSC MAP PROJECTED REFDR V3.0"
DETECTOR_ID = MEX_HRSC_RED
EVENT_TYPE = "MARS-REGIONAL-MAPPING-Vo-Te"
INSTRUMENT_HOST_ID = MEX
INSTRUMENT_HOST_NAME = "MARS EXPRESS"
INSTRUMENT_ID = HRSC
INSTRUMENT_NAME = "HIGH RESOLUTION STEREO CAMERA"
MISSION_NAME = "MARS EXPRESS"
MISSION_PHASE_NAME = ME_Phase_18
PROCESSING_LEVEL_ID = 3
PRODUCT_CREATION_TIME = 2016-06-30T16:05:12.000Z
PRODUCT_ID = "H7362_0000_RE3.JP2"
RELEASE_ID = 0081
REVISION_ID = 0000
/* QUALITY DATA ELEMENTS */
DATA_QUALITY_ID = 1
DATA_QUALITY_DESC = "Data calculated based on original SPICE kernels"
/* TIME DATA ELEMENTS */
SPACECRAFT_CLOCK_START_COUNT = "1/0202260466.09045"
SPACECRAFT_CLOCK_STOP_COUNT = "1/0202260750.57542"
START_TIME = 2009-09-28T23:28:47.771Z
STOP_TIME = 2009-09-28T23:32:23.701Z
/* ORBITAL DATA ELEMENTS */
ASCENDING_NODE_LONGITUDE = 76.97
MAXIMUM_RESOLUTION = 120.1
FOOTPRINT_POINT_LATITUDE = (27.3799,27.3814,27.3827,27.3981, 27.1595,26.9211,26.6831,26.4454,26.2078 ,25.9705,25.7334,25.4965,25.0235, 24.5512,24.137,23.8563,23.4365,23.1562, 22.8769,22.5979,22.3194,22.0415,21.764, 21.4867,21.2096,20.9331,20.6569,20.3813 ,20.106,19.8309,19.5564,19.2826,19.0094 ,18.7361,18.4633,18.191,17.9192,17.6479 ,17.3767,17.1061,16.8362,16.5666, 16.2977,16.0293,15.7612,15.4936,15.2269 ,14.9603,14.6944,14.4289,14.1272, 14.1228,14.1161,14.111,14.3746,14.6403, 14.9066,15.1735,15.4412,15.7092,15.9774 ,16.246,16.5152,16.9201,17.1903,17.4614 ,17.869,18.1411,18.414,18.6872,18.9607, 19.2345,19.5089,19.7837,20.0588,20.3345 ,20.6104,20.8868,21.1635,21.4407, 21.7183,21.9965,22.275,22.5538,22.833, 23.1128,23.3927,23.6732,23.954,24.2353, 24.751,25.106,25.5798,25.817,26.0545, 26.2923,26.5302,26.7684,27.0069, 27.3799)
FOOTPRINT_POINT_LONGITUDE = (277.32,276.968,276.589,276.086,276.089 ,276.091,276.093,276.095,276.097, 276.099,276.101,276.102,276.105,276.107 ,276.108,276.109,276.11,276.11,276.11, 276.11,276.11,276.109,276.108,276.107, 276.107,276.105,276.104,276.103,276.101 ,276.099,276.098,276.095,276.093, 276.091,276.088,276.086,276.083,276.08, 276.077,276.074,276.071,276.067,276.063 ,276.06,276.056,276.052,276.048,276.043 ,276.039,276.034,276.25,276.532,276.991 ,277.374,277.603,277.6,277.598,277.596, 277.594,277.592,277.59,277.587,277.585, 277.582,277.58,277.578,277.574,277.572, 277.57,277.568,277.566,277.564,277.561, 277.559,277.557,277.555,277.552,277.55, 277.548,277.546,277.543,277.541,277.539 ,277.536,277.534,277.532,277.529, 277.527,277.524,277.522,277.518,277.514 ,277.51,277.508,277.506,277.504,277.501 ,277.499,277.497,277.32)
ORBIT_NUMBER = 7362
ORBITAL_ECCENTRICITY = 0.573
ORBITAL_INCLINATION = 86.8
ORBITAL_SEMIMAJOR_AXIS = 8751.93
PERIAPSIS_ALTITUDE = 349.76
PERIAPSIS_ARGUMENT_ANGLE = 146.85
PERIAPSIS_TIME = 2009-09-28T23:26:52.000Z
SPACECRAFT_ORIENTATION = (0.0,-1.0,0.0)
^MEX_ORIENTATION_DESC = "MEX_ORIENTATION_DESC.TXT"
SPACECRAFT_POINTING_MODE = ACROSSTRACK
^MEX_POINTING_DESC = "MEX_POINTING_DESC.TXT"
RIGHT_ASCENSION = -1e+32
DECLINATION = -1e+32
OFFSET_ANGLE = -0.2
SPACECRAFT_SOLAR_DISTANCE = 2.27747e+08
TARGET_NAME = MARS
/* CAMERA DATA ELEMENTS */
DETECTOR_TEMPERATURE = 18.7783
FOCAL_PLANE_TEMPERATURE = 8.7872
INST_CMPRS_NAME = "DISCRETE COSINE TRANSFORMATION (DCT)"
INST_CMPRS_RATIO = 21.2796
INST_CMPRS_QUALITY = 0
INST_CMPRS_QUANTZ_TBL_ID = 0
INSTRUMENT_TEMPERATURE = 11.4379
LENS_TEMPERATURE = 9.3989
MACROPIXEL_SIZE = 8
MISSING_FRAMES = 0
PIXEL_SUBSAMPLING_FLAG = N
SIGNAL_CHAIN_ID = 2
/* RADIOMETRIC DATA ELEMENTS */
BANDWIDTH = 48.0
CENTER_FILTER_WAVELENGTH = 748.0
RADIANCE_OFFSET = 1.44955
RADIANCE_SCALING_FACTOR = 0.00555678
REFLECTANCE_SCALING_FACTOR = 0.000657744
MEX:REFLECTANCE_OFFSET = 0.17158
/* IMAGE OBJECT DEFINITIONS */
OBJECT = IMAGE
  INTERCHANGE_FORMAT = BINARY
  LINES = 7893
  LINE_SAMPLES = 914
  SAMPLE_TYPE = UNSIGNED_INTEGER
  SAMPLE_BITS = 8
  BANDS = 1
  BAND_STORAGE_TYPE = BAND_SEQUENTIAL
  MAXIMUM = 255
  MEAN = 161.413
  MINIMUM = 1
  STANDARD_DEVIATION = 20.8569
END_OBJECT = IMAGE
/* MAP OBJECT DEFINITIONS */
OBJECT = IMAGE_MAP_PROJECTION
  ^DATA_SET_MAP_PROJECTION_CATALOG= "DSMAP.CAT"
  A_AXIS_RADIUS = 3396.0
  B_AXIS_RADIUS = 3396.0
  C_AXIS_RADIUS = 3396.0
  CENTER_LATITUDE = 0.0
  CENTER_LONGITUDE = 277.0
  COORDINATE_SYSTEM_NAME = PLANETOGRAPHIC
  COORDINATE_SYSTEM_TYPE = "BODY-FIXED ROTATING"
  EASTERNMOST_LONGITUDE = 277.603
  FIRST_STANDARD_PARALLEL = "N/A"
  LINE_FIRST_PIXEL = 1
  LINE_LAST_PIXEL = 7893
  LINE_PROJECTION_OFFSET = 16261.5625
  MAP_PROJECTION_ROTATION = 0.0
  MAP_PROJECTION_TYPE = SINUSOIDAL
  MAP_RESOLUTION = 592.713803866667
  MAP_SCALE = 0.1
  MAXIMUM_LATITUDE = 27.3981
  MINIMUM_LATITUDE = 14.111
  POSITIVE_LONGITUDE_DIRECTION = EAST
  REFERENCE_LATITUDE = "N/A"
  REFERENCE_LONGITUDE = "N/A"
  SAMPLE_FIRST_PIXEL = 1
  SAMPLE_LAST_PIXEL = 914
  SAMPLE_PROJECTION_OFFSET = 570.3125
  SECOND_STANDARD_PARALLEL = "N/A"
  WESTERNMOST_LONGITUDE = 276.034
END_OBJECT = IMAGE_MAP_PROJECTION
/* The JPEG2000 image data file associated with this label. */
OBJECT = COMPRESSED_FILE
  FILE_NAME = "H7362_0000_RE3.JP2"
  RECORD_TYPE = UNDEFINED
  FILE_RECORDS = UNK
  ENCODING_TYPE = "JP2"
  INTERCHANGE_FORMAT = BINARY
  UNCOMPRESSED_FILE_NAME = "H7362_0000_RE3.IMG"
  REQUIRED_STORAGE_BYTES = "7232482"
  ^DESCRIPTION = "JP2INFO.TXT"
END_OBJECT = COMPRESSED_FILE
END
