PDS_VERSION_ID = PDS3
/* FILE DATA ELEMENTS */
RECORD_TYPE = STREAM
/* POINTERS TO DATA OBJECTS */
^COMPRESSED_FILE = "H7363_0000_IR3.JP2"
/* IDENTIFICATION DATA ELEMENTS */
DATA_SET_ID = "MEX-M-HRSC-5-REFDR-MAPPROJECTED-V3.0"
DATA_SET_NAME = "MARS EXPRESS HRSC MAP PROJECTED REFDR V3.0"
DETECTOR_ID = MEX_HRSC_IR
EVENT_TYPE = "MARS-REGIONAL-MAPPING-Vo-Te-Pf"
INSTRUMENT_HOST_ID = MEX
INSTRUMENT_HOST_NAME = "MARS EXPRESS"
INSTRUMENT_ID = HRSC
INSTRUMENT_NAME = "HIGH RESOLUTION STEREO CAMERA"
MISSION_NAME = "MARS EXPRESS"
MISSION_PHASE_NAME = ME_Phase_18
PROCESSING_LEVEL_ID = 3
PRODUCT_CREATION_TIME = 2016-06-30T16:05:12.000Z
PRODUCT_ID = "H7363_0000_IR3.JP2"
RELEASE_ID = 0081
REVISION_ID = 0000
/* QUALITY DATA ELEMENTS */
DATA_QUALITY_ID = 1
DATA_QUALITY_DESC = "Data calculated based on original SPICE kernels"
/* TIME DATA ELEMENTS */
SPACECRAFT_CLOCK_START_COUNT = "1/0202285042.09064"
SPACECRAFT_CLOCK_STOP_COUNT = "1/0202285241.09106"
START_TIME = 2009-09-29T06:17:30.706Z
STOP_TIME = 2009-09-29T06:19:43.241Z
/* ORBITAL DATA ELEMENTS */
ASCENDING_NODE_LONGITUDE = 76.94
MAXIMUM_RESOLUTION = 119.5
FOOTPRINT_POINT_LATITUDE = (43.298,43.2937,43.2874,43.2812,43.2689 ,43.2588,43.0024,42.8184,42.6336,42.449 ,42.264,42.0788,41.8007,41.6154,41.3367 ,41.1508,40.8721,40.6854,40.4988, 40.3122,40.1278,39.8145,39.4223,39.2646 ,38.951,38.7934,38.636,38.4786,38.2419, 38.0051,37.7682,37.6101,37.452,37.2938, 37.1355,36.9771,36.8185,36.66,36.5013, 36.3425,36.1836,36.0247,35.8656,35.7066 ,35.5475,35.3882,35.2288,34.9895,34.83, 34.8188,34.8257,34.8294,34.8317,34.8343 ,34.9965,35.1562,35.3159,35.4756, 35.6351,35.7946,35.954,36.1133,36.3521, 36.5112,36.6702,36.8293,36.9882,37.1469 ,37.3056,37.4643,37.6228,37.8604, 38.0187,38.2561,38.4142,38.6513,38.8878 ,39.0455,39.2032,39.3608,39.5972,39.833 ,39.9901,40.1471,40.3293,40.5163, 40.7035,40.984,41.2636,41.45,41.6359, 41.822,42.0079,42.1938,42.3795,42.5647, 42.75,42.9351,43.1201,43.298)
FOOTPRINT_POINT_LONGITUDE = (176.566,176.315,175.997,175.73,175.279 ,174.962,174.936,174.949,174.961, 174.973,174.985,174.997,175.014,175.026 ,175.042,175.053,175.069,175.08,175.09, 175.1,175.11,175.127,175.147,175.155, 175.17,175.178,175.185,175.193,175.203, 175.214,175.224,175.231,175.238,175.245 ,175.251,175.258,175.264,175.27,175.276 ,175.282,175.288,175.294,175.3,175.306, 175.311,175.317,175.322,175.33,175.335, 175.59,175.973,176.243,176.457,176.755, 176.849,176.848,176.847,176.845,176.844 ,176.843,176.842,176.841,176.839, 176.838,176.836,176.835,176.834,176.833 ,176.831,176.83,176.829,176.827,176.825 ,176.823,176.822,176.819,176.817, 176.816,176.814,176.813,176.81,176.808, 176.807,176.805,176.803,176.801,176.799 ,176.796,176.793,176.791,176.789, 176.787,176.785,176.782,176.78,176.778, 176.776,176.774,176.771,176.566)
ORBIT_NUMBER = 7363
ORBITAL_ECCENTRICITY = 0.572
ORBITAL_INCLINATION = 86.82
ORBITAL_SEMIMAJOR_AXIS = 8740.46
PERIAPSIS_ALTITUDE = 350.45
PERIAPSIS_ARGUMENT_ANGLE = 146.67
PERIAPSIS_TIME = 2009-09-29T06:20:33.000Z
SPACECRAFT_ORIENTATION = (0.0,-1.0,0.0)
^MEX_ORIENTATION_DESC = "MEX_ORIENTATION_DESC.TXT"
SPACECRAFT_POINTING_MODE = NADIR
^MEX_POINTING_DESC = "MEX_POINTING_DESC.TXT"
RIGHT_ASCENSION = -1e+32
DECLINATION = -1e+32
OFFSET_ANGLE = -1e+32
SPACECRAFT_SOLAR_DISTANCE = 2.27803e+08
TARGET_NAME = MARS
/* CAMERA DATA ELEMENTS */
DETECTOR_TEMPERATURE = 17.5549
FOCAL_PLANE_TEMPERATURE = 8.5833
INST_CMPRS_NAME = "DISCRETE COSINE TRANSFORMATION (DCT)"
INST_CMPRS_RATIO = 28.0682
INST_CMPRS_QUALITY = 0
INST_CMPRS_QUANTZ_TBL_ID = 0
INSTRUMENT_TEMPERATURE = 10.8262
LENS_TEMPERATURE = 9.195
MACROPIXEL_SIZE = 8
MISSING_FRAMES = 0
PIXEL_SUBSAMPLING_FLAG = N
SIGNAL_CHAIN_ID = 2
/* RADIOMETRIC DATA ELEMENTS */
BANDWIDTH = 81.0
CENTER_FILTER_WAVELENGTH = 955.5
RADIANCE_OFFSET = 1.00936
RADIANCE_SCALING_FACTOR = 0.00283576
REFLECTANCE_SCALING_FACTOR = 0.00031748
MEX:REFLECTANCE_OFFSET = 0.113003
/* IMAGE OBJECT DEFINITIONS */
OBJECT = IMAGE
  INTERCHANGE_FORMAT = BINARY
  LINES = 4991
  LINE_SAMPLES = 892
  SAMPLE_TYPE = UNSIGNED_INTEGER
  SAMPLE_BITS = 8
  BANDS = 1
  BAND_STORAGE_TYPE = BAND_SEQUENTIAL
  MAXIMUM = 254
  MEAN = 141.695
  MINIMUM = 1
  STANDARD_DEVIATION = 31.2257
END_OBJECT = IMAGE
/* MAP OBJECT DEFINITIONS */
OBJECT = IMAGE_MAP_PROJECTION
  ^DATA_SET_MAP_PROJECTION_CATALOG= "DSMAP.CAT"
  A_AXIS_RADIUS = 3396.0
  B_AXIS_RADIUS = 3396.0
  C_AXIS_RADIUS = 3396.0
  CENTER_LATITUDE = 0.0
  CENTER_LONGITUDE = 176.0
  COORDINATE_SYSTEM_NAME = PLANETOGRAPHIC
  COORDINATE_SYSTEM_TYPE = "BODY-FIXED ROTATING"
  EASTERNMOST_LONGITUDE = 176.849
  FIRST_STANDARD_PARALLEL = "N/A"
  LINE_FIRST_PIXEL = 1
  LINE_LAST_PIXEL = 4991
  LINE_PROJECTION_OFFSET = 25626.6875
  MAP_PROJECTION_ROTATION = 0.0
  MAP_PROJECTION_TYPE = SINUSOIDAL
  MAP_RESOLUTION = 592.713803866667
  MAP_SCALE = 0.1
  MAXIMUM_LATITUDE = 43.298
  MINIMUM_LATITUDE = 34.8188
  POSITIVE_LONGITUDE_DIRECTION = EAST
  REFERENCE_LATITUDE = "N/A"
  REFERENCE_LONGITUDE = "N/A"
  SAMPLE_FIRST_PIXEL = 1
  SAMPLE_LAST_PIXEL = 892
  SAMPLE_PROJECTION_OFFSET = 469.9375
  SECOND_STANDARD_PARALLEL = "N/A"
  WESTERNMOST_LONGITUDE = 174.936
END_OBJECT = IMAGE_MAP_PROJECTION
/* The JPEG2000 image data file associated with this label. */
OBJECT = COMPRESSED_FILE
  FILE_NAME = "H7363_0000_IR3.JP2"
  RECORD_TYPE = UNDEFINED
  FILE_RECORDS = UNK
  ENCODING_TYPE = "JP2"
  INTERCHANGE_FORMAT = BINARY
  UNCOMPRESSED_FILE_NAME = "H7363_0000_IR3.IMG"
  REQUIRED_STORAGE_BYTES = "4469812"
  ^DESCRIPTION = "JP2INFO.TXT"
END_OBJECT = COMPRESSED_FILE
END
