PDS_VERSION_ID = PDS3
/* FILE DATA ELEMENTS */
RECORD_TYPE = STREAM
/* POINTERS TO DATA OBJECTS */
^COMPRESSED_FILE = "H7365_0000_S13.JP2"
/* IDENTIFICATION DATA ELEMENTS */
DATA_SET_ID = "MEX-M-HRSC-5-REFDR-MAPPROJECTED-V3.0"
DATA_SET_NAME = "MARS EXPRESS HRSC MAP PROJECTED REFDR V3.0"
DETECTOR_ID = MEX_HRSC_S1
EVENT_TYPE = "MARS-REGIONAL-MAPPING-Im-Lc-Pf"
INSTRUMENT_HOST_ID = MEX
INSTRUMENT_HOST_NAME = "MARS EXPRESS"
INSTRUMENT_ID = HRSC
INSTRUMENT_NAME = "HIGH RESOLUTION STEREO CAMERA"
MISSION_NAME = "MARS EXPRESS"
MISSION_PHASE_NAME = ME_Phase_18
PROCESSING_LEVEL_ID = 3
PRODUCT_CREATION_TIME = 2016-06-30T16:05:12.000Z
PRODUCT_ID = "H7365_0000_S13.JP2"
RELEASE_ID = 0081
REVISION_ID = 0000
/* QUALITY DATA ELEMENTS */
DATA_QUALITY_ID = 1
DATA_QUALITY_DESC = "Data calculated based on original SPICE kernels"
/* TIME DATA ELEMENTS */
SPACECRAFT_CLOCK_START_COUNT = "1/0202334740.08255"
SPACECRAFT_CLOCK_STOP_COUNT = "1/0202335008.40035"
START_TIME = 2009-09-29T20:05:42.603Z
STOP_TIME = 2009-09-29T20:09:03.970Z
/* ORBITAL DATA ELEMENTS */
ASCENDING_NODE_LONGITUDE = 76.91
MAXIMUM_RESOLUTION = 30.1
FOOTPRINT_POINT_LATITUDE = (40.1258,40.1152,40.1026,40.016,39.6374 ,39.3846,39.1319,38.8783,38.4975, 38.2434,37.9889,37.7343,37.4795,37.2247 ,36.9694,36.7138,36.4581,36.202,35.9457 ,35.6892,35.4321,35.1748,34.9173, 34.6599,34.4021,34.144,33.8859,33.6275, 33.369,33.1101,32.8511,32.592,32.3329, 32.0734,31.8136,31.5536,31.1635,30.9032 ,30.6427,30.2516,29.9908,29.73,29.4687, 29.2074,28.9458,28.5533,28.2915,28.0295 ,27.6362,27.3741,27.112,27.0959,27.0995 ,27.1017,27.3651,27.6277,27.8903, 28.1527,28.4148,28.808,29.2006,29.4624, 29.7241,29.9857,30.2471,30.5082,30.8997 ,31.1604,31.421,31.8118,32.072,32.332, 32.5916,32.8511,33.2402,33.4993,33.8879 ,34.2755,34.5339,34.9211,35.179,35.4366 ,35.6942,35.9515,36.2086,36.4653, 36.7216,37.106,37.3617,37.7451,38.0001, 38.255,38.5097,38.7642,39.0183,39.2723, 39.526,39.7792,40.0321,40.1258)
FOOTPRINT_POINT_LONGITUDE = (334.801,334.211,333.701,333.444, 333.464,333.477,333.49,333.502,333.52, 333.532,333.543,333.555,333.566,333.576 ,333.587,333.597,333.607,333.617, 333.627,333.636,333.645,333.654,333.662 ,333.671,333.679,333.687,333.694, 333.702,333.709,333.716,333.723,333.73, 333.737,333.743,333.749,333.755,333.763 ,333.769,333.774,333.781,333.786, 333.791,333.795,333.799,333.803,333.809 ,333.812,333.816,333.82,333.823,333.826 ,334.194,334.507,335.026,335.234, 335.233,335.232,335.231,335.23,335.228, 335.226,335.225,335.224,335.223,335.222 ,335.22,335.218,335.217,335.216,335.214 ,335.212,335.211,335.21,335.208,335.206 ,335.204,335.202,335.2,335.198,335.196, 335.194,335.192,335.19,335.188,335.186, 335.185,335.183,335.18,335.178,335.175, 335.173,335.171,335.168,335.166,335.164 ,335.162,335.159,335.157,335.154, 334.801)
ORBIT_NUMBER = 7365
ORBITAL_ECCENTRICITY = 0.572
ORBITAL_INCLINATION = 86.82
ORBITAL_SEMIMAJOR_AXIS = 8740.99
PERIAPSIS_ALTITUDE = 350.47
PERIAPSIS_ARGUMENT_ANGLE = 146.31
PERIAPSIS_TIME = 2009-09-29T20:07:55.000Z
SPACECRAFT_ORIENTATION = (0.0,-1.0,0.0)
^MEX_ORIENTATION_DESC = "MEX_ORIENTATION_DESC.TXT"
SPACECRAFT_POINTING_MODE = NADIR
^MEX_POINTING_DESC = "MEX_POINTING_DESC.TXT"
RIGHT_ASCENSION = -1e+32
DECLINATION = -1e+32
OFFSET_ANGLE = -1e+32
SPACECRAFT_SOLAR_DISTANCE = 2.27915e+08
TARGET_NAME = MARS
/* CAMERA DATA ELEMENTS */
DETECTOR_TEMPERATURE = 17.5549
FOCAL_PLANE_TEMPERATURE = 8.5833
INST_CMPRS_NAME = "DISCRETE COSINE TRANSFORMATION (DCT)"
INST_CMPRS_RATIO = 9.40904
INST_CMPRS_QUALITY = 0
INST_CMPRS_QUANTZ_TBL_ID = 0
INSTRUMENT_TEMPERATURE = 11.234
LENS_TEMPERATURE = 8.9911
MACROPIXEL_SIZE = 2
MISSING_FRAMES = 0
PIXEL_SUBSAMPLING_FLAG = N
SIGNAL_CHAIN_ID = 1
/* RADIOMETRIC DATA ELEMENTS */
BANDWIDTH = 180.0
CENTER_FILTER_WAVELENGTH = 677.0
RADIANCE_OFFSET = 3.53428
RADIANCE_SCALING_FACTOR = 0.0134903
REFLECTANCE_SCALING_FACTOR = 0.000365604
MEX:REFLECTANCE_OFFSET = 0.0957832
/* IMAGE OBJECT DEFINITIONS */
OBJECT = IMAGE
  INTERCHANGE_FORMAT = BINARY
  LINES = 30741
  LINE_SAMPLES = 3681
  SAMPLE_TYPE = UNSIGNED_INTEGER
  SAMPLE_BITS = 8
  BANDS = 1
  BAND_STORAGE_TYPE = BAND_SEQUENTIAL
  MAXIMUM = 255
  MEAN = 113.868
  MINIMUM = 1
  STANDARD_DEVIATION = 44.0645
END_OBJECT = IMAGE
/* MAP OBJECT DEFINITIONS */
OBJECT = IMAGE_MAP_PROJECTION
  ^DATA_SET_MAP_PROJECTION_CATALOG= "DSMAP.CAT"
  A_AXIS_RADIUS = 3396.0
  B_AXIS_RADIUS = 3396.0
  C_AXIS_RADIUS = 3396.0
  CENTER_LATITUDE = 0.0
  CENTER_LONGITUDE = 334.0
  COORDINATE_SYSTEM_NAME = PLANETOGRAPHIC
  COORDINATE_SYSTEM_TYPE = "BODY-FIXED ROTATING"
  EASTERNMOST_LONGITUDE = 335.234
  FIRST_STANDARD_PARALLEL = "N/A"
  LINE_FIRST_PIXEL = 1
  LINE_LAST_PIXEL = 30741
  LINE_PROJECTION_OFFSET = 95002.75
  MAP_PROJECTION_ROTATION = 0.0
  MAP_PROJECTION_TYPE = SINUSOIDAL
  MAP_RESOLUTION = 2370.85521546667
  MAP_SCALE = 0.025
  MAXIMUM_LATITUDE = 40.1258
  MINIMUM_LATITUDE = 27.0959
  POSITIVE_LONGITUDE_DIRECTION = EAST
  REFERENCE_LATITUDE = "N/A"
  REFERENCE_LONGITUDE = "N/A"
  SAMPLE_FIRST_PIXEL = 1
  SAMPLE_LAST_PIXEL = 3681
  SAMPLE_PROJECTION_OFFSET = 1021.25
  SECOND_STANDARD_PARALLEL = "N/A"
  WESTERNMOST_LONGITUDE = 333.444
END_OBJECT = IMAGE_MAP_PROJECTION
/* The JPEG2000 image data file associated with this label. */
OBJECT = COMPRESSED_FILE
  FILE_NAME = "H7365_0000_S13.JP2"
  RECORD_TYPE = UNDEFINED
  FILE_RECORDS = UNK
  ENCODING_TYPE = "JP2"
  INTERCHANGE_FORMAT = BINARY
  UNCOMPRESSED_FILE_NAME = "H7365_0000_S13.IMG"
  REQUIRED_STORAGE_BYTES = "113179707"
  ^DESCRIPTION = "JP2INFO.TXT"
END_OBJECT = COMPRESSED_FILE
END
