PDS_VERSION_ID = PDS3
/* FILE DATA ELEMENTS */
RECORD_TYPE = STREAM
/* POINTERS TO DATA OBJECTS */
^COMPRESSED_FILE = "H7369_0000_GR3.JP2"
/* IDENTIFICATION DATA ELEMENTS */
DATA_SET_ID = "MEX-M-HRSC-5-REFDR-MAPPROJECTED-V3.0"
DATA_SET_NAME = "MARS EXPRESS HRSC MAP PROJECTED REFDR V3.0"
DETECTOR_ID = MEX_HRSC_GREEN
EVENT_TYPE = "MARS-REGIONAL-MAPPING-Vo-Te"
INSTRUMENT_HOST_ID = MEX
INSTRUMENT_HOST_NAME = "MARS EXPRESS"
INSTRUMENT_ID = HRSC
INSTRUMENT_NAME = "HIGH RESOLUTION STEREO CAMERA"
MISSION_NAME = "MARS EXPRESS"
MISSION_PHASE_NAME = ME_Phase_18
PROCESSING_LEVEL_ID = 3
PRODUCT_CREATION_TIME = 2016-06-30T16:05:12.000Z
PRODUCT_ID = "H7369_0000_GR3.JP2"
RELEASE_ID = 0081
REVISION_ID = 0000
/* QUALITY DATA ELEMENTS */
DATA_QUALITY_ID = 1
DATA_QUALITY_DESC = "Data calculated based on original SPICE kernels"
/* TIME DATA ELEMENTS */
SPACECRAFT_CLOCK_START_COUNT = "1/0202434353.07282"
SPACECRAFT_CLOCK_STOP_COUNT = "1/0202434732.27099"
START_TIME = 2009-09-30T23:46:24.178Z
STOP_TIME = 2009-09-30T23:51:01.874Z
/* ORBITAL DATA ELEMENTS */
ASCENDING_NODE_LONGITUDE = 76.83
MAXIMUM_RESOLUTION = 123.4
FOOTPRINT_POINT_LATITUDE = (20.346,20.3456,20.3437,20.0286,19.7187 ,19.409,19.0997,18.7905,18.4816,18.1731 ,17.8648,17.5567,17.2491,16.9417, 16.6346,16.1656,15.8511,15.537,15.2232, 14.9034,14.582,14.2612,13.9407,13.4495, 13.122,12.7948,12.4612,12.1268,11.793, 11.2844,10.9437,10.4296,10.0822,9.73543 ,9.20678,8.85335,8.31614,7.95646, 7.40935,7.0435,6.48636,6.11407,5.73506, 5.35684,4.97236,4.58803,4.19726,3.80696 ,3.41019,3.19405,3.18774,3.17924, 3.17703,3.57432,4.16434,4.55605,4.94102 ,5.32642,5.70525,6.27158,6.64453, 7.01627,7.38276,7.93093,8.29124,8.82952 ,9.18343,9.71333,10.0607,10.5828, 11.0944,11.4358,11.7744,12.1088,12.4436 ,12.7779,13.1055,13.4336,13.9257, 14.2466,14.5679,14.8897,15.2101,15.5244 ,15.839,16.1539,16.6238,16.9314,17.2393 ,17.5474,17.8556,18.1642,18.4733, 18.7826,19.0922,19.4021,19.7122,20.0226 ,20.3332,20.346)
FOOTPRINT_POINT_LONGITUDE = (291.257,290.833,290.34,290.22,290.218, 290.216,290.214,290.212,290.209,290.207 ,290.204,290.201,290.198,290.194, 290.191,290.185,290.181,290.177,290.172 ,290.167,290.162,290.157,290.152, 290.144,290.138,290.132,290.125,290.119 ,290.112,290.101,290.094,290.083, 290.075,290.066,290.054,290.044,290.031 ,290.021,290.006,289.995,289.979, 289.968,289.956,289.944,289.932,289.919 ,289.906,289.893,289.88,290.314,290.809 ,291.426,291.754,291.751,291.747, 291.743,291.74,291.738,291.735,291.731, 291.728,291.725,291.723,291.719,291.717 ,291.713,291.711,291.707,291.705, 291.702,291.698,291.696,291.695,291.693 ,291.691,291.689,291.687,291.685, 291.682,291.68,291.678,291.676,291.674, 291.672,291.67,291.669,291.666,291.664, 291.662,291.66,291.658,291.656,291.655, 291.653,291.651,291.649,291.647,291.645 ,291.643,291.257)
ORBIT_NUMBER = 7369
ORBITAL_ECCENTRICITY = 0.572
ORBITAL_INCLINATION = 86.81
ORBITAL_SEMIMAJOR_AXIS = 8745.87
PERIAPSIS_ALTITUDE = 350.74
PERIAPSIS_ARGUMENT_ANGLE = 145.63
PERIAPSIS_TIME = 2009-09-30T23:42:53.000Z
SPACECRAFT_ORIENTATION = (0.0,-1.0,0.0)
^MEX_ORIENTATION_DESC = "MEX_ORIENTATION_DESC.TXT"
SPACECRAFT_POINTING_MODE = ACROSSTRACK
^MEX_POINTING_DESC = "MEX_POINTING_DESC.TXT"
RIGHT_ASCENSION = -1e+32
DECLINATION = -1e+32
OFFSET_ANGLE = -0.2
SPACECRAFT_SOLAR_DISTANCE = 2.28139e+08
TARGET_NAME = MARS
/* CAMERA DATA ELEMENTS */
DETECTOR_TEMPERATURE = 18.5744
FOCAL_PLANE_TEMPERATURE = 8.7872
INST_CMPRS_NAME = "DISCRETE COSINE TRANSFORMATION (DCT)"
INST_CMPRS_RATIO = 27.1279
INST_CMPRS_QUALITY = 0
INST_CMPRS_QUANTZ_TBL_ID = 0
INSTRUMENT_TEMPERATURE = 11.234
LENS_TEMPERATURE = 9.195
MACROPIXEL_SIZE = 8
MISSING_FRAMES = 0
PIXEL_SUBSAMPLING_FLAG = N
SIGNAL_CHAIN_ID = 2
/* RADIOMETRIC DATA ELEMENTS */
BANDWIDTH = 88.0
CENTER_FILTER_WAVELENGTH = 538.0
RADIANCE_OFFSET = 1.52219
RADIANCE_SCALING_FACTOR = 0.00539696
REFLECTANCE_SCALING_FACTOR = 0.000241846
MEX:REFLECTANCE_OFFSET = 0.0682116
/* IMAGE OBJECT DEFINITIONS */
OBJECT = IMAGE
  INTERCHANGE_FORMAT = BINARY
  LINES = 10180
  LINE_SAMPLES = 1188
  SAMPLE_TYPE = UNSIGNED_INTEGER
  SAMPLE_BITS = 8
  BANDS = 1
  BAND_STORAGE_TYPE = BAND_SEQUENTIAL
  MAXIMUM = 255
  MEAN = 117.097
  MINIMUM = 1
  STANDARD_DEVIATION = 22.3011
END_OBJECT = IMAGE
/* MAP OBJECT DEFINITIONS */
OBJECT = IMAGE_MAP_PROJECTION
  ^DATA_SET_MAP_PROJECTION_CATALOG= "DSMAP.CAT"
  A_AXIS_RADIUS = 3396.0
  B_AXIS_RADIUS = 3396.0
  C_AXIS_RADIUS = 3396.0
  CENTER_LATITUDE = 0.0
  CENTER_LONGITUDE = 291.0
  COORDINATE_SYSTEM_NAME = PLANETOGRAPHIC
  COORDINATE_SYSTEM_TYPE = "BODY-FIXED ROTATING"
  EASTERNMOST_LONGITUDE = 291.754
  FIRST_STANDARD_PARALLEL = "N/A"
  LINE_FIRST_PIXEL = 1
  LINE_LAST_PIXEL = 10180
  LINE_PROJECTION_OFFSET = 12060.0625
  MAP_PROJECTION_ROTATION = 0.0
  MAP_PROJECTION_TYPE = SINUSOIDAL
  MAP_RESOLUTION = 592.713803866667
  MAP_SCALE = 0.1
  MAXIMUM_LATITUDE = 20.346
  MINIMUM_LATITUDE = 3.17703
  POSITIVE_LONGITUDE_DIRECTION = EAST
  REFERENCE_LATITUDE = "N/A"
  REFERENCE_LONGITUDE = "N/A"
  SAMPLE_FIRST_PIXEL = 1
  SAMPLE_LAST_PIXEL = 1188
  SAMPLE_PROJECTION_OFFSET = 713.4375
  SECOND_STANDARD_PARALLEL = "N/A"
  WESTERNMOST_LONGITUDE = 289.88
END_OBJECT = IMAGE_MAP_PROJECTION
/* The JPEG2000 image data file associated with this label. */
OBJECT = COMPRESSED_FILE
  FILE_NAME = "H7369_0000_GR3.JP2"
  RECORD_TYPE = UNDEFINED
  FILE_RECORDS = UNK
  ENCODING_TYPE = "JP2"
  INTERCHANGE_FORMAT = BINARY
  UNCOMPRESSED_FILE_NAME = "H7369_0000_GR3.IMG"
  REQUIRED_STORAGE_BYTES = "12111660"
  ^DESCRIPTION = "JP2INFO.TXT"
END_OBJECT = COMPRESSED_FILE
END
