PDS_VERSION_ID = PDS3
/* FILE DATA ELEMENTS */
RECORD_TYPE = STREAM
/* POINTERS TO DATA OBJECTS */
^COMPRESSED_FILE = "H7369_0000_RE3.JP2"
/* IDENTIFICATION DATA ELEMENTS */
DATA_SET_ID = "MEX-M-HRSC-5-REFDR-MAPPROJECTED-V3.0"
DATA_SET_NAME = "MARS EXPRESS HRSC MAP PROJECTED REFDR V3.0"
DETECTOR_ID = MEX_HRSC_RED
EVENT_TYPE = "MARS-REGIONAL-MAPPING-Vo-Te"
INSTRUMENT_HOST_ID = MEX
INSTRUMENT_HOST_NAME = "MARS EXPRESS"
INSTRUMENT_ID = HRSC
INSTRUMENT_NAME = "HIGH RESOLUTION STEREO CAMERA"
MISSION_NAME = "MARS EXPRESS"
MISSION_PHASE_NAME = ME_Phase_18
PROCESSING_LEVEL_ID = 3
PRODUCT_CREATION_TIME = 2016-06-30T16:05:12.000Z
PRODUCT_ID = "H7369_0000_RE3.JP2"
RELEASE_ID = 0081
REVISION_ID = 0000
/* QUALITY DATA ELEMENTS */
DATA_QUALITY_ID = 1
DATA_QUALITY_DESC = "Data calculated based on original SPICE kernels"
/* TIME DATA ELEMENTS */
SPACECRAFT_CLOCK_START_COUNT = "1/0202434353.07282"
SPACECRAFT_CLOCK_STOP_COUNT = "1/0202434732.27099"
START_TIME = 2009-09-30T23:47:00.805Z
STOP_TIME = 2009-09-30T23:52:01.470Z
/* ORBITAL DATA ELEMENTS */
ASCENDING_NODE_LONGITUDE = 76.83
MAXIMUM_RESOLUTION = 134.1
FOOTPRINT_POINT_LATITUDE = (20.3263,20.3305,20.3352,20.196,19.8921 ,19.5887,19.2862,18.9843,18.5223, 18.2134,17.9055,17.4406,17.1259,16.8123 ,16.4995,16.021,15.7016,15.3828,15.0587 ,14.7339,14.4099,14.0816,13.7512, 13.4214,13.0878,12.7522,12.4173,12.0768 ,11.566,11.0477,10.7024,10.351,10.0003, 9.46751,9.11175,8.75053,8.39001,8.02373 ,7.47261,7.10165,6.72754,6.35202, 5.97192,5.39811,4.81793,4.23094,3.83605 ,3.43419,3.17591,3.15999,3.15002, 3.14532,3.54617,3.94585,4.34253,4.73315 ,5.31534,5.70094,6.08224,6.64911, 7.02431,7.39593,7.7658,8.13256,8.67749, 9.21823,9.5748,9.93005,10.2814,10.6339, 10.9794,11.3287,11.6704,12.0118,12.3539 ,12.6891,13.0254,13.3603,13.6904, 14.0215,14.351,14.6756,15.0012,15.3266, 15.6455,15.9653,16.4451,16.7588,17.0724 ,17.3864,17.7004,18.0089,18.3175, 18.6263,18.9348,19.389,19.692,19.9957, 20.3002,20.3263)
FOOTPRINT_POINT_LONGITUDE = (291.338,290.937,290.492,290.185, 290.183,290.18,290.178,290.175,290.17, 290.167,290.163,290.157,290.153,290.149 ,290.144,290.137,290.132,290.126, 290.121,290.115,290.109,290.102,290.096 ,290.089,290.082,290.075,290.067, 290.059,290.047,290.034,290.025,290.016 ,290.006,289.991,289.981,289.97,289.959 ,289.948,289.93,289.918,289.906,289.893 ,289.879,289.858,289.837,289.814, 289.798,289.783,290.22,290.921,291.426, 291.846,291.841,291.836,291.831,291.825 ,291.818,291.813,291.809,291.802, 291.797,291.793,291.789,291.785,291.779 ,291.773,291.77,291.766,291.763,291.759 ,291.755,291.753,291.749,291.746, 291.743,291.74,291.737,291.733,291.73, 291.728,291.725,291.722,291.719,291.716 ,291.713,291.71,291.706,291.703,291.701 ,291.698,291.695,291.693,291.69,291.687 ,291.685,291.681,291.678,291.675, 291.673,291.338)
ORBIT_NUMBER = 7369
ORBITAL_ECCENTRICITY = 0.572
ORBITAL_INCLINATION = 86.81
ORBITAL_SEMIMAJOR_AXIS = 8745.87
PERIAPSIS_ALTITUDE = 350.74
PERIAPSIS_ARGUMENT_ANGLE = 145.63
PERIAPSIS_TIME = 2009-09-30T23:42:53.000Z
SPACECRAFT_ORIENTATION = (0.0,-1.0,0.0)
^MEX_ORIENTATION_DESC = "MEX_ORIENTATION_DESC.TXT"
SPACECRAFT_POINTING_MODE = ACROSSTRACK
^MEX_POINTING_DESC = "MEX_POINTING_DESC.TXT"
RIGHT_ASCENSION = -1e+32
DECLINATION = -1e+32
OFFSET_ANGLE = -0.2
SPACECRAFT_SOLAR_DISTANCE = 2.28139e+08
TARGET_NAME = MARS
/* CAMERA DATA ELEMENTS */
DETECTOR_TEMPERATURE = 18.7783
FOCAL_PLANE_TEMPERATURE = 8.7872
INST_CMPRS_NAME = "DISCRETE COSINE TRANSFORMATION (DCT)"
INST_CMPRS_RATIO = 27.0164
INST_CMPRS_QUALITY = 0
INST_CMPRS_QUANTZ_TBL_ID = 0
INSTRUMENT_TEMPERATURE = 11.234
LENS_TEMPERATURE = 9.195
MACROPIXEL_SIZE = 8
MISSING_FRAMES = 0
PIXEL_SUBSAMPLING_FLAG = N
SIGNAL_CHAIN_ID = 2
/* RADIOMETRIC DATA ELEMENTS */
BANDWIDTH = 48.0
CENTER_FILTER_WAVELENGTH = 748.0
RADIANCE_OFFSET = 1.39596
RADIANCE_SCALING_FACTOR = 0.00585451
REFLECTANCE_SCALING_FACTOR = 0.00069537
MEX:REFLECTANCE_OFFSET = 0.165805
/* IMAGE OBJECT DEFINITIONS */
OBJECT = IMAGE
  INTERCHANGE_FORMAT = BINARY
  LINES = 10180
  LINE_SAMPLES = 1188
  SAMPLE_TYPE = UNSIGNED_INTEGER
  SAMPLE_BITS = 8
  BANDS = 1
  BAND_STORAGE_TYPE = BAND_SEQUENTIAL
  MAXIMUM = 255
  MEAN = 117.512
  MINIMUM = 1
  STANDARD_DEVIATION = 26.6696
END_OBJECT = IMAGE
/* MAP OBJECT DEFINITIONS */
OBJECT = IMAGE_MAP_PROJECTION
  ^DATA_SET_MAP_PROJECTION_CATALOG= "DSMAP.CAT"
  A_AXIS_RADIUS = 3396.0
  B_AXIS_RADIUS = 3396.0
  C_AXIS_RADIUS = 3396.0
  CENTER_LATITUDE = 0.0
  CENTER_LONGITUDE = 291.0
  COORDINATE_SYSTEM_NAME = PLANETOGRAPHIC
  COORDINATE_SYSTEM_TYPE = "BODY-FIXED ROTATING"
  EASTERNMOST_LONGITUDE = 291.846
  FIRST_STANDARD_PARALLEL = "N/A"
  LINE_FIRST_PIXEL = 1
  LINE_LAST_PIXEL = 10180
  LINE_PROJECTION_OFFSET = 12060.0625
  MAP_PROJECTION_ROTATION = 0.0
  MAP_PROJECTION_TYPE = SINUSOIDAL
  MAP_RESOLUTION = 592.713803866667
  MAP_SCALE = 0.1
  MAXIMUM_LATITUDE = 20.3352
  MINIMUM_LATITUDE = 3.14532
  POSITIVE_LONGITUDE_DIRECTION = EAST
  REFERENCE_LATITUDE = "N/A"
  REFERENCE_LONGITUDE = "N/A"
  SAMPLE_FIRST_PIXEL = 1
  SAMPLE_LAST_PIXEL = 1188
  SAMPLE_PROJECTION_OFFSET = 713.4375
  SECOND_STANDARD_PARALLEL = "N/A"
  WESTERNMOST_LONGITUDE = 289.783
END_OBJECT = IMAGE_MAP_PROJECTION
/* The JPEG2000 image data file associated with this label. */
OBJECT = COMPRESSED_FILE
  FILE_NAME = "H7369_0000_RE3.JP2"
  RECORD_TYPE = UNDEFINED
  FILE_RECORDS = UNK
  ENCODING_TYPE = "JP2"
  INTERCHANGE_FORMAT = BINARY
  UNCOMPRESSED_FILE_NAME = "H7369_0000_RE3.IMG"
  REQUIRED_STORAGE_BYTES = "12111660"
  ^DESCRIPTION = "JP2INFO.TXT"
END_OBJECT = COMPRESSED_FILE
END
